Workbook

Sheet Huyện-Tổng hợp
A1: Mẫu báo cáo TTYT huyện-H0106 | D1: CỘNG HÒA XÃ HỘI CHỦ NGHĨA VIỆT NAM
A2: Mẫu báo cáo TYT xã - X0106 | D2: Độc lập – Tự do – Hạnh phúc
A3: TTYT huyện: | B3: Thiệu Hóa
A5: BÁO CÁO TỔNG HỢP TUYẾN HUYỆN
A6: QUẢN LÝ ĐIỀU TRỊ BỆNH KHÔNG LÂY NHIỄM TẠI TRẠM Y TẾ
C7: Tháng | E7: Năm | F7: 2020
A8: I. Thông tin chung | G8: Số lượng | H8: Tỷ lệ
A9: Dân số: | C9: ='Xã Thiệu Toán'!D8+'Xã Thiệu Chính'!D8+'Xã Thiệu Hòa'!D8+'Xã Minh Tâm'!D8+'Xã Thiệu Viên '!D8+'Xã Thiệu Lý'!D8+'Xã Thiệu Vận'!D8+'Xã Thiệu Trung'!D8+'TT Thiệu Hóa'!D8+'Xã Thiệu Giao'!D8+'Tân Châu'!D8+'Xã Thiệu Ngọc'!D8+'Xã Thiệu Vũ'!D8+'Xã Thiệu Tiến'!D8+'Xã Thiệu Thành'!D8+'Xã Thiệu Công'!D8+'Xã Thiệu Phúc'!D8+'Xã Thiệu Phú'!D8+'Xã Thiệu Long'!D8+'Xã Thiệu Nguyên'!D8+'Xã Thiệu Duy'!D8+'Xã Thiệu Giang'!D8+'Xã Thiệu Hợp'!D8+'Xã Thiệu Thịnh'!D8+'Xã Thiệu Quang'!D8 -> 0 | D9: Tổng số TYT của huyện | K9: Mầu xanh TTYT Huyện cần phải tổng hợp
A10: Số người ≥ 18 tuổi: | C10: ='Xã Thiệu Toán'!D9+'Xã Thiệu Chính'!D9+'Xã Thiệu Hòa'!D9+'Xã Minh Tâm'!D9+'Xã Thiệu Viên '!D9+'Xã Thiệu Lý'!D9+'Xã Thiệu Vận'!D9+'Xã Thiệu Trung'!D9+'TT Thiệu Hóa'!D9+'Xã Thiệu Giao'!D9+'Tân Châu'!D9+'Xã Thiệu Ngọc'!D9+'Xã Thiệu Vũ'!D9+'Xã Thiệu Tiến'!D9+'Xã Thiệu Thành'!D9+'Xã Thiệu Công'!D9+'Xã Thiệu Phúc'!D9+'Xã Thiệu Phú'!D9+'Xã Thiệu Long'!D9+'Xã Thiệu Nguyên'!D9+'Xã Thiệu Duy'!D9+'Xã Thiệu Giang'!D9+'Xã Thiệu Hợp'!D9+'Xã Thiệu Thịnh'!D9+'Xã Thiệu Quang'!D9 -> 0 | D10: Số TYT có bác sỹ làm việc | G10: ='Xã Thiệu Toán'!D16+'Xã Thiệu Chính'!D16+'Xã Thiệu Hòa'!D16+'Xã Minh Tâm'!D16+'Xã Thiệu Viên '!D16+'Xã Thiệu Lý'!D16+'Xã Thiệu Vận'!D16+'Xã Thiệu Trung'!D16+'TT Thiệu Hóa'!D16+'Xã Thiệu Giao'!D16+'Tân Châu'!D16+'Xã Thiệu Ngọc'!D16+'Xã Thiệu Vũ'!D16+'Xã Thiệu Tiến'!D16+'Xã Thiệu Thành'!D16+'Xã Thiệu Công'!D16+'Xã Thiệu Phúc'!D16+'Xã Thiệu Phú'!D16+'Xã Thiệu Long'!D16+'Xã Thiệu Nguyên'!D16+'Xã Thiệu Duy'!D16+'Xã Thiệu Giang'!D16+'Xã Thiệu Hợp'!D16+'Xã Thiệu Thịnh'!D16+'Xã Thiệu Quang'!D16 -> 0 | H10: =G10/$G$9 -> #DIV/0! | K10: Màu Vàng tự động tính không cần nhập
A11: Số người ≥ 40 tuổi: | C11: ='Xã Thiệu Toán'!D10+'Xã Thiệu Chính'!D10+'Xã Thiệu Hòa'!D10+'Xã Minh Tâm'!D10+'Xã Thiệu Viên '!D10+'Xã Thiệu Lý'!D10+'Xã Thiệu Vận'!D10+'Xã Thiệu Trung'!D10+'TT Thiệu Hóa'!D10+'Xã Thiệu Giao'!D10+'Tân Châu'!D10+'Xã Thiệu Ngọc'!D10+'Xã Thiệu Vũ'!D10+'Xã Thiệu Tiến'!D10+'Xã Thiệu Thành'!D10+'Xã Thiệu Công'!D10+'Xã Thiệu Phúc'!D10+'Xã Thiệu Phú'!D10+'Xã Thiệu Long'!D10+'Xã Thiệu Nguyên'!D10+'Xã Thiệu Duy'!D10+'Xã Thiệu Giang'!D10+'Xã Thiệu Hợp'!D10+'Xã Thiệu Thịnh'!D10+'Xã Thiệu Quang'!D10 -> 0 | D11: Số TYT đăng ký KCB BHYT | H11: =G11/$G$9 -> #DIV/0! | K11: Màu xám không cần nhập
A12: Tổng số thôn bản | C12: ='Xã Thiệu Toán'!D11+'Xã Thiệu Chính'!D11+'Xã Thiệu Hòa'!D11+'Xã Minh Tâm'!D11+'Xã Thiệu Viên '!D11+'Xã Thiệu Lý'!D11+'Xã Thiệu Vận'!D11+'Xã Thiệu Trung'!D11+'TT Thiệu Hóa'!D11+'Xã Thiệu Giao'!D11+'Tân Châu'!D11+'Xã Thiệu Ngọc'!D11+'Xã Thiệu Vũ'!D11+'Xã Thiệu Tiến'!D11+'Xã Thiệu Thành'!D11+'Xã Thiệu Công'!D11+'Xã Thiệu Phúc'!D11+'Xã Thiệu Phú'!D11+'Xã Thiệu Long'!D11+'Xã Thiệu Nguyên'!D11+'Xã Thiệu Duy'!D11+'Xã Thiệu Giang'!D11+'Xã Thiệu Hợp'!D11+'Xã Thiệu Thịnh'!D11+'Xã Thiệu Quang'!D11 -> 0 | D12: Số TYT thực hiện dự phòng, QLĐT BKLN | H12: =G12/$G$11 -> #DIV/0!
A13: Số thôn bản có YTTB/CTV | C13: ='Xã Thiệu Toán'!D12+'Xã Thiệu Chính'!D12+'Xã Thiệu Hòa'!D12+'Xã Minh Tâm'!D12+'Xã Thiệu Viên '!D12+'Xã Thiệu Lý'!D12+'Xã Thiệu Vận'!D12+'Xã Thiệu Trung'!D12+'TT Thiệu Hóa'!D12+'Xã Thiệu Giao'!D12+'Tân Châu'!D12+'Xã Thiệu Ngọc'!D12+'Xã Thiệu Vũ'!D12+'Xã Thiệu Tiến'!D12+'Xã Thiệu Thành'!D12+'Xã Thiệu Công'!D12+'Xã Thiệu Phúc'!D12+'Xã Thiệu Phú'!D12+'Xã Thiệu Long'!D12+'Xã Thiệu Nguyên'!D12+'Xã Thiệu Duy'!D12+'Xã Thiệu Giang'!D12+'Xã Thiệu Hợp'!D12+'Xã Thiệu Thịnh'!D12+'Xã Thiệu Quang'!D12 -> 0 | D13: Số TYT tham gia dự án | H13: =G13/$G$11 -> #DIV/0!
A14: Tổng số YTTB/CTV | C14: ='Xã Thiệu Toán'!D13+'Xã Thiệu Chính'!D13+'Xã Thiệu Hòa'!D13+'Xã Minh Tâm'!D13+'Xã Thiệu Viên '!D13+'Xã Thiệu Lý'!D13+'Xã Thiệu Vận'!D13+'Xã Thiệu Trung'!D13+'TT Thiệu Hóa'!D13+'Xã Thiệu Giao'!D13+'Tân Châu'!D13+'Xã Thiệu Ngọc'!D13+'Xã Thiệu Vũ'!D13+'Xã Thiệu Tiến'!D13+'Xã Thiệu Thành'!D13+'Xã Thiệu Công'!D13+'Xã Thiệu Phúc'!D13+'Xã Thiệu Phú'!D13+'Xã Thiệu Long'!D13+'Xã Thiệu Nguyên'!D13+'Xã Thiệu Duy'!D13+'Xã Thiệu Giang'!D13+'Xã Thiệu Hợp'!D13+'Xã Thiệu Thịnh'!D13+'Xã Thiệu Quang'!D13 -> 0 | D14: Số TYT xã báo cáo tháng | H14: =G14/$G$13 -> #DIV/0!
A15: Tổng số cán bộ TYT | C15: ='Xã Thiệu Toán'!D14+'Xã Thiệu Chính'!D14+'Xã Thiệu Hòa'!D14+'Xã Minh Tâm'!D14+'Xã Thiệu Viên '!D14+'Xã Thiệu Lý'!D14+'Xã Thiệu Vận'!D14+'Xã Thiệu Trung'!D14+'TT Thiệu Hóa'!D14+'Xã Thiệu Giao'!D14+'Tân Châu'!D14+'Xã Thiệu Ngọc'!D14+'Xã Thiệu Vũ'!D14+'Xã Thiệu Tiến'!D14+'Xã Thiệu Thành'!D14+'Xã Thiệu Công'!D14+'Xã Thiệu Phúc'!D14+'Xã Thiệu Phú'!D14+'Xã Thiệu Long'!D14+'Xã Thiệu Nguyên'!D14+'Xã Thiệu Duy'!D14+'Xã Thiệu Giang'!D14+'Xã Thiệu Hợp'!D14+'Xã Thiệu Thịnh'!D14+'Xã Thiệu Quang'!D14 -> 0 | D15: Số TYT sử dụng sổ theo dõi NCD điện tử | G15: ='Xã Thiệu Toán'!D17+'Xã Thiệu Chính'!D17+'Xã Thiệu Hòa'!D17+'Xã Minh Tâm'!D17+'Xã Thiệu Viên '!D17+'Xã Thiệu Lý'!D17+'Xã Thiệu Vận'!D17+'Xã Thiệu Trung'!D17+'TT Thiệu Hóa'!D17+'Xã Thiệu Giao'!D17+'Tân Châu'!D17+'Xã Thiệu Ngọc'!D17+'Xã Thiệu Vũ'!D17+'Xã Thiệu Tiến'!D17+'Xã Thiệu Thành'!D17+'Xã Thiệu Công'!D17+'Xã Thiệu Phúc'!D17+'Xã Thiệu Phú'!D17+'Xã Thiệu Long'!D17+'Xã Thiệu Nguyên'!D17+'Xã Thiệu Duy'!D17+'Xã Thiệu Giang'!D17+'Xã Thiệu Hợp'!D17+'Xã Thiệu Thịnh'!D17+'Xã Thiệu Quang'!D17 -> 0 | H15: =G15/G14 -> #DIV/0!
A16: Số y, bác sỹ có CCHN | C16: ='Xã Thiệu Toán'!D15+'Xã Thiệu Chính'!D15+'Xã Thiệu Hòa'!D15+'Xã Minh Tâm'!D15+'Xã Thiệu Viên '!D15+'Xã Thiệu Lý'!D15+'Xã Thiệu Vận'!D15+'Xã Thiệu Trung'!D15+'TT Thiệu Hóa'!D15+'Xã Thiệu Giao'!D15+'Tân Châu'!D15+'Xã Thiệu Ngọc'!D15+'Xã Thiệu Vũ'!D15+'Xã Thiệu Tiến'!D15+'Xã Thiệu Thành'!D15+'Xã Thiệu Công'!D15+'Xã Thiệu Phúc'!D15+'Xã Thiệu Phú'!D15+'Xã Thiệu Long'!D15+'Xã Thiệu Nguyên'!D15+'Xã Thiệu Duy'!D15+'Xã Thiệu Giang'!D15+'Xã Thiệu Hợp'!D15+'Xã Thiệu Thịnh'!D15+'Xã Thiệu Quang'!D15 -> 0 | D16: Số điện thoại liên hệ TTYT huyện
D17: Email liên hệ TTYT huyện
A19: II. Kết quả hoạt động phòng chống bệnh không lây nhiễm
A20: 1. Phát hiện người nguy cơ cao, tiền bệnh, nghi ngờ mắc bệnh, mắc bệnh và số người khám sức khỏe định kỳ
B21: (Lấy số cộng dồn trong năm của TYT xã)
B22: Số người được đo huyết áp | C22: Số người được xác định nghi ngờ THA (Chỉ số huyết áp ≥140/90) | D22: Số người được sàng lọc nguy cơ ĐTĐ bằng bộ câu hỏi | E22: Số người được phát hiện thừa cân béo phì (BMI≥25 hoặc vòng eo to) | F22: Số người được xác định nguy cơ cao ĐTĐ (≥ 6 điểm) | G22: Số người được xét nghiệm đường huyết | H22: Số người phát hiện nghi ngờ rối loạn đường huyết (ĐH mao mạch ≥ 5.6 mmol/L) | I22: Số người được sàng lọc BPTNMT/ hen phế quản | J22: Số người được sàng lọc các bệnh ung thư | K22: Số mắc tai biến mạch máu não (do tất cả cơ sở y tế chẩn đoán không chỉ riêng TYT) | L22: Số người được khám sức khỏe định kỳ | M22: Tỷ lệ % người được khám sức khỏe định kỳ so với tổng dân số ≥ 18 tuổi(70% dân số)
A23: Huyện | B23: =B24+B34 -> 0 | C23: =C24+C34 -> 0 | D23: =D24+D34 -> 0 | E23: =E24+E34 -> 0 | F23: =F24+F34 -> 0 | G23: =G24+G34 -> 0 | H23: =H24+H34 -> 0 | I23: =I24+I34 -> 0 | ... L23: =L24+L34 -> 0 | M23: =L23/C9 -> #DIV/0!
A24: Các cơ sở y tế tuyến huyện | B24: =SUM(B25:B33) -> 0 | C24: =SUM(C25:C33) -> 0 | D24: =SUM(D25:D33) -> 0 | E24: =SUM(E25:E33) -> 0 | F24: =SUM(F25:F33) -> 0 | G24: =SUM(G25:G33) -> 0 | H24: =SUM(H25:H33) -> 0 | I24: =SUM(I25:I33) -> 0 | ... L24: =SUM(L25:L33) -> 0 | M24: =L24/C9 -> #DIV/0!
A25: BVĐK Thiệu Hóa
A26: Cơ sở 2
A27: Cơ sở 3
A28: Cơ sở 4
A29: Cơ sở 5
A30: Cơ sở 6
A31: Cơ sở 7
A32: Cơ sở 8
A33: Cơ sở 9
A34: Cơ sở y tế tuyến Xã | B34: =SUM(B35:B59) -> 0 | C34: =SUM(C35:C59) -> 0 | D34: =SUM(D35:D59) -> 0 | E34: =SUM(E35:E59) -> 0 | F34: =SUM(F35:F59) -> 0 | G34: =SUM(G35:G59) -> 0 | H34: =SUM(H35:H59) -> 0 | I34: =SUM(I35:I59) -> 0 | ... L34: =SUM(L35:L59) -> 0 | M34: =L34/C9 -> #DIV/0!
A35: Xã Thiệu Toán | B35: ='Xã Thiệu Toán'!B24 -> 0 | C35: ='Xã Thiệu Toán'!C24 -> 0 | D35: ='Xã Thiệu Toán'!D24 -> 0 | E35: ='Xã Thiệu Toán'!E24 -> 0 | F35: ='Xã Thiệu Toán'!F24 -> 0 | G35: ='Xã Thiệu Toán'!G24 -> 0 | H35: ='Xã Thiệu Toán'!H24 -> 0 | I35: ='Xã Thiệu Toán'!I24 -> 0 | ... M35: ='Xã Thiệu Toán'!M24 -> #DIV/0!
A36: Xã Thiệu Chính | B36: ='Xã Thiệu Chính'!B24 -> 0 | C36: ='Xã Thiệu Chính'!C24 -> 0 | D36: ='Xã Thiệu Chính'!D24 -> 0 | E36: ='Xã Thiệu Chính'!E24 -> 0 | F36: ='Xã Thiệu Chính'!F24 -> 0 | G36: ='Xã Thiệu Chính'!G24 -> 0 | H36: ='Xã Thiệu Chính'!H24 -> 0 | I36: ='Xã Thiệu Chính'!I24 -> 0 | ... M36: ='Xã Thiệu Chính'!M24 -> #DIV/0!
A37: Xã Thiệu Hòa | B37: ='Xã Thiệu Hòa'!B24 -> 0 | C37: ='Xã Thiệu Hòa'!C24 -> 0 | D37: ='Xã Thiệu Hòa'!D24 -> 0 | E37: ='Xã Thiệu Hòa'!E24 -> 0 | F37: ='Xã Thiệu Hòa'!F24 -> 0 | G37: ='Xã Thiệu Hòa'!G24 -> 0 | H37: ='Xã Thiệu Hòa'!H24 -> 0 | I37: ='Xã Thiệu Hòa'!I24 -> 0 | ... M37: ='Xã Thiệu Hòa'!M24 -> #DIV/0!
A38: Xã Minh Tâm | B38: ='Xã Minh Tâm'!B24 -> 0 | C38: ='Xã Minh Tâm'!C24 -> 0 | D38: ='Xã Minh Tâm'!D24 -> 0 | E38: ='Xã Minh Tâm'!E24 -> 0 | F38: ='Xã Minh Tâm'!F24 -> 0 | G38: ='Xã Minh Tâm'!G24 -> 0 | H38: ='Xã Minh Tâm'!H24 -> 0 | I38: ='Xã Minh Tâm'!I24 -> 0 | ... M38: ='Xã Minh Tâm'!M24 -> #DIV/0!
A39: Xã Thiệu Viên | B39: ='Xã Thiệu Viên '!B24 -> 0 | C39: ='Xã Thiệu Viên '!C24 -> 0 | D39: ='Xã Thiệu Viên '!D24 -> 0 | E39: ='Xã Thiệu Viên '!E24 -> 0 | F39: ='Xã Thiệu Viên '!F24 -> 0 | G39: ='Xã Thiệu Viên '!G24 -> 0 | H39: ='Xã Thiệu Viên '!H24 -> 0 | I39: ='Xã Thiệu Viên '!I24 -> 0 | ... M39: ='Xã Thiệu Viên '!M24 -> #DIV/0!
A40: Xã Thiệu Lý | B40: ='Xã Thiệu Lý'!B24 -> 0 | C40: ='Xã Thiệu Lý'!C24 -> 0 | D40: ='Xã Thiệu Lý'!D24 -> 0 | E40: ='Xã Thiệu Lý'!E24 -> 0 | F40: ='Xã Thiệu Lý'!F24 -> 0 | G40: ='Xã Thiệu Lý'!G24 -> 0 | H40: ='Xã Thiệu Lý'!H24 -> 0 | I40: ='Xã Thiệu Lý'!I24 -> 0 | ... M40: ='Xã Thiệu Lý'!M24 -> #DIV/0!
A41: Xã Thiệu Vận | B41: ='Xã Thiệu Vận'!B24 -> 0 | C41: ='Xã Thiệu Vận'!C24 -> 0 | D41: ='Xã Thiệu Vận'!D24 -> 0 | E41: ='Xã Thiệu Vận'!E24 -> 0 | F41: ='Xã Thiệu Vận'!F24 -> 0 | G41: ='Xã Thiệu Vận'!G24 -> 0 | H41: ='Xã Thiệu Vận'!H24 -> 0 | I41: ='Xã Thiệu Vận'!I24 -> 0 | ... M41: ='Xã Thiệu Vận'!M24 -> #DIV/0!
A42: Xã Thiệu Trung | B42: ='Xã Thiệu Trung'!B24 -> 0 | C42: ='Xã Thiệu Trung'!C24 -> 0 | D42: ='Xã Thiệu Trung'!D24 -> 0 | E42: ='Xã Thiệu Trung'!E24 -> 0 | F42: ='Xã Thiệu Trung'!F24 -> 0 | G42: ='Xã Thiệu Trung'!G24 -> 0 | H42: ='Xã Thiệu Trung'!H24 -> 0 | I42: ='Xã Thiệu Trung'!I24 -> 0 | ... M42: ='Xã Thiệu Trung'!M24 -> #DIV/0!
A43: TT Thiệu Hóa | B43: ='TT Thiệu Hóa'!B24 -> 0 | C43: ='TT Thiệu Hóa'!C24 -> 0 | D43: ='TT Thiệu Hóa'!D24 -> 0 | E43: ='TT Thiệu Hóa'!E24 -> 0 | F43: ='TT Thiệu Hóa'!F24 -> 0 | G43: ='TT Thiệu Hóa'!G24 -> 0 | H43: ='TT Thiệu Hóa'!H24 -> 0 | I43: ='TT Thiệu Hóa'!I24 -> 0 | ... M43: ='TT Thiệu Hóa'!M24 -> #DIV/0!
A44: Xã Thiệu Giao | B44: ='Xã Thiệu Giao'!B24 -> 0 | C44: ='Xã Thiệu Giao'!C24 -> 0 | D44: ='Xã Thiệu Giao'!D24 -> 0 | E44: ='Xã Thiệu Giao'!E24 -> 0 | F44: ='Xã Thiệu Giao'!F24 -> 0 | G44: ='Xã Thiệu Giao'!G24 -> 0 | H44: ='Xã Thiệu Giao'!H24 -> 0 | I44: ='Xã Thiệu Giao'!I24 -> 0 | ... M44: ='Xã Thiệu Giao'!M24 -> #DIV/0!
A45: Xã Tân Châu | B45: ='Tân Châu'!B24 -> 0 | C45: ='Tân Châu'!C24 -> 0 | D45: ='Tân Châu'!D24 -> 0 | E45: ='Tân Châu'!E24 -> 0 | F45: ='Tân Châu'!F24 -> 0 | G45: ='Tân Châu'!G24 -> 0 | H45: ='Tân Châu'!H24 -> 0 | I45: ='Tân Châu'!I24 -> 0 | ... M45: ='Tân Châu'!M24 -> #DIV/0!
A46: Xã Thiệu Ngọc | B46: ='Xã Thiệu Ngọc'!B24 -> 0 | C46: ='Xã Thiệu Ngọc'!C24 -> 0 | D46: ='Xã Thiệu Ngọc'!D24 -> 0 | E46: ='Xã Thiệu Ngọc'!E24 -> 0 | F46: ='Xã Thiệu Ngọc'!F24 -> 0 | G46: ='Xã Thiệu Ngọc'!G24 -> 0 | H46: ='Xã Thiệu Ngọc'!H24 -> 0 | I46: ='Xã Thiệu Ngọc'!I24 -> 0 | ... M46: ='Xã Thiệu Ngọc'!M24 -> #DIV/0!
A47: Xã Thiệu Vũ | B47: ='Xã Thiệu Vũ'!B24 -> 0 | C47: ='Xã Thiệu Vũ'!C24 -> 0 | D47: ='Xã Thiệu Vũ'!D24 -> 0 | E47: ='Xã Thiệu Vũ'!E24 -> 0 | F47: ='Xã Thiệu Vũ'!F24 -> 0 | G47: ='Xã Thiệu Vũ'!G24 -> 0 | H47: ='Xã Thiệu Vũ'!H24 -> 0 | I47: ='Xã Thiệu Vũ'!I24 -> 0 | ... M47: ='Xã Thiệu Vũ'!M24 -> #DIV/0!
A48: Xã Thiệu Tiến | B48: ='Xã Thiệu Tiến'!B24 -> 0 | C48: ='Xã Thiệu Tiến'!C24 -> 0 | D48: ='Xã Thiệu Tiến'!D24 -> 0 | E48: ='Xã Thiệu Tiến'!E24 -> 0 | F48: ='Xã Thiệu Tiến'!F24 -> 0 | G48: ='Xã Thiệu Tiến'!G24 -> 0 | H48: ='Xã Thiệu Tiến'!H24 -> 0 | I48: ='Xã Thiệu Tiến'!I24 -> 0 | ... M48: ='Xã Thiệu Tiến'!M24 -> #DIV/0!
A49: Xã Thiệu Thành | B49: ='Xã Thiệu Thành'!B24 -> 0 | C49: ='Xã Thiệu Thành'!C24 -> 0 | D49: ='Xã Thiệu Thành'!D24 -> 0 | E49: ='Xã Thiệu Thành'!E24 -> 0 | F49: ='Xã Thiệu Thành'!F24 -> 0 | G49: ='Xã Thiệu Thành'!G24 -> 0 | H49: ='Xã Thiệu Thành'!H24 -> 0 | I49: ='Xã Thiệu Thành'!I24 -> 0 | ... M49: ='Xã Thiệu Thành'!M24 -> #DIV/0!
A50: Xã Thiệu Công | B50: ='Xã Thiệu Công'!B24 -> 0 | C50: ='Xã Thiệu Công'!C24 -> 0 | D50: ='Xã Thiệu Công'!D24 -> 0 | E50: ='Xã Thiệu Công'!E24 -> 0 | F50: ='Xã Thiệu Công'!F24 -> 0 | G50: ='Xã Thiệu Công'!G24 -> 0 | H50: ='Xã Thiệu Công'!H24 -> 0 | I50: ='Xã Thiệu Công'!I24 -> 0 | ... M50: ='Xã Thiệu Công'!M24 -> #DIV/0!
A51: Xã Thiệu Phúc | B51: ='Xã Thiệu Phúc'!B24 -> 0 | C51: ='Xã Thiệu Phúc'!C24 -> 0 | D51: ='Xã Thiệu Phúc'!D24 -> 0 | E51: ='Xã Thiệu Phúc'!E24 -> 0 | F51: ='Xã Thiệu Phúc'!F24 -> 0 | G51: ='Xã Thiệu Phúc'!G24 -> 0 | H51: ='Xã Thiệu Phúc'!H24 -> 0 | I51: ='Xã Thiệu Phúc'!I24 -> 0 | ... M51: ='Xã Thiệu Phúc'!M24 -> #DIV/0!
A52: Xã Thiệu Phú | B52: ='Xã Thiệu Phú'!B24 -> 0 | C52: ='Xã Thiệu Phú'!C24 -> 0 | D52: ='Xã Thiệu Phú'!D24 -> 0 | E52: ='Xã Thiệu Phú'!E24 -> 0 | F52: ='Xã Thiệu Phú'!F24 -> 0 | G52: ='Xã Thiệu Phú'!G24 -> 0 | H52: ='Xã Thiệu Phú'!H24 -> 0 | I52: ='Xã Thiệu Phú'!I24 -> 0 | ... M52: ='Xã Thiệu Phú'!M24 -> #DIV/0!
A53: Xã Thiệu Long | B53: ='Xã Thiệu Long'!B24 -> 0 | C53: ='Xã Thiệu Long'!C24 -> 0 | D53: ='Xã Thiệu Long'!D24 -> 0 | E53: ='Xã Thiệu Long'!E24 -> 0 | F53: ='Xã Thiệu Long'!F24 -> 0 | G53: ='Xã Thiệu Long'!G24 -> 0 | H53: ='Xã Thiệu Long'!H24 -> 0 | I53: ='Xã Thiệu Long'!I24 -> 0 | ... M53: ='Xã Thiệu Long'!M24 -> #DIV/0!
A54: Xã Thiệu Nguyên | B54: ='Xã Thiệu Nguyên'!B24 -> 0 | C54: ='Xã Thiệu Nguyên'!C24 -> 0 | D54: ='Xã Thiệu Nguyên'!D24 -> 0 | E54: ='Xã Thiệu Nguyên'!E24 -> 0 | F54: ='Xã Thiệu Nguyên'!F24 -> 0 | G54: ='Xã Thiệu Nguyên'!G24 -> 0 | H54: ='Xã Thiệu Nguyên'!H24 -> 0 | I54: ='Xã Thiệu Nguyên'!I24 -> 0 | ... M54: ='Xã Thiệu Nguyên'!M24 -> #DIV/0!
A55: Xã Thiệu Duy | B55: ='Xã Thiệu Duy'!B24 -> 0 | C55: ='Xã Thiệu Duy'!C24 -> 0 | D55: ='Xã Thiệu Duy'!D24 -> 0 | E55: ='Xã Thiệu Duy'!E24 -> 0 | F55: ='Xã Thiệu Duy'!F24 -> 0 | G55: ='Xã Thiệu Duy'!G24 -> 0 | H55: ='Xã Thiệu Duy'!H24 -> 0 | I55: ='Xã Thiệu Duy'!I24 -> 0 | ... M55: ='Xã Thiệu Duy'!M24 -> #DIV/0!
A56: Xã Thiệu Giang | B56: ='Xã Thiệu Giang'!B24 -> 0 | C56: ='Xã Thiệu Giang'!C24 -> 0 | D56: ='Xã Thiệu Giang'!D24 -> 0 | E56: ='Xã Thiệu Giang'!E24 -> 0 | F56: ='Xã Thiệu Giang'!F24 -> 0 | G56: ='Xã Thiệu Giang'!G24 -> 0 | H56: ='Xã Thiệu Giang'!H24 -> 0 | I56: ='Xã Thiệu Giang'!I24 -> 0 | ... M56: ='Xã Thiệu Giang'!M24 -> #DIV/0!
A57: Xã Thiệu Hợp | B57: ='Xã Thiệu Hợp'!B24 -> 0 | C57: ='Xã Thiệu Hợp'!C24 -> 0 | D57: ='Xã Thiệu Hợp'!D24 -> 0 | E57: ='Xã Thiệu Hợp'!E24 -> 0 | F57: ='Xã Thiệu Hợp'!F24 -> 0 | G57: ='Xã Thiệu Hợp'!G24 -> 0 | H57: ='Xã Thiệu Hợp'!H24 -> 0 | I57: ='Xã Thiệu Hợp'!I24 -> 0 | ... M57: ='Xã Thiệu Hợp'!M24 -> #DIV/0!
A58: Xã Thiệu Thịnh | B58: ='Xã Thiệu Thịnh'!B24 -> 0 | C58: ='Xã Thiệu Thịnh'!C24 -> 0 | D58: ='Xã Thiệu Thịnh'!D24 -> 0 | E58: ='Xã Thiệu Thịnh'!E24 -> 0 | F58: ='Xã Thiệu Thịnh'!F24 -> 0 | G58: ='Xã Thiệu Thịnh'!G24 -> 0 | H58: ='Xã Thiệu Thịnh'!H24 -> 0 | I58: ='Xã Thiệu Thịnh'!I24 -> 0 | ... M58: ='Xã Thiệu Thịnh'!M24 -> #DIV/0!
A59: Xã Thiệu Quang | B59: ='Xã Thiệu Quang'!B24 -> 0 | C59: ='Xã Thiệu Quang'!C24 -> 0 | D59: ='Xã Thiệu Quang'!D24 -> 0 | E59: ='Xã Thiệu Quang'!E24 -> 0 | F59: ='Xã Thiệu Quang'!F24 -> 0 | G59: ='Xã Thiệu Quang'!G24 -> 0 | H59: ='Xã Thiệu Quang'!H24 -> 0 | I59: ='Xã Thiệu Quang'!I24 -> 0 | ... M59: ='Xã Thiệu Quang'!M24 -> #DIV/0!
A61: 2. Quản lý điều trị người bệnh tăng huyết áp và đái tháo đường tại các trạm y tế
A62: a. Phát hiện và Quản lý điều trị THA trong tháng
B64: Số BN mắc THA ước tính(12% dân số) | E64: =12%*C9 -> 0
B66: Tăng huyết áp
B67: Mới phát hiện trong tháng | C67: Tổng số phát hiện cộng dồn | E67: Tổng số BN đến khám và lấy thuốc cộng dồn | G67: BN đến khám và cấp thuốc tháng vừa qua | I67: BN đến khám và cấp thuốc trong tháng vừa qua đạt mục tiêu điều trị (chuẩn 2020) | K67: BN đến khám và cấp thuốc trong tháng vừa qua đạt mục tiêu điều trị (chuẩn cũ)
C68: Số lượng | D68: Tỷ lệ | E68: Số lượng | F68: Tỷ lệ | G68: Số lượng | H68: Tỷ lệ | I68: Số lượng | J68: Tỷ lệ | K68: Số lượng | L68: Tỷ lệ
A69: Huyện | B69: =B76 -> 0 | C69: =C76 -> 0 | D69: =C69/E64 -> #DIV/0! | E69: =E70+E76+E102 -> 0 | F69: =E69/C69 -> #DIV/0! | G69: =G70+G76+G102 -> 0 | H69: =G69/E69 -> #DIV/0! | I69: =I70+I76+I102 -> 0 | J69: =I69/G69 -> #DIV/0! | K69: =K70+K76+K102 -> 0 | L69: =K69/G69 -> #DIV/0!
A70: Các cơ sở y tế tuyến huyện | E70: =SUM(E71:E75) -> 0 | F70: =E70/C69 -> #DIV/0! | G70: =SUM(G71:G75) -> 0 | H70: =G70/E70 -> #DIV/0! | I70: =SUM(I71:I75) -> 0 | J70: =I70/G70 -> #DIV/0! | K70: =SUM(K71:K75) -> 0 | L70: =K70/G70 -> #DIV/0!
A71: Cơ sở 1 | H71: =G71/E71 -> #DIV/0! | J71: =I71/G71 -> #DIV/0! | L71: =K71/G71 -> #DIV/0!
A72: Cơ sở 2 | H72: =G72/E72 -> #DIV/0! | J72: =I72/G72 -> #DIV/0! | L72: =K72/G72 -> #DIV/0!
A73: Cơ sở 3 | H73: =G73/E73 -> #DIV/0! | J73: =I73/G73 -> #DIV/0! | L73: =K73/G73 -> #DIV/0!
A74: Cơ sở 4 | H74: =G74/E74 -> #DIV/0! | J74: =I74/G74 -> #DIV/0! | L74: =K74/G74 -> #DIV/0!
A75: Cơ sở 5 | H75: =G75/E75 -> #DIV/0! | J75: =I75/G75 -> #DIV/0! | L75: =K75/G75 -> #DIV/0!
A76: Cơ sở y tế tuyến Xã | B76: =SUM(B77:B101) -> 0 | C76: =SUM(C77:C101) -> 0 | D76: =C76/E64 -> #DIV/0! | E76: =SUM(E77:E101) -> 0 | F76: =E76/C76 -> #DIV/0! | G76: =SUM(G77:G101) -> 0 | H76: =G76/E76 -> #DIV/0! | I76: =SUM(I77:I101) -> 0 | J76: =I76/G76 -> #DIV/0! | K76: =SUM(K77:K101) -> 0 | L76: =K76/G76 -> #DIV/0!
A77: Xã Thiệu Toán | B77: ='Xã Thiệu Toán'!B34 -> 0 | C77: ='Xã Thiệu Toán'!C34 -> 0 | D77: ='Xã Thiệu Toán'!D34 -> #DIV/0! | E77: ='Xã Thiệu Toán'!E34 -> 0 | F77: ='Xã Thiệu Toán'!F34 -> #DIV/0! | G77: ='Xã Thiệu Toán'!G34 -> 0 | H77: ='Xã Thiệu Toán'!H34 -> #DIV/0! | I77: ='Xã Thiệu Toán'!I34 -> 0 | ... L77: ='Xã Thiệu Toán'!L34 -> #DIV/0!
A78: Xã Thiệu Chính | B78: ='Xã Thiệu Chính'!B34 -> 0 | C78: ='Xã Thiệu Chính'!C34 -> 0 | D78: ='Xã Thiệu Chính'!D34 -> #DIV/0! | E78: ='Xã Thiệu Chính'!E34 -> 0 | F78: ='Xã Thiệu Chính'!F34 -> #DIV/0! | G78: ='Xã Thiệu Chính'!G34 -> 0 | H78: ='Xã Thiệu Chính'!H34 -> #DIV/0! | I78: ='Xã Thiệu Chính'!I34 -> 0 | ... L78: ='Xã Thiệu Chính'!L34 -> #DIV/0!
A79: Xã Thiệu Hòa | B79: ='Xã Thiệu Hòa'!B34 -> 0 | C79: ='Xã Thiệu Hòa'!C34 -> 0 | D79: ='Xã Thiệu Hòa'!D34 -> #DIV/0! | E79: ='Xã Thiệu Hòa'!E34 -> 0 | F79: ='Xã Thiệu Hòa'!F34 -> #DIV/0! | G79: ='Xã Thiệu Hòa'!G34 -> 0 | H79: ='Xã Thiệu Hòa'!H34 -> #DIV/0! | I79: ='Xã Thiệu Hòa'!I34 -> 0 | ... L79: ='Xã Thiệu Hòa'!L34 -> #DIV/0!
A80: Xã Minh Tâm | B80: ='Xã Minh Tâm'!B34 -> 0 | C80: ='Xã Minh Tâm'!C34 -> 0 | D80: ='Xã Minh Tâm'!D34 -> #DIV/0! | E80: ='Xã Minh Tâm'!E34 -> 0 | F80: ='Xã Minh Tâm'!F34 -> #DIV/0! | G80: ='Xã Minh Tâm'!G34 -> 0 | H80: ='Xã Minh Tâm'!H34 -> #DIV/0! | I80: ='Xã Minh Tâm'!I34 -> 0 | ... L80: ='Xã Minh Tâm'!L34 -> #DIV/0!
A81: Xã Thiệu Viên | B81: ='Xã Thiệu Viên '!B34 -> 0 | C81: ='Xã Thiệu Viên '!C34 -> 0 | D81: ='Xã Thiệu Viên '!D34 -> #DIV/0! | E81: ='Xã Thiệu Viên '!E34 -> 0 | F81: ='Xã Thiệu Viên '!F34 -> #DIV/0! | G81: ='Xã Thiệu Viên '!G34 -> 0 | H81: ='Xã Thiệu Viên '!H34 -> #DIV/0! | I81: ='Xã Thiệu Viên '!I34 -> 0 | ... L81: ='Xã Thiệu Viên '!L34 -> #DIV/0!
A82: Xã Thiệu Lý | B82: ='Xã Thiệu Lý'!B34 -> 0 | C82: ='Xã Thiệu Lý'!C34 -> 0 | D82: ='Xã Thiệu Lý'!D34 -> #DIV/0! | E82: ='Xã Thiệu Lý'!E34 -> 0 | F82: ='Xã Thiệu Lý'!F34 -> #DIV/0! | G82: ='Xã Thiệu Lý'!G34 -> 0 | H82: ='Xã Thiệu Lý'!H34 -> #DIV/0! | I82: ='Xã Thiệu Lý'!I34 -> 0 | ... L82: ='Xã Thiệu Lý'!L34 -> #DIV/0!
A83: Xã Thiệu Vận | B83: ='Xã Thiệu Vận'!B34 -> 0 | C83: ='Xã Thiệu Vận'!C34 -> 0 | D83: ='Xã Thiệu Vận'!D34 -> #DIV/0! | E83: ='Xã Thiệu Vận'!E34 -> 0 | F83: ='Xã Thiệu Vận'!F34 -> #DIV/0! | G83: ='Xã Thiệu Vận'!G34 -> 0 | H83: ='Xã Thiệu Vận'!H34 -> #DIV/0! | I83: ='Xã Thiệu Vận'!I34 -> 0 | ... L83: ='Xã Thiệu Vận'!L34 -> #DIV/0!
A84: Xã Thiệu Trung | B84: ='Xã Thiệu Trung'!B34 -> 0 | C84: ='Xã Thiệu Trung'!C34 -> 0 | D84: ='Xã Thiệu Trung'!D34 -> #DIV/0! | E84: ='Xã Thiệu Trung'!E34 -> 0 | F84: ='Xã Thiệu Trung'!F34 -> #DIV/0! | G84: ='Xã Thiệu Trung'!G34 -> 0 | H84: ='Xã Thiệu Trung'!H34 -> #DIV/0! | I84: ='Xã Thiệu Trung'!I34 -> 0 | ... L84: ='Xã Thiệu Trung'!L34 -> #DIV/0!
A85: TT Thiệu Hóa | B85: ='TT Thiệu Hóa'!B34 -> 0 | C85: ='TT Thiệu Hóa'!C34 -> 0 | D85: ='TT Thiệu Hóa'!D34 -> #DIV/0! | E85: ='TT Thiệu Hóa'!E34 -> 0 | F85: ='TT Thiệu Hóa'!F34 -> #DIV/0! | G85: ='TT Thiệu Hóa'!G34 -> 0 | H85: ='TT Thiệu Hóa'!H34 -> #DIV/0! | I85: ='TT Thiệu Hóa'!I34 -> 0 | ... L85: ='TT Thiệu Hóa'!L34 -> #DIV/0!
A86: Xã Thiệu Giao | B86: ='Xã Thiệu Giao'!B34 -> 0 | C86: ='Xã Thiệu Giao'!C34 -> 0 | D86: ='Xã Thiệu Giao'!D34 -> #DIV/0! | E86: ='Xã Thiệu Giao'!E34 -> 0 | F86: ='Xã Thiệu Giao'!F34 -> #DIV/0! | G86: ='Xã Thiệu Giao'!G34 -> 0 | H86: ='Xã Thiệu Giao'!H34 -> #DIV/0! | I86: ='Xã Thiệu Giao'!I34 -> 0 | ... L86: ='Xã Thiệu Giao'!L34 -> #DIV/0!
A87: Xã Tân Châu | B87: ='Tân Châu'!B34 -> 0 | C87: ='Tân Châu'!C34 -> 0 | D87: ='Tân Châu'!D34 -> #DIV/0! | E87: ='Tân Châu'!E34 -> 0 | F87: ='Tân Châu'!F34 -> #DIV/0! | G87: ='Tân Châu'!G34 -> 0 | H87: ='Tân Châu'!H34 -> #DIV/0! | I87: ='Tân Châu'!I34 -> 0 | ... L87: ='Tân Châu'!L34 -> #DIV/0!
A88: Xã Thiệu Ngọc | B88: ='Xã Thiệu Ngọc'!B34 -> 0 | C88: ='Xã Thiệu Ngọc'!C34 -> 0 | D88: ='Xã Thiệu Ngọc'!D34 -> #DIV/0! | E88: ='Xã Thiệu Ngọc'!E34 -> 0 | F88: ='Xã Thiệu Ngọc'!F34 -> #DIV/0! | G88: ='Xã Thiệu Ngọc'!G34 -> 0 | H88: ='Xã Thiệu Ngọc'!H34 -> #DIV/0! | I88: ='Xã Thiệu Ngọc'!I34 -> 0 | ... L88: ='Xã Thiệu Ngọc'!L34 -> #DIV/0!
A89: Xã Thiệu Vũ | B89: ='Xã Thiệu Vũ'!B34 -> 0 | C89: ='Xã Thiệu Vũ'!C34 -> 0 | D89: ='Xã Thiệu Vũ'!D34 -> #DIV/0! | E89: ='Xã Thiệu Vũ'!E34 -> 0 | F89: ='Xã Thiệu Vũ'!F34 -> #DIV/0! | G89: ='Xã Thiệu Vũ'!G34 -> 0 | H89: ='Xã Thiệu Vũ'!H34 -> #DIV/0! | I89: ='Xã Thiệu Vũ'!I34 -> 0 | ... L89: ='Xã Thiệu Vũ'!L34 -> #DIV/0!
A90: Xã Thiệu Tiến | B90: ='Xã Thiệu Tiến'!B34 -> 0 | C90: ='Xã Thiệu Tiến'!C34 -> 0 | D90: ='Xã Thiệu Tiến'!D34 -> #DIV/0! | E90: ='Xã Thiệu Tiến'!E34 -> 0 | F90: ='Xã Thiệu Tiến'!F34 -> #DIV/0! | G90: ='Xã Thiệu Tiến'!G34 -> 0 | H90: ='Xã Thiệu Tiến'!H34 -> #DIV/0! | I90: ='Xã Thiệu Tiến'!I34 -> 0 | ... L90: ='Xã Thiệu Tiến'!L34 -> #DIV/0!
A91: Xã Thiệu Thành | B91: ='Xã Thiệu Thành'!B34 -> 0 | C91: ='Xã Thiệu Thành'!C34 -> 0 | D91: ='Xã Thiệu Thành'!D34 -> #DIV/0! | E91: ='Xã Thiệu Thành'!E34 -> 0 | F91: ='Xã Thiệu Thành'!F34 -> #DIV/0! | G91: ='Xã Thiệu Thành'!G34 -> 0 | H91: ='Xã Thiệu Thành'!H34 -> #DIV/0! | I91: ='Xã Thiệu Thành'!I34 -> 0 | ... L91: ='Xã Thiệu Thành'!L34 -> #DIV/0!
A92: Xã Thiệu Công | B92: ='Xã Thiệu Công'!B34 -> 0 | C92: ='Xã Thiệu Công'!C34 -> 0 | D92: ='Xã Thiệu Công'!D34 -> #DIV/0! | E92: ='Xã Thiệu Công'!E34 -> 0 | F92: ='Xã Thiệu Công'!F34 -> #DIV/0! | G92: ='Xã Thiệu Công'!G34 -> 0 | H92: ='Xã Thiệu Công'!H34 -> #DIV/0! | I92: ='Xã Thiệu Công'!I34 -> 0 | ... L92: ='Xã Thiệu Công'!L34 -> #DIV/0!
A93: Xã Thiệu Phúc | B93: ='Xã Thiệu Phúc'!B34 -> 0 | C93: ='Xã Thiệu Phúc'!C34 -> 0 | D93: ='Xã Thiệu Phúc'!D34 -> #DIV/0! | E93: ='Xã Thiệu Phúc'!E34 -> 0 | F93: ='Xã Thiệu Phúc'!F34 -> #DIV/0! | G93: ='Xã Thiệu Phúc'!G34 -> 0 | H93: ='Xã Thiệu Phúc'!H34 -> #DIV/0! | I93: ='Xã Thiệu Phúc'!I34 -> 0 | ... L93: ='Xã Thiệu Phúc'!L34 -> #DIV/0!
A94: Xã Thiệu Phú | B94: ='Xã Thiệu Phú'!B34 -> 0 | C94: ='Xã Thiệu Phú'!C34 -> 0 | D94: ='Xã Thiệu Phú'!D34 -> #DIV/0! | E94: ='Xã Thiệu Phú'!E34 -> 0 | F94: ='Xã Thiệu Phú'!F34 -> #DIV/0! | G94: ='Xã Thiệu Phú'!G34 -> 0 | H94: ='Xã Thiệu Phú'!H34 -> #DIV/0! | I94: ='Xã Thiệu Phú'!I34 -> 0 | ... L94: ='Xã Thiệu Phú'!L34 -> #DIV/0!
A95: Xã Thiệu Long | B95: ='Xã Thiệu Long'!B34 -> 0 | C95: ='Xã Thiệu Long'!C34 -> 0 | D95: ='Xã Thiệu Long'!D34 -> #DIV/0! | E95: ='Xã Thiệu Long'!E34 -> 0 | F95: ='Xã Thiệu Long'!F34 -> #DIV/0! | G95: ='Xã Thiệu Long'!G34 -> 0 | H95: ='Xã Thiệu Long'!H34 -> #DIV/0! | I95: ='Xã Thiệu Long'!I34 -> 0 | ... L95: ='Xã Thiệu Long'!L34 -> #DIV/0!
A96: Xã Thiệu Nguyên | B96: ='Xã Thiệu Nguyên'!B34 -> 0 | C96: ='Xã Thiệu Nguyên'!C34 -> 0 | D96: ='Xã Thiệu Nguyên'!D34 -> #DIV/0! | E96: ='Xã Thiệu Nguyên'!E34 -> 0 | F96: ='Xã Thiệu Nguyên'!F34 -> #DIV/0! | G96: ='Xã Thiệu Nguyên'!G34 -> 0 | H96: ='Xã Thiệu Nguyên'!H34 -> #DIV/0! | I96: ='Xã Thiệu Nguyên'!I34 -> 0 | ... L96: ='Xã Thiệu Nguyên'!L34 -> #DIV/0!
A97: Xã Thiệu Duy | B97: ='Xã Thiệu Duy'!B34 -> 0 | C97: ='Xã Thiệu Duy'!C34 -> 0 | D97: ='Xã Thiệu Duy'!D34 -> #DIV/0! | E97: ='Xã Thiệu Duy'!E34 -> 0 | F97: ='Xã Thiệu Duy'!F34 -> #DIV/0! | G97: ='Xã Thiệu Duy'!G34 -> 0 | H97: ='Xã Thiệu Duy'!H34 -> #DIV/0! | I97: ='Xã Thiệu Duy'!I34 -> 0 | ... L97: ='Xã Thiệu Duy'!L34 -> #DIV/0!
A98: Xã Thiệu Giang | B98: ='Xã Thiệu Giang'!B34 -> 0 | C98: ='Xã Thiệu Giang'!C34 -> 0 | D98: ='Xã Thiệu Giang'!D34 -> #DIV/0! | E98: ='Xã Thiệu Giang'!E34 -> 0 | F98: ='Xã Thiệu Giang'!F34 -> #DIV/0! | G98: ='Xã Thiệu Giang'!G34 -> 0 | H98: ='Xã Thiệu Giang'!H34 -> #DIV/0! | I98: ='Xã Thiệu Giang'!I34 -> 0 | ... L98: ='Xã Thiệu Giang'!L34 -> #DIV/0!
A99: Xã Thiệu Hợp | B99: ='Xã Thiệu Hợp'!B34 -> 0 | C99: ='Xã Thiệu Hợp'!C34 -> 0 | D99: ='Xã Thiệu Hợp'!D34 -> #DIV/0! | E99: ='Xã Thiệu Hợp'!E34 -> 0 | F99: ='Xã Thiệu Hợp'!F34 -> #DIV/0! | G99: ='Xã Thiệu Hợp'!G34 -> 0 | H99: ='Xã Thiệu Hợp'!H34 -> #DIV/0! | I99: ='Xã Thiệu Hợp'!I34 -> 0 | ... L99: ='Xã Thiệu Hợp'!L34 -> #DIV/0!
A100: Xã Thiệu Thịnh | B100: ='Xã Thiệu Thịnh'!B34 -> 0 | C100: ='Xã Thiệu Thịnh'!C34 -> 0 | D100: ='Xã Thiệu Thịnh'!D34 -> #DIV/0! | E100: ='Xã Thiệu Thịnh'!E34 -> 0 | F100: ='Xã Thiệu Thịnh'!F34 -> #DIV/0! | G100: ='Xã Thiệu Thịnh'!G34 -> 0 | H100: ='Xã Thiệu Thịnh'!H34 -> #DIV/0! | I100: ='Xã Thiệu Thịnh'!I34 -> 0 | ... L100: ='Xã Thiệu Thịnh'!L34 -> #DIV/0!
A101: Xã Thiệu Quang | B101: ='Xã Thiệu Quang'!B34 -> 0 | C101: ='Xã Thiệu Quang'!C34 -> 0 | D101: ='Xã Thiệu Quang'!D34 -> #DIV/0! | E101: ='Xã Thiệu Quang'!E34 -> 0 | F101: ='Xã Thiệu Quang'!F34 -> #DIV/0! | G101: ='Xã Thiệu Quang'!G34 -> 0 | H101: ='Xã Thiệu Quang'!H34 -> #DIV/0! | I101: ='Xã Thiệu Quang'!I34 -> 0 | ... L101: ='Xã Thiệu Quang'!L34 -> #DIV/0!
A102: Các Cơ sở y tế tư nhân | E102: =SUM(E103:E108) -> 0 | F102: =E102/C69 -> #DIV/0! | G102: =SUM(G103:G108) -> 0 | H102: =G102/E102 -> #DIV/0! | I102: =SUM(I103:I108) -> 0 | J102: =I102/G102 -> #DIV/0! | K102: =SUM(K103:K108) -> 0 | L102: =K102/G102 -> #DIV/0!
A103: BVĐK Đại An | H103: =G103/E103 -> #DIV/0! | J103: =I103/G103 -> #DIV/0! | L103: =K103/G103 -> #DIV/0!
A104: Cơ sở 2 | H104: =G104/E104 -> #DIV/0! | J104: =I104/G104 -> #DIV/0! | L104: =K104/G104 -> #DIV/0!
A105: Cơ sở 3 | H105: =G105/E105 -> #DIV/0! | J105: =I105/G105 -> #DIV/0! | L105: =K105/G105 -> #DIV/0!
...

Sheet Xã Thiệu Toán
A1: ='Huyện-Tổng hợp'!A2:C2 -> Mẫu báo cáo TYT xã - X0106 | D1: CỘNG HÒA XÃ HỘI CHỦ NGHĨA VIỆT NAM
D2: Độc lập – Tự do – Hạnh phúc
A3: TTYT huyện: | C3: ='Huyện-Tổng hợp'!B3 -> Thiệu Hóa
A4: TYT xã
A5: BÁO CÁO HOẠT ĐỘNG QUẢN LÝ ĐIỀU TRỊ BỆNH KHÔNG LÂY NHIỄM TẠI TRẠM Y TẾ
C6: Tháng | D6: ='Huyện-Tổng hợp'!D7 -> 0 | R6: 0
A7: ='Huyện-Tổng hợp'!A8 -> I. Thông tin chung | R7: 1
A8: Dân số:
A9: Số người ≥ 18 tuổi:
A10: Số người ≥ 40 tuổi:
A11: Tổng số thôn bản: | F11: Số điện thoại
A12: Số thôn bản có YTTB/CTV | B12: Số thôn bản có YTTB/CTV | F12: Email:
A13: Số YTTB/CTV
A14: Số cán bộ TYT | G14: Mầu xanh TYT xã cần nhập thông tin
A15: Số y, bác sỹ có CCHN | G15: Màu Vàng tự động tính không cần nhập
A16: Có bác sỹ làm việc không (Không=0; Có=1) | G16: Màu xám không cần nhập
A17: Sử dụng sổ theo dõi NCD điện tử (Không=0; Có=1)
A19: ='Huyện-Tổng hợp'!A19 -> II. Kết quả hoạt động phòng chống bệnh không lây nhiễm
A20: ='Huyện-Tổng hợp'!A20 -> 1. Phát hiện người nguy cơ cao, tiền bệnh, nghi ngờ mắc bệnh, mắc bệnh và số người khám sức khỏe định kỳ
A21: (Lấy số liệu từ sheet «sàng lọc phát hiện» của sổ theo dõi NCD điện tử)
B22: ='Huyện-Tổng hợp'!B22 -> Số người được đo huyết áp | C22: ='Huyện-Tổng hợp'!C22 -> Số người được xác định nghi ngờ THA (Chỉ số huyết áp ≥140/90) | D22: ='Huyện-Tổng hợp'!D22 -> Số người được sàng lọc nguy cơ ĐTĐ bằng bộ câu hỏi | E22: ='Huyện-Tổng hợp'!E22 -> Số người được phát hiện thừa cân béo phì (BMI≥25 hoặc vòng eo to) | F22: ='Huyện-Tổng hợp'!F22 -> Số người được xác định nguy cơ cao ĐTĐ (≥ 6 điểm) | G22: ='Huyện-Tổng hợp'!G22 -> Số người được xét nghiệm đường huyết | H22: ='Huyện-Tổng hợp'!H22 -> Số người phát hiện nghi ngờ rối loạn đường huyết (ĐH mao mạch ≥ 5.6 mmol/L) | I22: ='Huyện-Tổng hợp'!I22 -> Số người được sàng lọc BPTNMT/ hen phế quản | ... M22: ='Huyện-Tổng hợp'!M22 -> Tỷ lệ % người được khám sức khỏe định kỳ so với tổng dân số ≥ 18 tuổi(70% dân số)
A23: Số mới trong tháng | M23: =L23/(0.7*$D$8) -> #DIV/0!
A24: Số cộng dồn trong năm | M24: =L24/(0.7*$D$8) -> #DIV/0!
A27: ='Huyện-Tổng hợp'!A61 -> 2. Quản lý điều trị người bệnh tăng huyết áp và đái tháo đường tại các trạm y tế
A28: a. Phát hiện và Quản lý điều trị THA, ĐTĐ trong tháng
B30: ='Huyện-Tổng hợp'!B64 -> Số BN mắc THA ước tính(12% dân số) | E30: =12%*D8 -> 0 | G30: ='Huyện-Tổng hợp'!B112 -> Số BN mắc ĐTĐ ước tính (2% dân số) | J30: =2%*D8 -> 0
B32: ='Huyện-Tổng hợp'!B67 -> Mới phát hiện trong tháng | C32: ='Huyện-Tổng hợp'!C67:D67 -> Tổng số phát hiện cộng dồn | E32: ='Huyện-Tổng hợp'!E67:F67 -> Tổng số BN đến khám và lấy thuốc cộng dồn | G32: ='Huyện-Tổng hợp'!G67:H67 -> BN đến khám và cấp thuốc tháng vừa qua | I32: ='Huyện-Tổng hợp'!I67:J67 -> BN đến khám và cấp thuốc trong tháng vừa qua đạt mục tiêu điều trị (chuẩn 2020) | K32: ='Huyện-Tổng hợp'!K67:L67 -> BN đến khám và cấp thuốc trong tháng vừa qua đạt mục tiêu điều trị (chuẩn cũ)
C33: ='Huyện-Tổng hợp'!C68 -> Số lượng | D33: ='Huyện-Tổng hợp'!D68 -> Tỷ lệ | E33: ='Huyện-Tổng hợp'!E68 -> Số lượng | F33: ='Huyện-Tổng hợp'!F68 -> Tỷ lệ | G33: ='Huyện-Tổng hợp'!G68 -> Số lượng | H33: ='Huyện-Tổng hợp'!H68 -> Tỷ lệ | I33: ='Huyện-Tổng hợp'!I68 -> Số lượng | J33: ='Huyện-Tổng hợp'!J68 -> Tỷ lệ | ... L33: ='Huyện-Tổng hợp'!L68 -> Tỷ lệ
A34: THA | D34: =C34/E30 -> #DIV/0! | F34: =E34/C34 -> #DIV/0! | H34: =G34/E34 -> #DIV/0! | J34: =I34/G34 -> #DIV/0! | L34: =K34/G34 -> #DIV/0!
A35: ĐTĐ | D35: =C35/J30 -> #DIV/0! | F35: =E35/C35 -> #DIV/0! | H35: =G35/E35 -> #DIV/0! | J35: =I35/G35 -> #DIV/0!
A37: b. Phát hiện và Quản lý điều trị THA, ĐTĐ trong kỳ báo cáo 3 tháng, 6 tháng, 9 tháng và 12 tháng
B38: ='Huyện-Tổng hợp'!B161 -> Mới phát hiện trong kỳ báo cáo | C38: ='Huyện-Tổng hợp'!C161:D161 -> Tổng số phát hiện trong kỳ báo cáo (cộng dồn) | E38: ='Huyện-Tổng hợp'!E161:F161 -> Tổng số BN đang được quản lý trong kỳ báo cáo | G38: ='Huyện-Tổng hợp'!G161:H161 -> BN được khám và cấp thuốc tháng cuối của kỳ báo cáo | I38: ='Huyện-Tổng hợp'!I161:J161 -> BN được quản lý điều trị đạt mục tiêu điều trị tại tháng cuối của kỳ báo cáo (chuẩn 2020) | K38: ='Huyện-Tổng hợp'!K161:L161 -> BN được quản lý điều trị đạt mục tiêu điều trị trong quý cuối của kỳ báo cáo (chuẩn 2020) | M38: ='Huyện-Tổng hợp'!M161:N161 -> BN được quản lý tại đạt mục tiêu điều trị trong quý cuối của kỳ báo cáo (chuẩn cũ)
C39: ='Huyện-Tổng hợp'!C162 -> Số lượng | D39: ='Huyện-Tổng hợp'!D162 -> Tỷ lệ | E39: ='Huyện-Tổng hợp'!E162 -> Số lượng | F39: ='Huyện-Tổng hợp'!F162 -> Tỷ lệ | G39: ='Huyện-Tổng hợp'!G162 -> Số lượng | H39: ='Huyện-Tổng hợp'!H162 -> Tỷ lệ | I39: ='Huyện-Tổng hợp'!I162 -> Số lượng | J39: ='Huyện-Tổng hợp'!J162 -> Tỷ lệ | ... N39: ='Huyện-Tổng hợp'!N162 -> Tỷ lệ
A40: THA | C40: =C34 -> 0 | D40: =D34 -> #DIV/0! | F40: =E40/C40 -> #DIV/0! | G40: =G34 -> 0 | H40: =G40/E40 -> #DIV/0! | I40: =I34 -> 0 | J40: =J34 -> #DIV/0! | L40: =K40/E40 -> #DIV/0! | N40: =M40/E40 -> #DIV/0!
A41: ĐTĐ | C41: =C35 -> 0 | D41: =D35 -> #DIV/0! | F41: =E41/C41 -> #DIV/0! | G41: =G35 -> 0 | H41: =G41/E41 -> #DIV/0! | I41: =I35 -> 0 | J41: =J35 -> #DIV/0! | L41: =K41/E41 -> #DIV/0!
A43: ='Huyện-Tổng hợp'!A249 -> III. Tổng hợp cung ứng thuốc tại các TYT
B44: ='Huyện-Tổng hợp'!B251:G251 -> Thuốc điều trị THA | H44: ='Huyện-Tổng hợp'!H251:K251 -> Thuốc điều trị ĐTĐ
B45: ='Huyện-Tổng hợp'!B252:B252 -> Có thuốc chẹn kênh can xi (bao gồm cả viên kết hợp có thành phần này) | C45: ='Huyện-Tổng hợp'!C252:C252 -> Có thuốc ức chế men chuyển và/hoặc ức chế thụ thể (bao gồm cả viên kết hợp có thành phần này) | D45: ='Huyện-Tổng hợp'!D252:D252 -> Có thuốc lợi tiểu thiazide hoặc tương tự (bao gồm cả viên kết hợp có thành phần này) | E45: ='Huyện-Tổng hợp'!E252:E252 -> Có thuốc kết hợp 2 loại đơn chất trên | F45: ='Huyện-Tổng hợp'!F252:F252 -> Có thuốc kết hợp 3 loại đơn chất trên | G45: ='Huyện-Tổng hợp'!G252:G252 -> Có thực hiện cấp thuốc 28-30 ngày cho phần lớn bệnh nhân THA | H45: ='Huyện-Tổng hợp'!H252:H252 -> Có thuốc Metformin | I45: ='Huyện-Tổng hợp'!I252:I252 -> Có thuốc Gliclazide | ... K45: ='Huyện-Tổng hợp'!K252:K252 -> Có thực hiện cấp thuốc 28-30 ngày cho phần lớn bệnh nhân ĐTĐ
A46: Có = 1 Không có = 0
A49: ='Huyện-Tổng hợp'!A288 -> IV. Quản lý điều trị các bệnh khác
B51: ='Huyện-Tổng hợp'!A289 -> a. Quản lý điều trị Tâm thần phân liệt và Động kinh
C52: ='Huyện-Tổng hợp'!C290:G290 -> Tâm thần phân liệt | H52: ='Huyện-Tổng hợp'!H290:L290 -> Động kinh
C53: ='Huyện-Tổng hợp'!C291 -> Tổng số phát hiện | D53: ='Huyện-Tổng hợp'!D291 -> Mới phát hiện trong kỳ báo cáo | E53: ='Huyện-Tổng hợp'!E291 -> Tổng số BN đang được quản lý | F53: ='Huyện-Tổng hợp'!F291 -> Số BN được khám và cấp thuốc trong tháng vừa qua trong số BN được quản lý | G53: ='Huyện-Tổng hợp'!G291 -> Số BN điều trị đạt hiệu quả trong số BN được quản lý | H53: ='Huyện-Tổng hợp'!H291 -> Tổng số phát hiện | I53: ='Huyện-Tổng hợp'!I291 -> Mới phát hiện trong kỳ báo cáo | J53: ='Huyện-Tổng hợp'!J291 -> Tổng số BN đang được quản lý | ... L53: ='Huyện-Tổng hợp'!L291 -> Số BN điều trị đạt hiệu quả trong số BN được quản lý
B54: Kết quả
B57: ='Huyện-Tổng hợp'!A334 -> b. Quản lý điều trị Bệnh phổi mạn tính (COPD và Hen) và BKLN khác
C58: ='Huyện-Tổng hợp'!C336:G336 -> Bệnh phổi mạn tính (COPD/Hen) | H58: ='Huyện-Tổng hợp'!H336:L336 -> Bệnh KLN khác
C59: ='Huyện-Tổng hợp'!C337 -> Tổng số phát hiện | D59: ='Huyện-Tổng hợp'!D337 -> Mới phát hiện trong kỳ báo cáo | E59: ='Huyện-Tổng hợp'!E337 -> Tổng số BN đang được quản lý | F59: ='Huyện-Tổng hợp'!F337 -> Số BN được khám và cấp thuốc trong tháng vừa qua trong số BN được quản lý | G59: ='Huyện-Tổng hợp'!G337 -> Số BN điều trị đạt hiệu quả trong số BN được quản lý | H59: ='Huyện-Tổng hợp'!H337 -> Tổng số phát hiện | I59: ='Huyện-Tổng hợp'!I337 -> Mới phát hiện trong kỳ báo cáo | J59: ='Huyện-Tổng hợp'!J337 -> Tổng số BN đang được quản lý | ... L59: ='Huyện-Tổng hợp'!L337 -> Số BN điều trị đạt hiệu quả trong số BN được quản lý
B60: Kết quả
A62: ='Huyện-Tổng hợp'!A379 -> V. Báo cáo nguyên nhân tử vong
A64: TT | B64: Ngày, tháng ghi sổ | C64: Họ và tên | E64: Tuổi | G64: Địa chỉ | H64: Nghề nghiệp | I64: Dân tộc | J64: Ngày tháng tử vong | K64: Nơi Tử vong | L64: Nguyên nhân chính gây tử vong | N64: Mã VN | O64: Đã khám/điều trị tại CSYT trong vòng 30 ngày trước khi tử vong | P64: Được CBYT chăm sóc khi tử vong | Q64: Được cấp giấy báo tử
E65: Nam | F65: Nữ
A66: 1
A67: 2
A68: 3
A69: 4
A70: 5
A71: 6
A72: 7
A73: 8
A74: 9
A75: 10
A76: 11
A77: 12
... A95: 30
A96: Nhận xét
A98: Kiến nghị

Sheet Xã Thiệu Chính
A1: ='Huyện-Tổng hợp'!A2:C2 -> Mẫu báo cáo TYT xã - X0106 | D1: CỘNG HÒA XÃ HỘI CHỦ NGHĨA VIỆT NAM
D2: Độc lập – Tự do – Hạnh phúc
A3: TTYT huyện: | C3: ='Huyện-Tổng hợp'!B3 -> Thiệu Hóa
A4: TYT xã
A5: ='Xã Thiệu Toán'!A5 -> BÁO CÁO HOẠT ĐỘNG QUẢN LÝ ĐIỀU TRỊ BỆNH KHÔNG LÂY NHIỄM TẠI TRẠM Y TẾ
C6: Tháng | D6: ='Huyện-Tổng hợp'!D7 -> 0 | R6: 0
A7: ='Huyện-Tổng hợp'!A8 -> I. Thông tin chung | R7: 1
A8: ='Xã Thiệu Toán'!A8 -> Dân số:
A9: ='Xã Thiệu Toán'!A9 -> Số người ≥ 18 tuổi:
A10: ='Xã Thiệu Toán'!A10 -> Số người ≥ 40 tuổi:
A11: ='Xã Thiệu Toán'!A11 -> Tổng số thôn bản: | F11: ='Xã Thiệu Toán'!F11 -> Số điện thoại
A12: ='Xã Thiệu Toán'!A12 -> Số thôn bản có YTTB/CTV | F12: ='Xã Thiệu Toán'!F12 -> Email:
A13: ='Xã Thiệu Toán'!A13 -> Số YTTB/CTV
A14: ='Xã Thiệu Toán'!A14 -> Số cán bộ TYT | G14: ='Xã Thiệu Toán'!G14 -> Mầu xanh TYT xã cần nhập thông tin
A15: ='Xã Thiệu Toán'!A15 -> Số y, bác sỹ có CCHN | G15: ='Xã Thiệu Toán'!G15 -> Màu Vàng tự động tính không cần nhập
A16: ='Xã Thiệu Toán'!A16 -> Có bác sỹ làm việc không (Không=0; Có=1) | G16: ='Xã Thiệu Toán'!G16 -> Màu xám không cần nhập
A17: ='Xã Thiệu Toán'!A17 -> Sử dụng sổ theo dõi NCD điện tử (Không=0; Có=1)
A19: ='Huyện-Tổng hợp'!A19 -> II. Kết quả hoạt động phòng chống bệnh không lây nhiễm
A20: ='Huyện-Tổng hợp'!A20 -> 1. Phát hiện người nguy cơ cao, tiền bệnh, nghi ngờ mắc bệnh, mắc bệnh và số người khám sức khỏe định kỳ
A21: ='Xã Thiệu Toán'!A21 -> (Lấy số liệu từ sheet «sàng lọc phát hiện» của sổ theo dõi NCD điện tử)
B22: ='Huyện-Tổng hợp'!B22 -> Số người được đo huyết áp | C22: ='Huyện-Tổng hợp'!C22 -> Số người được xác định nghi ngờ THA (Chỉ số huyết áp ≥140/90) | D22: ='Huyện-Tổng hợp'!D22 -> Số người được sàng lọc nguy cơ ĐTĐ bằng bộ câu hỏi | E22: ='Huyện-Tổng hợp'!E22 -> Số người được phát hiện thừa cân béo phì (BMI≥25 hoặc vòng eo to) | F22: ='Huyện-Tổng hợp'!F22 -> Số người được xác định nguy cơ cao ĐTĐ (≥ 6 điểm) | G22: ='Huyện-Tổng hợp'!G22 -> Số người được xét nghiệm đường huyết | H22: ='Huyện-Tổng hợp'!H22 -> Số người phát hiện nghi ngờ rối loạn đường huyết (ĐH mao mạch ≥ 5.6 mmol/L) | I22: ='Huyện-Tổng hợp'!I22 -> Số người được sàng lọc BPTNMT/ hen phế quản | ... M22: ='Huyện-Tổng hợp'!M22 -> Tỷ lệ % người được khám sức khỏe định kỳ so với tổng dân số ≥ 18 tuổi(70% dân số)
A23: ='Xã Thiệu Toán'!A23 -> Số mới trong tháng | M23: =L23/(0.7*$D$8) -> #DIV/0!
A24: ='Xã Thiệu Toán'!A24 -> Số cộng dồn trong năm | M24: =L24/(0.7*$D$8) -> #DIV/0!
A27: ='Huyện-Tổng hợp'!A61 -> 2. Quản lý điều trị người bệnh tăng huyết áp và đái tháo đường tại các trạm y tế
A28: a. Phát hiện và Quản lý điều trị THA, ĐTĐ trong tháng
B30: ='Huyện-Tổng hợp'!B64 -> Số BN mắc THA ước tính(12% dân số) | E30: =12%*D8 -> 0 | G30: ='Huyện-Tổng hợp'!B112 -> Số BN mắc ĐTĐ ước tính (2% dân số) | J30: =2%*D8 -> 0
B32: ='Huyện-Tổng hợp'!B67 -> Mới phát hiện trong tháng | C32: ='Huyện-Tổng hợp'!C67:D67 -> Tổng số phát hiện cộng dồn | E32: ='Huyện-Tổng hợp'!E67:F67 -> Tổng số BN đến khám và lấy thuốc cộng dồn | G32: ='Huyện-Tổng hợp'!G67:H67 -> BN đến khám và cấp thuốc tháng vừa qua | I32: ='Huyện-Tổng hợp'!I67:J67 -> BN đến khám và cấp thuốc trong tháng vừa qua đạt mục tiêu điều trị (chuẩn 2020) | K32: ='Huyện-Tổng hợp'!K67:L67 -> BN đến khám và cấp thuốc trong tháng vừa qua đạt mục tiêu điều trị (chuẩn cũ)
C33: ='Huyện-Tổng hợp'!C68 -> Số lượng | D33: ='Huyện-Tổng hợp'!D68 -> Tỷ lệ | E33: ='Huyện-Tổng hợp'!E68 -> Số lượng | F33: ='Huyện-Tổng hợp'!F68 -> Tỷ lệ | G33: ='Huyện-Tổng hợp'!G68 -> Số lượng | H33: ='Huyện-Tổng hợp'!H68 -> Tỷ lệ | I33: ='Huyện-Tổng hợp'!I68 -> Số lượng | J33: ='Huyện-Tổng hợp'!J68 -> Tỷ lệ | ... L33: ='Huyện-Tổng hợp'!L68 -> Tỷ lệ
A34: THA | D34: =C34/E30 -> #DIV/0! | F34: =E34/C34 -> #DIV/0! | H34: =G34/E34 -> #DIV/0! | J34: =I34/G34 -> #DIV/0! | L34: =K34/G34 -> #DIV/0!
A35: ĐTĐ | D35: =C35/J30 -> #DIV/0! | F35: =E35/C35 -> #DIV/0! | H35: =G35/E35 -> #DIV/0! | J35: =I35/G35 -> #DIV/0!
A37: b. Phát hiện và Quản lý điều trị THA, ĐTĐ trong kỳ báo cáo 3 tháng, 6 tháng, 9 tháng và 12 tháng
B38: ='Huyện-Tổng hợp'!B161 -> Mới phát hiện trong kỳ báo cáo | C38: ='Huyện-Tổng hợp'!C161:D161 -> Tổng số phát hiện trong kỳ báo cáo (cộng dồn) | E38: ='Huyện-Tổng hợp'!E161:F161 -> Tổng số BN đang được quản lý trong kỳ báo cáo | G38: ='Huyện-Tổng hợp'!G161:H161 -> BN được khám và cấp thuốc tháng cuối của kỳ báo cáo | I38: ='Huyện-Tổng hợp'!I161:J161 -> BN được quản lý điều trị đạt mục tiêu điều trị tại tháng cuối của kỳ báo cáo (chuẩn 2020) | K38: ='Huyện-Tổng hợp'!K161:L161 -> BN được quản lý điều trị đạt mục tiêu điều trị trong quý cuối của kỳ báo cáo (chuẩn 2020) | M38: ='Huyện-Tổng hợp'!M161:N161 -> BN được quản lý tại đạt mục tiêu điều trị trong quý cuối của kỳ báo cáo (chuẩn cũ)
C39: ='Huyện-Tổng hợp'!C162 -> Số lượng | D39: ='Huyện-Tổng hợp'!D162 -> Tỷ lệ | E39: ='Huyện-Tổng hợp'!E162 -> Số lượng | F39: ='Huyện-Tổng hợp'!F162 -> Tỷ lệ | G39: ='Huyện-Tổng hợp'!G162 -> Số lượng | H39: ='Huyện-Tổng hợp'!H162 -> Tỷ lệ | I39: ='Huyện-Tổng hợp'!I162 -> Số lượng | J39: ='Huyện-Tổng hợp'!J162 -> Tỷ lệ | ... N39: ='Huyện-Tổng hợp'!N162 -> Tỷ lệ
A40: THA | C40: =C34 -> 0 | D40: =D34 -> #DIV/0! | F40: =E40/C40 -> #DIV/0! | G40: =G34 -> 0 | H40: =G40/E40 -> #DIV/0! | I40: =I34 -> 0 | J40: =J34 -> #DIV/0! | L40: =K40/E40 -> #DIV/0! | N40: =M40/E40 -> #DIV/0!
A41: ĐTĐ | C41: =C35 -> 0 | D41: =D35 -> #DIV/0! | F41: =E41/C41 -> #DIV/0! | G41: =G35 -> 0 | H41: =G41/E41 -> #DIV/0! | I41: =I35 -> 0 | J41: =J35 -> #DIV/0! | L41: =K41/E41 -> #DIV/0!
A43: ='Huyện-Tổng hợp'!A249 -> III. Tổng hợp cung ứng thuốc tại các TYT
B44: ='Huyện-Tổng hợp'!B251:G251 -> Thuốc điều trị THA | H44: ='Huyện-Tổng hợp'!H251:K251 -> Thuốc điều trị ĐTĐ
B45: ='Huyện-Tổng hợp'!B252:B252 -> Có thuốc chẹn kênh can xi (bao gồm cả viên kết hợp có thành phần này) | C45: ='Huyện-Tổng hợp'!C252:C252 -> Có thuốc ức chế men chuyển và/hoặc ức chế thụ thể (bao gồm cả viên kết hợp có thành phần này) | D45: ='Huyện-Tổng hợp'!D252:D252 -> Có thuốc lợi tiểu thiazide hoặc tương tự (bao gồm cả viên kết hợp có thành phần này) | E45: ='Huyện-Tổng hợp'!E252:E252 -> Có thuốc kết hợp 2 loại đơn chất trên | F45: ='Huyện-Tổng hợp'!F252:F252 -> Có thuốc kết hợp 3 loại đơn chất trên | G45: ='Huyện-Tổng hợp'!G252:G252 -> Có thực hiện cấp thuốc 28-30 ngày cho phần lớn bệnh nhân THA | H45: ='Huyện-Tổng hợp'!H252:H252 -> Có thuốc Metformin | I45: ='Huyện-Tổng hợp'!I252:I252 -> Có thuốc Gliclazide | ... K45: ='Huyện-Tổng hợp'!K252:K252 -> Có thực hiện cấp thuốc 28-30 ngày cho phần lớn bệnh nhân ĐTĐ
A46: ='Xã Thiệu Toán'!A46 -> Có = 1 Không có = 0
A49: ='Huyện-Tổng hợp'!A288 -> IV. Quản lý điều trị các bệnh khác
B51: ='Huyện-Tổng hợp'!A289 -> a. Quản lý điều trị Tâm thần phân liệt và Động kinh
C52: ='Huyện-Tổng hợp'!C290:G290 -> Tâm thần phân liệt | H52: ='Huyện-Tổng hợp'!H290:L290 -> Động kinh
C53: ='Huyện-Tổng hợp'!C291 -> Tổng số phát hiện | D53: ='Huyện-Tổng hợp'!D291 -> Mới phát hiện trong kỳ báo cáo | E53: ='Huyện-Tổng hợp'!E291 -> Tổng số BN đang được quản lý | F53: ='Huyện-Tổng hợp'!F291 -> Số BN được khám và cấp thuốc trong tháng vừa qua trong số BN được quản lý | G53: ='Huyện-Tổng hợp'!G291 -> Số BN điều trị đạt hiệu quả trong số BN được quản lý | H53: ='Huyện-Tổng hợp'!H291 -> Tổng số phát hiện | I53: ='Huyện-Tổng hợp'!I291 -> Mới phát hiện trong kỳ báo cáo | J53: ='Huyện-Tổng hợp'!J291 -> Tổng số BN đang được quản lý | ... L53: ='Huyện-Tổng hợp'!L291 -> Số BN điều trị đạt hiệu quả trong số BN được quản lý
B54: ='Xã Thiệu Toán'!B54 -> Kết quả
B57: ='Huyện-Tổng hợp'!A334 -> b. Quản lý điều trị Bệnh phổi mạn tính (COPD và Hen) và BKLN khác
C58: ='Huyện-Tổng hợp'!C336:G336 -> Bệnh phổi mạn tính (COPD/Hen) | H58: ='Huyện-Tổng hợp'!H336:L336 -> Bệnh KLN khác
C59: ='Huyện-Tổng hợp'!C337 -> Tổng số phát hiện | D59: ='Huyện-Tổng hợp'!D337 -> Mới phát hiện trong kỳ báo cáo | E59: ='Huyện-Tổng hợp'!E337 -> Tổng số BN đang được quản lý | F59: ='Huyện-Tổng hợp'!F337 -> Số BN được khám và cấp thuốc trong tháng vừa qua trong số BN được quản lý | G59: ='Huyện-Tổng hợp'!G337 -> Số BN điều trị đạt hiệu quả trong số BN được quản lý | H59: ='Huyện-Tổng hợp'!H337 -> Tổng số phát hiện | I59: ='Huyện-Tổng hợp'!I337 -> Mới phát hiện trong kỳ báo cáo | J59: ='Huyện-Tổng hợp'!J337 -> Tổng số BN đang được quản lý | ... L59: ='Huyện-Tổng hợp'!L337 -> Số BN điều trị đạt hiệu quả trong số BN được quản lý
B60: ='Xã Thiệu Toán'!B60 -> Kết quả
A62: ='Huyện-Tổng hợp'!A379 -> V. Báo cáo nguyên nhân tử vong
A64: ='Xã Thiệu Toán'!A64 -> TT | B64: ='Xã Thiệu Toán'!B64 -> Ngày, tháng ghi sổ | C64: ='Xã Thiệu Toán'!C64 -> Họ và tên | E64: ='Xã Thiệu Toán'!E64 -> Tuổi | G64: ='Xã Thiệu Toán'!G64 -> Địa chỉ | H64: ='Xã Thiệu Toán'!H64 -> Nghề nghiệp | I64: ='Xã Thiệu Toán'!I64 -> Dân tộc | J64: ='Xã Thiệu Toán'!J64 -> Ngày tháng tử vong | K64: ='Xã Thiệu Toán'!K64 -> Nơi Tử vong | L64: ='Xã Thiệu Toán'!L64 -> Nguyên nhân chính gây tử vong | N64: ='Xã Thiệu Toán'!N64 -> Mã VN | O64: ='Xã Thiệu Toán'!O64 -> Đã khám/điều trị tại CSYT trong vòng 30 ngày trước khi tử vong | P64: ='Xã Thiệu Toán'!P64 -> Được CBYT chăm sóc khi tử vong | Q64: ='Xã Thiệu Toán'!Q64 -> Được cấp giấy báo tử
E65: ='Xã Thiệu Toán'!E65 -> Nam | F65: ='Xã Thiệu Toán'!F65 -> Nữ
A66: 1
A67: 2
A68: 3
A69: 4
A70: 5
A71: 6
A72: 7
A73: 8
A74: 9
A75: 10
A76: 11
A77: 12
... A95: 30
A97: ='Xã Thiệu Toán'!A96 -> Nhận xét
A99: ='Xã Thiệu Toán'!A98 -> Kiến nghị

Sheet Xã Thiệu Hòa
A1: ='Huyện-Tổng hợp'!A2:C2 -> Mẫu báo cáo TYT xã - X0106 | D1: CỘNG HÒA XÃ HỘI CHỦ NGHĨA VIỆT NAM
D2: Độc lập – Tự do – Hạnh phúc
A3: TTYT huyện: | C3: ='Huyện-Tổng hợp'!B3 -> Thiệu Hóa
A4: TYT xã
A5: ='Xã Thiệu Toán'!A5 -> BÁO CÁO HOẠT ĐỘNG QUẢN LÝ ĐIỀU TRỊ BỆNH KHÔNG LÂY NHIỄM TẠI TRẠM Y TẾ
C6: Tháng | D6: ='Huyện-Tổng hợp'!D7 -> 0 | R6: 0
A7: ='Huyện-Tổng hợp'!A8 -> I. Thông tin chung | R7: 1
A8: ='Xã Thiệu Toán'!A8 -> Dân số:
A9: ='Xã Thiệu Toán'!A9 -> Số người ≥ 18 tuổi:
A10: ='Xã Thiệu Toán'!A10 -> Số người ≥ 40 tuổi:
A11: ='Xã Thiệu Toán'!A11 -> Tổng số thôn bản: | F11: ='Xã Thiệu Toán'!F11 -> Số điện thoại
A12: ='Xã Thiệu Toán'!A12 -> Số thôn bản có YTTB/CTV | F12: ='Xã Thiệu Toán'!F12 -> Email:
A13: ='Xã Thiệu Toán'!A13 -> Số YTTB/CTV
A14: ='Xã Thiệu Toán'!A14 -> Số cán bộ TYT | G14: ='Xã Thiệu Toán'!G14 -> Mầu xanh TYT xã cần nhập thông tin
A15: ='Xã Thiệu Toán'!A15 -> Số y, bác sỹ có CCHN | G15: ='Xã Thiệu Toán'!G15 -> Màu Vàng tự động tính không cần nhập
A16: ='Xã Thiệu Toán'!A16 -> Có bác sỹ làm việc không (Không=0; Có=1) | G16: ='Xã Thiệu Toán'!G16 -> Màu xám không cần nhập
A17: ='Xã Thiệu Toán'!A17 -> Sử dụng sổ theo dõi NCD điện tử (Không=0; Có=1)
A19: ='Huyện-Tổng hợp'!A19 -> II. Kết quả hoạt động phòng chống bệnh không lây nhiễm
A20: ='Huyện-Tổng hợp'!A20 -> 1. Phát hiện người nguy cơ cao, tiền bệnh, nghi ngờ mắc bệnh, mắc bệnh và số người khám sức khỏe định kỳ
A21: ='Xã Thiệu Toán'!A21 -> (Lấy số liệu từ sheet «sàng lọc phát hiện» của sổ theo dõi NCD điện tử)
B22: ='Huyện-Tổng hợp'!B22 -> Số người được đo huyết áp | C22: ='Huyện-Tổng hợp'!C22 -> Số người được xác định nghi ngờ THA (Chỉ số huyết áp ≥140/90) | D22: ='Huyện-Tổng hợp'!D22 -> Số người được sàng lọc nguy cơ ĐTĐ bằng bộ câu hỏi | E22: ='Huyện-Tổng hợp'!E22 -> Số người được phát hiện thừa cân béo phì (BMI≥25 hoặc vòng eo to) | F22: ='Huyện-Tổng hợp'!F22 -> Số người được xác định nguy cơ cao ĐTĐ (≥ 6 điểm) | G22: ='Huyện-Tổng hợp'!G22 -> Số người được xét nghiệm đường huyết | H22: ='Huyện-Tổng hợp'!H22 -> Số người phát hiện nghi ngờ rối loạn đường huyết (ĐH mao mạch ≥ 5.6 mmol/L) | I22: ='Huyện-Tổng hợp'!I22 -> Số người được sàng lọc BPTNMT/ hen phế quản | ... M22: ='Huyện-Tổng hợp'!M22 -> Tỷ lệ % người được khám sức khỏe định kỳ so với tổng dân số ≥ 18 tuổi(70% dân số)
A23: ='Xã Thiệu Toán'!A23 -> Số mới trong tháng | M23: =L23/(0.7*$D$8) -> #DIV/0!
A24: ='Xã Thiệu Toán'!A24 -> Số cộng dồn trong năm | M24: =L24/(0.7*$D$8) -> #DIV/0!
A27: ='Huyện-Tổng hợp'!A61 -> 2. Quản lý điều trị người bệnh tăng huyết áp và đái tháo đường tại các trạm y tế
A28: a. Phát hiện và Quản lý điều trị THA, ĐTĐ trong tháng
B30: ='Huyện-Tổng hợp'!B64 -> Số BN mắc THA ước tính(12% dân số) | E30: =12%*D8 -> 0 | G30: ='Huyện-Tổng hợp'!B112 -> Số BN mắc ĐTĐ ước tính (2% dân số) | J30: =2%*D8 -> 0
B32: ='Huyện-Tổng hợp'!B67 -> Mới phát hiện trong tháng | C32: ='Huyện-Tổng hợp'!C67:D67 -> Tổng số phát hiện cộng dồn | E32: ='Huyện-Tổng hợp'!E67:F67 -> Tổng số BN đến khám và lấy thuốc cộng dồn | G32: ='Huyện-Tổng hợp'!G67:H67 -> BN đến khám và cấp thuốc tháng vừa qua | I32: ='Huyện-Tổng hợp'!I67:J67 -> BN đến khám và cấp thuốc trong tháng vừa qua đạt mục tiêu điều trị (chuẩn 2020) | K32: ='Huyện-Tổng hợp'!K67:L67 -> BN đến khám và cấp thuốc trong tháng vừa qua đạt mục tiêu điều trị (chuẩn cũ)
C33: ='Huyện-Tổng hợp'!C68 -> Số lượng | D33: ='Huyện-Tổng hợp'!D68 -> Tỷ lệ | E33: ='Huyện-Tổng hợp'!E68 -> Số lượng | F33: ='Huyện-Tổng hợp'!F68 -> Tỷ lệ | G33: ='Huyện-Tổng hợp'!G68 -> Số lượng | H33: ='Huyện-Tổng hợp'!H68 -> Tỷ lệ | I33: ='Huyện-Tổng hợp'!I68 -> Số lượng | J33: ='Huyện-Tổng hợp'!J68 -> Tỷ lệ | ... L33: ='Huyện-Tổng hợp'!L68 -> Tỷ lệ
A34: THA | D34: =C34/E30 -> #DIV/0! | F34: =E34/C34 -> #DIV/0! | H34: =G34/E34 -> #DIV/0! | J34: =I34/G34 -> #DIV/0! | L34: =K34/G34 -> #DIV/0!
A35: ĐTĐ | D35: =C35/J30 -> #DIV/0! | F35: =E35/C35 -> #DIV/0! | H35: =G35/E35 -> #DIV/0! | J35: =I35/G35 -> #DIV/0!
A37: b. Phát hiện và Quản lý điều trị THA, ĐTĐ trong kỳ báo cáo 3 tháng, 6 tháng, 9 tháng và 12 tháng
B38: ='Huyện-Tổng hợp'!B161 -> Mới phát hiện trong kỳ báo cáo | C38: ='Huyện-Tổng hợp'!C161:D161 -> Tổng số phát hiện trong kỳ báo cáo (cộng dồn) | E38: ='Huyện-Tổng hợp'!E161:F161 -> Tổng số BN đang được quản lý trong kỳ báo cáo | G38: ='Huyện-Tổng hợp'!G161:H161 -> BN được khám và cấp thuốc tháng cuối của kỳ báo cáo | I38: ='Huyện-Tổng hợp'!I161:J161 -> BN được quản lý điều trị đạt mục tiêu điều trị tại tháng cuối của kỳ báo cáo (chuẩn 2020) | K38: ='Huyện-Tổng hợp'!K161:L161 -> BN được quản lý điều trị đạt mục tiêu điều trị trong quý cuối của kỳ báo cáo (chuẩn 2020) | M38: ='Huyện-Tổng hợp'!M161:N161 -> BN được quản lý tại đạt mục tiêu điều trị trong quý cuối của kỳ báo cáo (chuẩn cũ)
C39: ='Huyện-Tổng hợp'!C162 -> Số lượng | D39: ='Huyện-Tổng hợp'!D162 -> Tỷ lệ | E39: ='Huyện-Tổng hợp'!E162 -> Số lượng | F39: ='Huyện-Tổng hợp'!F162 -> Tỷ lệ | G39: ='Huyện-Tổng hợp'!G162 -> Số lượng | H39: ='Huyện-Tổng hợp'!H162 -> Tỷ lệ | I39: ='Huyện-Tổng hợp'!I162 -> Số lượng | J39: ='Huyện-Tổng hợp'!J162 -> Tỷ lệ | ... N39: ='Huyện-Tổng hợp'!N162 -> Tỷ lệ
A40: THA | C40: =C34 -> 0 | D40: =D34 -> #DIV/0! | F40: =E40/C40 -> #DIV/0! | G40: =G34 -> 0 | H40: =G40/E40 -> #DIV/0! | I40: =I34 -> 0 | J40: =J34 -> #DIV/0! | L40: =K40/E40 -> #DIV/0! | N40: =M40/E40 -> #DIV/0!
A41: ĐTĐ | C41: =C35 -> 0 | D41: =D35 -> #DIV/0! | F41: =E41/C41 -> #DIV/0! | G41: =G35 -> 0 | H41: =G41/E41 -> #DIV/0! | I41: =I35 -> 0 | J41: =J35 -> #DIV/0! | L41: =K41/E41 -> #DIV/0!
A43: ='Huyện-Tổng hợp'!A249 -> III. Tổng hợp cung ứng thuốc tại các TYT
B44: ='Huyện-Tổng hợp'!B251:G251 -> Thuốc điều trị THA | H44: ='Huyện-Tổng hợp'!H251:K251 -> Thuốc điều trị ĐTĐ
B45: ='Huyện-Tổng hợp'!B252:B252 -> Có thuốc chẹn kênh can xi (bao gồm cả viên kết hợp có thành phần này) | C45: ='Huyện-Tổng hợp'!C252:C252 -> Có thuốc ức chế men chuyển và/hoặc ức chế thụ thể (bao gồm cả viên kết hợp có thành phần này) | D45: ='Huyện-Tổng hợp'!D252:D252 -> Có thuốc lợi tiểu thiazide hoặc tương tự (bao gồm cả viên kết hợp có thành phần này) | E45: ='Huyện-Tổng hợp'!E252:E252 -> Có thuốc kết hợp 2 loại đơn chất trên | F45: ='Huyện-Tổng hợp'!F252:F252 -> Có thuốc kết hợp 3 loại đơn chất trên | G45: ='Huyện-Tổng hợp'!G252:G252 -> Có thực hiện cấp thuốc 28-30 ngày cho phần lớn bệnh nhân THA | H45: ='Huyện-Tổng hợp'!H252:H252 -> Có thuốc Metformin | I45: ='Huyện-Tổng hợp'!I252:I252 -> Có thuốc Gliclazide | ... K45: ='Huyện-Tổng hợp'!K252:K252 -> Có thực hiện cấp thuốc 28-30 ngày cho phần lớn bệnh nhân ĐTĐ
A46: ='Xã Thiệu Toán'!A46 -> Có = 1 Không có = 0
A49: ='Huyện-Tổng hợp'!A288 -> IV. Quản lý điều trị các bệnh khác
B51: ='Huyện-Tổng hợp'!A289 -> a. Quản lý điều trị Tâm thần phân liệt và Động kinh
C52: ='Huyện-Tổng hợp'!C290:G290 -> Tâm thần phân liệt | H52: ='Huyện-Tổng hợp'!H290:L290 -> Động kinh
C53: ='Huyện-Tổng hợp'!C291 -> Tổng số phát hiện | D53: ='Huyện-Tổng hợp'!D291 -> Mới phát hiện trong kỳ báo cáo | E53: ='Huyện-Tổng hợp'!E291 -> Tổng số BN đang được quản lý | F53: ='Huyện-Tổng hợp'!F291 -> Số BN được khám và cấp thuốc trong tháng vừa qua trong số BN được quản lý | G53: ='Huyện-Tổng hợp'!G291 -> Số BN điều trị đạt hiệu quả trong số BN được quản lý | H53: ='Huyện-Tổng hợp'!H291 -> Tổng số phát hiện | I53: ='Huyện-Tổng hợp'!I291 -> Mới phát hiện trong kỳ báo cáo | J53: ='Huyện-Tổng hợp'!J291 -> Tổng số BN đang được quản lý | ... L53: ='Huyện-Tổng hợp'!L291 -> Số BN điều trị đạt hiệu quả trong số BN được quản lý
B54: ='Xã Thiệu Toán'!B54 -> Kết quả
B57: ='Huyện-Tổng hợp'!A334 -> b. Quản lý điều trị Bệnh phổi mạn tính (COPD và Hen) và BKLN khác
C58: ='Huyện-Tổng hợp'!C336:G336 -> Bệnh phổi mạn tính (COPD/Hen) | H58: ='Huyện-Tổng hợp'!H336:L336 -> Bệnh KLN khác
C59: ='Huyện-Tổng hợp'!C337 -> Tổng số phát hiện | D59: ='Huyện-Tổng hợp'!D337 -> Mới phát hiện trong kỳ báo cáo | E59: ='Huyện-Tổng hợp'!E337 -> Tổng số BN đang được quản lý | F59: ='Huyện-Tổng hợp'!F337 -> Số BN được khám và cấp thuốc trong tháng vừa qua trong số BN được quản lý | G59: ='Huyện-Tổng hợp'!G337 -> Số BN điều trị đạt hiệu quả trong số BN được quản lý | H59: ='Huyện-Tổng hợp'!H337 -> Tổng số phát hiện | I59: ='Huyện-Tổng hợp'!I337 -> Mới phát hiện trong kỳ báo cáo | J59: ='Huyện-Tổng hợp'!J337 -> Tổng số BN đang được quản lý | ... L59: ='Huyện-Tổng hợp'!L337 -> Số BN điều trị đạt hiệu quả trong số BN được quản lý
B60: ='Xã Thiệu Toán'!B60 -> Kết quả
A62: ='Huyện-Tổng hợp'!A379 -> V. Báo cáo nguyên nhân tử vong
A64: ='Xã Thiệu Toán'!A64 -> TT | B64: ='Xã Thiệu Toán'!B64 -> Ngày, tháng ghi sổ | C64: ='Xã Thiệu Toán'!C64 -> Họ và tên | E64: ='Xã Thiệu Toán'!E64 -> Tuổi | G64: ='Xã Thiệu Toán'!G64 -> Địa chỉ | H64: ='Xã Thiệu Toán'!H64 -> Nghề nghiệp | I64: ='Xã Thiệu Toán'!I64 -> Dân tộc | J64: ='Xã Thiệu Toán'!J64 -> Ngày tháng tử vong | K64: ='Xã Thiệu Toán'!K64 -> Nơi Tử vong | L64: ='Xã Thiệu Toán'!L64 -> Nguyên nhân chính gây tử vong | N64: ='Xã Thiệu Toán'!N64 -> Mã VN | O64: ='Xã Thiệu Toán'!O64 -> Đã khám/điều trị tại CSYT trong vòng 30 ngày trước khi tử vong | P64: ='Xã Thiệu Toán'!P64 -> Được CBYT chăm sóc khi tử vong | Q64: ='Xã Thiệu Toán'!Q64 -> Được cấp giấy báo tử
E65: ='Xã Thiệu Toán'!E65 -> Nam | F65: ='Xã Thiệu Toán'!F65 -> Nữ
A66: 1
A67: 2
A68: 3
A69: 4
A70: 5
A71: 6
A72: 7
A73: 8
A74: 9
A75: 10
A76: 11
A77: 12
... A95: 30
A97: ='Xã Thiệu Toán'!A96 -> Nhận xét
A99: ='Xã Thiệu Toán'!A98 -> Kiến nghị

Sheet Xã Minh Tâm
A1: ='Huyện-Tổng hợp'!A2:C2 -> Mẫu báo cáo TYT xã - X0106 | D1: CỘNG HÒA XÃ HỘI CHỦ NGHĨA VIỆT NAM
D2: Độc lập – Tự do – Hạnh phúc
A3: TTYT huyện: | C3: ='Huyện-Tổng hợp'!B3 -> Thiệu Hóa
A4: TYT xã
A5: ='Xã Thiệu Toán'!A5 -> BÁO CÁO HOẠT ĐỘNG QUẢN LÝ ĐIỀU TRỊ BỆNH KHÔNG LÂY NHIỄM TẠI TRẠM Y TẾ
C6: Tháng | D6: ='Huyện-Tổng hợp'!D7 -> 0 | R6: 0
A7: ='Huyện-Tổng hợp'!A8 -> I. Thông tin chung | R7: 1
A8: ='Xã Thiệu Toán'!A8 -> Dân số:
A9: ='Xã Thiệu Toán'!A9 -> Số người ≥ 18 tuổi:
A10: ='Xã Thiệu Toán'!A10 -> Số người ≥ 40 tuổi:
A11: ='Xã Thiệu Toán'!A11 -> Tổng số thôn bản: | F11: ='Xã Thiệu Toán'!F11 -> Số điện thoại
A12: ='Xã Thiệu Toán'!A12 -> Số thôn bản có YTTB/CTV | F12: ='Xã Thiệu Toán'!F12 -> Email:
A13: ='Xã Thiệu Toán'!A13 -> Số YTTB/CTV
A14: ='Xã Thiệu Toán'!A14 -> Số cán bộ TYT | G14: ='Xã Thiệu Toán'!G14 -> Mầu xanh TYT xã cần nhập thông tin
A15: ='Xã Thiệu Toán'!A15 -> Số y, bác sỹ có CCHN | G15: ='Xã Thiệu Toán'!G15 -> Màu Vàng tự động tính không cần nhập
A16: ='Xã Thiệu Toán'!A16 -> Có bác sỹ làm việc không (Không=0; Có=1) | G16: ='Xã Thiệu Toán'!G16 -> Màu xám không cần nhập
A17: ='Xã Thiệu Toán'!A17 -> Sử dụng sổ theo dõi NCD điện tử (Không=0; Có=1)
A19: ='Huyện-Tổng hợp'!A19 -> II. Kết quả hoạt động phòng chống bệnh không lây nhiễm
A20: ='Huyện-Tổng hợp'!A20 -> 1. Phát hiện người nguy cơ cao, tiền bệnh, nghi ngờ mắc bệnh, mắc bệnh và số người khám sức khỏe định kỳ
A21: ='Xã Thiệu Toán'!A21 -> (Lấy số liệu từ sheet «sàng lọc phát hiện» của sổ theo dõi NCD điện tử)
B22: ='Huyện-Tổng hợp'!B22 -> Số người được đo huyết áp | C22: ='Huyện-Tổng hợp'!C22 -> Số người được xác định nghi ngờ THA (Chỉ số huyết áp ≥140/90) | D22: ='Huyện-Tổng hợp'!D22 -> Số người được sàng lọc nguy cơ ĐTĐ bằng bộ câu hỏi | E22: ='Huyện-Tổng hợp'!E22 -> Số người được phát hiện thừa cân béo phì (BMI≥25 hoặc vòng eo to) | F22: ='Huyện-Tổng hợp'!F22 -> Số người được xác định nguy cơ cao ĐTĐ (≥ 6 điểm) | G22: ='Huyện-Tổng hợp'!G22 -> Số người được xét nghiệm đường huyết | H22: ='Huyện-Tổng hợp'!H22 -> Số người phát hiện nghi ngờ rối loạn đường huyết (ĐH mao mạch ≥ 5.6 mmol/L) | I22: ='Huyện-Tổng hợp'!I22 -> Số người được sàng lọc BPTNMT/ hen phế quản | ... M22: ='Huyện-Tổng hợp'!M22 -> Tỷ lệ % người được khám sức khỏe định kỳ so với tổng dân số ≥ 18 tuổi(70% dân số)
A23: ='Xã Thiệu Toán'!A23 -> Số mới trong tháng | M23: =L23/(0.7*$D$8) -> #DIV/0!
A24: ='Xã Thiệu Toán'!A24 -> Số cộng dồn trong năm | M24: =L24/(0.7*$D$8) -> #DIV/0!
A27: ='Huyện-Tổng hợp'!A61 -> 2. Quản lý điều trị người bệnh tăng huyết áp và đái tháo đường tại các trạm y tế
A28: a. Phát hiện và Quản lý điều trị THA, ĐTĐ trong tháng
B30: ='Huyện-Tổng hợp'!B64 -> Số BN mắc THA ước tính(12% dân số) | E30: =12%*D8 -> 0 | G30: ='Huyện-Tổng hợp'!B112 -> Số BN mắc ĐTĐ ước tính (2% dân số) | J30: =2%*D8 -> 0
B32: ='Huyện-Tổng hợp'!B67 -> Mới phát hiện trong tháng | C32: ='Huyện-Tổng hợp'!C67:D67 -> Tổng số phát hiện cộng dồn | E32: ='Huyện-Tổng hợp'!E67:F67 -> Tổng số BN đến khám và lấy thuốc cộng dồn | G32: ='Huyện-Tổng hợp'!G67:H67 -> BN đến khám và cấp thuốc tháng vừa qua | I32: ='Huyện-Tổng hợp'!I67:J67 -> BN đến khám và cấp thuốc trong tháng vừa qua đạt mục tiêu điều trị (chuẩn 2020) | K32: ='Huyện-Tổng hợp'!K67:L67 -> BN đến khám và cấp thuốc trong tháng vừa qua đạt mục tiêu điều trị (chuẩn cũ)
C33: ='Huyện-Tổng hợp'!C68 -> Số lượng | D33: ='Huyện-Tổng hợp'!D68 -> Tỷ lệ | E33: ='Huyện-Tổng hợp'!E68 -> Số lượng | F33: ='Huyện-Tổng hợp'!F68 -> Tỷ lệ | G33: ='Huyện-Tổng hợp'!G68 -> Số lượng | H33: ='Huyện-Tổng hợp'!H68 -> Tỷ lệ | I33: ='Huyện-Tổng hợp'!I68 -> Số lượng | J33: ='Huyện-Tổng hợp'!J68 -> Tỷ lệ | ... L33: ='Huyện-Tổng hợp'!L68 -> Tỷ lệ
A34: THA | D34: =C34/E30 -> #DIV/0! | F34: =E34/C34 -> #DIV/0! | H34: =G34/E34 -> #DIV/0! | J34: =I34/G34 -> #DIV/0! | L34: =K34/G34 -> #DIV/0!
A35: ĐTĐ | D35: =C35/J30 -> #DIV/0! | F35: =E35/C35 -> #DIV/0! | H35: =G35/E35 -> #DIV/0! | J35: =I35/G35 -> #DIV/0!
A37: b. Phát hiện và Quản lý điều trị THA, ĐTĐ trong kỳ báo cáo 3 tháng, 6 tháng, 9 tháng và 12 tháng
B38: ='Huyện-Tổng hợp'!B161 -> Mới phát hiện trong kỳ báo cáo | C38: ='Huyện-Tổng hợp'!C161:D161 -> Tổng số phát hiện trong kỳ báo cáo (cộng dồn) | E38: ='Huyện-Tổng hợp'!E161:F161 -> Tổng số BN đang được quản lý trong kỳ báo cáo | G38: ='Huyện-Tổng hợp'!G161:H161 -> BN được khám và cấp thuốc tháng cuối của kỳ báo cáo | I38: ='Huyện-Tổng hợp'!I161:J161 -> BN được quản lý điều trị đạt mục tiêu điều trị tại tháng cuối của kỳ báo cáo (chuẩn 2020) | K38: ='Huyện-Tổng hợp'!K161:L161 -> BN được quản lý điều trị đạt mục tiêu điều trị trong quý cuối của kỳ báo cáo (chuẩn 2020) | M38: ='Huyện-Tổng hợp'!M161:N161 -> BN được quản lý tại đạt mục tiêu điều trị trong quý cuối của kỳ báo cáo (chuẩn cũ)
C39: ='Huyện-Tổng hợp'!C162 -> Số lượng | D39: ='Huyện-Tổng hợp'!D162 -> Tỷ lệ | E39: ='Huyện-Tổng hợp'!E162 -> Số lượng | F39: ='Huyện-Tổng hợp'!F162 -> Tỷ lệ | G39: ='Huyện-Tổng hợp'!G162 -> Số lượng | H39: ='Huyện-Tổng hợp'!H162 -> Tỷ lệ | I39: ='Huyện-Tổng hợp'!I162 -> Số lượng | J39: ='Huyện-Tổng hợp'!J162 -> Tỷ lệ | ... N39: ='Huyện-Tổng hợp'!N162 -> Tỷ lệ
A40: THA | C40: =C34 -> 0 | D40: =D34 -> #DIV/0! | F40: =E40/C40 -> #DIV/0! | G40: =G34 -> 0 | H40: =G40/E40 -> #DIV/0! | I40: =I34 -> 0 | J40: =J34 -> #DIV/0! | L40: =K40/E40 -> #DIV/0! | N40: =M40/E40 -> #DIV/0!
A41: ĐTĐ | C41: =C35 -> 0 | D41: =D35 -> #DIV/0! | F41: =E41/C41 -> #DIV/0! | G41: =G35 -> 0 | H41: =G41/E41 -> #DIV/0! | I41: =I35 -> 0 | J41: =J35 -> #DIV/0! | L41: =K41/E41 -> #DIV/0!
A43: ='Huyện-Tổng hợp'!A249 -> III. Tổng hợp cung ứng thuốc tại các TYT
B44: ='Huyện-Tổng hợp'!B251:G251 -> Thuốc điều trị THA | H44: ='Huyện-Tổng hợp'!H251:K251 -> Thuốc điều trị ĐTĐ
B45: ='Huyện-Tổng hợp'!B252:B252 -> Có thuốc chẹn kênh can xi (bao gồm cả viên kết hợp có thành phần này) | C45: ='Huyện-Tổng hợp'!C252:C252 -> Có thuốc ức chế men chuyển và/hoặc ức chế thụ thể (bao gồm cả viên kết hợp có thành phần này) | D45: ='Huyện-Tổng hợp'!D252:D252 -> Có thuốc lợi tiểu thiazide hoặc tương tự (bao gồm cả viên kết hợp có thành phần này) | E45: ='Huyện-Tổng hợp'!E252:E252 -> Có thuốc kết hợp 2 loại đơn chất trên | F45: ='Huyện-Tổng hợp'!F252:F252 -> Có thuốc kết hợp 3 loại đơn chất trên | G45: ='Huyện-Tổng hợp'!G252:G252 -> Có thực hiện cấp thuốc 28-30 ngày cho phần lớn bệnh nhân THA | H45: ='Huyện-Tổng hợp'!H252:H252 -> Có thuốc Metformin | I45: ='Huyện-Tổng hợp'!I252:I252 -> Có thuốc Gliclazide | ... K45: ='Huyện-Tổng hợp'!K252:K252 -> Có thực hiện cấp thuốc 28-30 ngày cho phần lớn bệnh nhân ĐTĐ
A46: ='Xã Thiệu Toán'!A46 -> Có = 1 Không có = 0
A49: ='Huyện-Tổng hợp'!A288 -> IV. Quản lý điều trị các bệnh khác
B51: ='Huyện-Tổng hợp'!A289 -> a. Quản lý điều trị Tâm thần phân liệt và Động kinh
C52: ='Huyện-Tổng hợp'!C290:G290 -> Tâm thần phân liệt | H52: ='Huyện-Tổng hợp'!H290:L290 -> Động kinh
C53: ='Huyện-Tổng hợp'!C291 -> Tổng số phát hiện | D53: ='Huyện-Tổng hợp'!D291 -> Mới phát hiện trong kỳ báo cáo | E53: ='Huyện-Tổng hợp'!E291 -> Tổng số BN đang được quản lý | F53: ='Huyện-Tổng hợp'!F291 -> Số BN được khám và cấp thuốc trong tháng vừa qua trong số BN được quản lý | G53: ='Huyện-Tổng hợp'!G291 -> Số BN điều trị đạt hiệu quả trong số BN được quản lý | H53: ='Huyện-Tổng hợp'!H291 -> Tổng số phát hiện | I53: ='Huyện-Tổng hợp'!I291 -> Mới phát hiện trong kỳ báo cáo | J53: ='Huyện-Tổng hợp'!J291 -> Tổng số BN đang được quản lý | ... L53: ='Huyện-Tổng hợp'!L291 -> Số BN điều trị đạt hiệu quả trong số BN được quản lý
B54: ='Xã Thiệu Toán'!B54 -> Kết quả
B57: ='Huyện-Tổng hợp'!A334 -> b. Quản lý điều trị Bệnh phổi mạn tính (COPD và Hen) và BKLN khác
C58: ='Huyện-Tổng hợp'!C336:G336 -> Bệnh phổi mạn tính (COPD/Hen) | H58: ='Huyện-Tổng hợp'!H336:L336 -> Bệnh KLN khác
C59: ='Huyện-Tổng hợp'!C337 -> Tổng số phát hiện | D59: ='Huyện-Tổng hợp'!D337 -> Mới phát hiện trong kỳ báo cáo | E59: ='Huyện-Tổng hợp'!E337 -> Tổng số BN đang được quản lý | F59: ='Huyện-Tổng hợp'!F337 -> Số BN được khám và cấp thuốc trong tháng vừa qua trong số BN được quản lý | G59: ='Huyện-Tổng hợp'!G337 -> Số BN điều trị đạt hiệu quả trong số BN được quản lý | H59: ='Huyện-Tổng hợp'!H337 -> Tổng số phát hiện | I59: ='Huyện-Tổng hợp'!I337 -> Mới phát hiện trong kỳ báo cáo | J59: ='Huyện-Tổng hợp'!J337 -> Tổng số BN đang được quản lý | ... L59: ='Huyện-Tổng hợp'!L337 -> Số BN điều trị đạt hiệu quả trong số BN được quản lý
B60: ='Xã Thiệu Toán'!B60 -> Kết quả
A62: ='Huyện-Tổng hợp'!A379 -> V. Báo cáo nguyên nhân tử vong
A64: ='Xã Thiệu Toán'!A64 -> TT | B64: ='Xã Thiệu Toán'!B64 -> Ngày, tháng ghi sổ | C64: ='Xã Thiệu Toán'!C64 -> Họ và tên | E64: ='Xã Thiệu Toán'!E64 -> Tuổi | G64: ='Xã Thiệu Toán'!G64 -> Địa chỉ | H64: ='Xã Thiệu Toán'!H64 -> Nghề nghiệp | I64: ='Xã Thiệu Toán'!I64 -> Dân tộc | J64: ='Xã Thiệu Toán'!J64 -> Ngày tháng tử vong | K64: ='Xã Thiệu Toán'!K64 -> Nơi Tử vong | L64: ='Xã Thiệu Toán'!L64 -> Nguyên nhân chính gây tử vong | N64: ='Xã Thiệu Toán'!N64 -> Mã VN | O64: ='Xã Thiệu Toán'!O64 -> Đã khám/điều trị tại CSYT trong vòng 30 ngày trước khi tử vong | P64: ='Xã Thiệu Toán'!P64 -> Được CBYT chăm sóc khi tử vong | Q64: ='Xã Thiệu Toán'!Q64 -> Được cấp giấy báo tử
E65: ='Xã Thiệu Toán'!E65 -> Nam | F65: ='Xã Thiệu Toán'!F65 -> Nữ
A66: 1
A67: 2
A68: 3
A69: 4
A70: 5
A71: 6
A72: 7
A73: 8
A74: 9
A75: 10
A76: 11
A77: 12
... A95: 30
A97: ='Xã Thiệu Toán'!A96 -> Nhận xét
A99: ='Xã Thiệu Toán'!A98 -> Kiến nghị

Sheet Xã Thiệu Viên 
A1: ='Huyện-Tổng hợp'!A2:C2 -> Mẫu báo cáo TYT xã - X0106 | D1: CỘNG HÒA XÃ HỘI CHỦ NGHĨA VIỆT NAM
D2: Độc lập – Tự do – Hạnh phúc
A3: TTYT huyện: | C3: ='Huyện-Tổng hợp'!B3 -> Thiệu Hóa
A4: TYT xã
A5: ='Xã Thiệu Toán'!A5 -> BÁO CÁO HOẠT ĐỘNG QUẢN LÝ ĐIỀU TRỊ BỆNH KHÔNG LÂY NHIỄM TẠI TRẠM Y TẾ
C6: Tháng | D6: ='Huyện-Tổng hợp'!D7 -> 0 | R6: 0
A7: ='Huyện-Tổng hợp'!A8 -> I. Thông tin chung | R7: 1
A8: ='Xã Thiệu Toán'!A8 -> Dân số:
A9: ='Xã Thiệu Toán'!A9 -> Số người ≥ 18 tuổi:
A10: ='Xã Thiệu Toán'!A10 -> Số người ≥ 40 tuổi:
A11: ='Xã Thiệu Toán'!A11 -> Tổng số thôn bản: | F11: ='Xã Thiệu Toán'!F11 -> Số điện thoại
A12: ='Xã Thiệu Toán'!A12 -> Số thôn bản có YTTB/CTV | F12: ='Xã Thiệu Toán'!F12 -> Email:
A13: ='Xã Thiệu Toán'!A13 -> Số YTTB/CTV
A14: ='Xã Thiệu Toán'!A14 -> Số cán bộ TYT | G14: ='Xã Thiệu Toán'!G14 -> Mầu xanh TYT xã cần nhập thông tin
A15: ='Xã Thiệu Toán'!A15 -> Số y, bác sỹ có CCHN | G15: ='Xã Thiệu Toán'!G15 -> Màu Vàng tự động tính không cần nhập
A16: ='Xã Thiệu Toán'!A16 -> Có bác sỹ làm việc không (Không=0; Có=1) | G16: ='Xã Thiệu Toán'!G16 -> Màu xám không cần nhập
A17: ='Xã Thiệu Toán'!A17 -> Sử dụng sổ theo dõi NCD điện tử (Không=0; Có=1)
A19: ='Huyện-Tổng hợp'!A19 -> II. Kết quả hoạt động phòng chống bệnh không lây nhiễm
A20: ='Huyện-Tổng hợp'!A20 -> 1. Phát hiện người nguy cơ cao, tiền bệnh, nghi ngờ mắc bệnh, mắc bệnh và số người khám sức khỏe định kỳ
A21: ='Xã Thiệu Toán'!A21 -> (Lấy số liệu từ sheet «sàng lọc phát hiện» của sổ theo dõi NCD điện tử)
B22: ='Huyện-Tổng hợp'!B22 -> Số người được đo huyết áp | C22: ='Huyện-Tổng hợp'!C22 -> Số người được xác định nghi ngờ THA (Chỉ số huyết áp ≥140/90) | D22: ='Huyện-Tổng hợp'!D22 -> Số người được sàng lọc nguy cơ ĐTĐ bằng bộ câu hỏi | E22: ='Huyện-Tổng hợp'!E22 -> Số người được phát hiện thừa cân béo phì (BMI≥25 hoặc vòng eo to) | F22: ='Huyện-Tổng hợp'!F22 -> Số người được xác định nguy cơ cao ĐTĐ (≥ 6 điểm) | G22: ='Huyện-Tổng hợp'!G22 -> Số người được xét nghiệm đường huyết | H22: ='Huyện-Tổng hợp'!H22 -> Số người phát hiện nghi ngờ rối loạn đường huyết (ĐH mao mạch ≥ 5.6 mmol/L) | I22: ='Huyện-Tổng hợp'!I22 -> Số người được sàng lọc BPTNMT/ hen phế quản | ... M22: ='Huyện-Tổng hợp'!M22 -> Tỷ lệ % người được khám sức khỏe định kỳ so với tổng dân số ≥ 18 tuổi(70% dân số)
A23: ='Xã Thiệu Toán'!A23 -> Số mới trong tháng | M23: =L23/(0.7*$D$8) -> #DIV/0!
A24: ='Xã Thiệu Toán'!A24 -> Số cộng dồn trong năm | M24: =L24/(0.7*$D$8) -> #DIV/0!
A27: ='Huyện-Tổng hợp'!A61 -> 2. Quản lý điều trị người bệnh tăng huyết áp và đái tháo đường tại các trạm y tế
A28: a. Phát hiện và Quản lý điều trị THA, ĐTĐ trong tháng
B30: ='Huyện-Tổng hợp'!B64 -> Số BN mắc THA ước tính(12% dân số) | E30: =12%*D8 -> 0 | G30: ='Huyện-Tổng hợp'!B112 -> Số BN mắc ĐTĐ ước tính (2% dân số) | J30: =2%*D8 -> 0
B32: ='Huyện-Tổng hợp'!B67 -> Mới phát hiện trong tháng | C32: ='Huyện-Tổng hợp'!C67:D67 -> Tổng số phát hiện cộng dồn | E32: ='Huyện-Tổng hợp'!E67:F67 -> Tổng số BN đến khám và lấy thuốc cộng dồn | G32: ='Huyện-Tổng hợp'!G67:H67 -> BN đến khám và cấp thuốc tháng vừa qua | I32: ='Huyện-Tổng hợp'!I67:J67 -> BN đến khám và cấp thuốc trong tháng vừa qua đạt mục tiêu điều trị (chuẩn 2020) | K32: ='Huyện-Tổng hợp'!K67:L67 -> BN đến khám và cấp thuốc trong tháng vừa qua đạt mục tiêu điều trị (chuẩn cũ)
C33: ='Huyện-Tổng hợp'!C68 -> Số lượng | D33: ='Huyện-Tổng hợp'!D68 -> Tỷ lệ | E33: ='Huyện-Tổng hợp'!E68 -> Số lượng | F33: ='Huyện-Tổng hợp'!F68 -> Tỷ lệ | G33: ='Huyện-Tổng hợp'!G68 -> Số lượng | H33: ='Huyện-Tổng hợp'!H68 -> Tỷ lệ | I33: ='Huyện-Tổng hợp'!I68 -> Số lượng | J33: ='Huyện-Tổng hợp'!J68 -> Tỷ lệ | ... L33: ='Huyện-Tổng hợp'!L68 -> Tỷ lệ
A34: THA | D34: =C34/E30 -> #DIV/0! | F34: =E34/C34 -> #DIV/0! | H34: =G34/E34 -> #DIV/0! | J34: =I34/G34 -> #DIV/0! | L34: =K34/G34 -> #DIV/0!
A35: ĐTĐ | D35: =C35/J30 -> #DIV/0! | F35: =E35/C35 -> #DIV/0! | H35: =G35/E35 -> #DIV/0! | J35: =I35/G35 -> #DIV/0!
A37: b. Phát hiện và Quản lý điều trị THA, ĐTĐ trong kỳ báo cáo 3 tháng, 6 tháng, 9 tháng và 12 tháng
B38: ='Huyện-Tổng hợp'!B161 -> Mới phát hiện trong kỳ báo cáo | C38: ='Huyện-Tổng hợp'!C161:D161 -> Tổng số phát hiện trong kỳ báo cáo (cộng dồn) | E38: ='Huyện-Tổng hợp'!E161:F161 -> Tổng số BN đang được quản lý trong kỳ báo cáo | G38: ='Huyện-Tổng hợp'!G161:H161 -> BN được khám và cấp thuốc tháng cuối của kỳ báo cáo | I38: ='Huyện-Tổng hợp'!I161:J161 -> BN được quản lý điều trị đạt mục tiêu điều trị tại tháng cuối của kỳ báo cáo (chuẩn 2020) | K38: ='Huyện-Tổng hợp'!K161:L161 -> BN được quản lý điều trị đạt mục tiêu điều trị trong quý cuối của kỳ báo cáo (chuẩn 2020) | M38: ='Huyện-Tổng hợp'!M161:N161 -> BN được quản lý tại đạt mục tiêu điều trị trong quý cuối của kỳ báo cáo (chuẩn cũ)
C39: ='Huyện-Tổng hợp'!C162 -> Số lượng | D39: ='Huyện-Tổng hợp'!D162 -> Tỷ lệ | E39: ='Huyện-Tổng hợp'!E162 -> Số lượng | F39: ='Huyện-Tổng hợp'!F162 -> Tỷ lệ | G39: ='Huyện-Tổng hợp'!G162 -> Số lượng | H39: ='Huyện-Tổng hợp'!H162 -> Tỷ lệ | I39: ='Huyện-Tổng hợp'!I162 -> Số lượng | J39: ='Huyện-Tổng hợp'!J162 -> Tỷ lệ | ... N39: ='Huyện-Tổng hợp'!N162 -> Tỷ lệ
A40: THA | C40: =C34 -> 0 | D40: =D34 -> #DIV/0! | F40: =E40/C40 -> #DIV/0! | G40: =G34 -> 0 | H40: =G40/E40 -> #DIV/0! | I40: =I34 -> 0 | J40: =J34 -> #DIV/0! | L40: =K40/E40 -> #DIV/0! | N40: =M40/E40 -> #DIV/0!
A41: ĐTĐ | C41: =C35 -> 0 | D41: =D35 -> #DIV/0! | F41: =E41/C41 -> #DIV/0! | G41: =G35 -> 0 | H41: =G41/E41 -> #DIV/0! | I41: =I35 -> 0 | J41: =J35 -> #DIV/0! | L41: =K41/E41 -> #DIV/0!
A43: ='Huyện-Tổng hợp'!A249 -> III. Tổng hợp cung ứng thuốc tại các TYT
B44: ='Huyện-Tổng hợp'!B251:G251 -> Thuốc điều trị THA | H44: ='Huyện-Tổng hợp'!H251:K251 -> Thuốc điều trị ĐTĐ
B45: ='Huyện-Tổng hợp'!B252:B252 -> Có thuốc chẹn kênh can xi (bao gồm cả viên kết hợp có thành phần này) | C45: ='Huyện-Tổng hợp'!C252:C252 -> Có thuốc ức chế men chuyển và/hoặc ức chế thụ thể (bao gồm cả viên kết hợp có thành phần này) | D45: ='Huyện-Tổng hợp'!D252:D252 -> Có thuốc lợi tiểu thiazide hoặc tương tự (bao gồm cả viên kết hợp có thành phần này) | E45: ='Huyện-Tổng hợp'!E252:E252 -> Có thuốc kết hợp 2 loại đơn chất trên | F45: ='Huyện-Tổng hợp'!F252:F252 -> Có thuốc kết hợp 3 loại đơn chất trên | G45: ='Huyện-Tổng hợp'!G252:G252 -> Có thực hiện cấp thuốc 28-30 ngày cho phần lớn bệnh nhân THA | H45: ='Huyện-Tổng hợp'!H252:H252 -> Có thuốc Metformin | I45: ='Huyện-Tổng hợp'!I252:I252 -> Có thuốc Gliclazide | ... K45: ='Huyện-Tổng hợp'!K252:K252 -> Có thực hiện cấp thuốc 28-30 ngày cho phần lớn bệnh nhân ĐTĐ
A46: ='Xã Thiệu Toán'!A46 -> Có = 1 Không có = 0
A49: ='Huyện-Tổng hợp'!A288 -> IV. Quản lý điều trị các bệnh khác
B51: ='Huyện-Tổng hợp'!A289 -> a. Quản lý điều trị Tâm thần phân liệt và Động kinh
C52: ='Huyện-Tổng hợp'!C290:G290 -> Tâm thần phân liệt | H52: ='Huyện-Tổng hợp'!H290:L290 -> Động kinh
C53: ='Huyện-Tổng hợp'!C291 -> Tổng số phát hiện | D53: ='Huyện-Tổng hợp'!D291 -> Mới phát hiện trong kỳ báo cáo | E53: ='Huyện-Tổng hợp'!E291 -> Tổng số BN đang được quản lý | F53: ='Huyện-Tổng hợp'!F291 -> Số BN được khám và cấp thuốc trong tháng vừa qua trong số BN được quản lý | G53: ='Huyện-Tổng hợp'!G291 -> Số BN điều trị đạt hiệu quả trong số BN được quản lý | H53: ='Huyện-Tổng hợp'!H291 -> Tổng số phát hiện | I53: ='Huyện-Tổng hợp'!I291 -> Mới phát hiện trong kỳ báo cáo | J53: ='Huyện-Tổng hợp'!J291 -> Tổng số BN đang được quản lý | ... L53: ='Huyện-Tổng hợp'!L291 -> Số BN điều trị đạt hiệu quả trong số BN được quản lý
B54: ='Xã Thiệu Toán'!B54 -> Kết quả
B57: ='Huyện-Tổng hợp'!A334 -> b. Quản lý điều trị Bệnh phổi mạn tính (COPD và Hen) và BKLN khác
C58: ='Huyện-Tổng hợp'!C336:G336 -> Bệnh phổi mạn tính (COPD/Hen) | H58: ='Huyện-Tổng hợp'!H336:L336 -> Bệnh KLN khác
C59: ='Huyện-Tổng hợp'!C337 -> Tổng số phát hiện | D59: ='Huyện-Tổng hợp'!D337 -> Mới phát hiện trong kỳ báo cáo | E59: ='Huyện-Tổng hợp'!E337 -> Tổng số BN đang được quản lý | F59: ='Huyện-Tổng hợp'!F337 -> Số BN được khám và cấp thuốc trong tháng vừa qua trong số BN được quản lý | G59: ='Huyện-Tổng hợp'!G337 -> Số BN điều trị đạt hiệu quả trong số BN được quản lý | H59: ='Huyện-Tổng hợp'!H337 -> Tổng số phát hiện | I59: ='Huyện-Tổng hợp'!I337 -> Mới phát hiện trong kỳ báo cáo | J59: ='Huyện-Tổng hợp'!J337 -> Tổng số BN đang được quản lý | ... L59: ='Huyện-Tổng hợp'!L337 -> Số BN điều trị đạt hiệu quả trong số BN được quản lý
B60: ='Xã Thiệu Toán'!B60 -> Kết quả
A62: ='Huyện-Tổng hợp'!A379 -> V. Báo cáo nguyên nhân tử vong
A64: ='Xã Thiệu Toán'!A64 -> TT | B64: ='Xã Thiệu Toán'!B64 -> Ngày, tháng ghi sổ | C64: ='Xã Thiệu Toán'!C64 -> Họ và tên | E64: ='Xã Thiệu Toán'!E64 -> Tuổi | G64: ='Xã Thiệu Toán'!G64 -> Địa chỉ | H64: ='Xã Thiệu Toán'!H64 -> Nghề nghiệp | I64: ='Xã Thiệu Toán'!I64 -> Dân tộc | J64: ='Xã Thiệu Toán'!J64 -> Ngày tháng tử vong | K64: ='Xã Thiệu Toán'!K64 -> Nơi Tử vong | L64: ='Xã Thiệu Toán'!L64 -> Nguyên nhân chính gây tử vong | N64: ='Xã Thiệu Toán'!N64 -> Mã VN | O64: ='Xã Thiệu Toán'!O64 -> Đã khám/điều trị tại CSYT trong vòng 30 ngày trước khi tử vong | P64: ='Xã Thiệu Toán'!P64 -> Được CBYT chăm sóc khi tử vong | Q64: ='Xã Thiệu Toán'!Q64 -> Được cấp giấy báo tử
E65: ='Xã Thiệu Toán'!E65 -> Nam | F65: ='Xã Thiệu Toán'!F65 -> Nữ
A66: 1
A67: 2
A68: 3
A69: 4
A70: 5
A71: 6
A72: 7
A73: 8
A74: 9
A75: 10
A76: 11
A77: 12
... A95: 30
A97: ='Xã Thiệu Toán'!A96 -> Nhận xét
A99: ='Xã Thiệu Toán'!A98 -> Kiến nghị

Sheet Xã Thiệu Lý
A1: ='Huyện-Tổng hợp'!A2:C2 -> Mẫu báo cáo TYT xã - X0106 | D1: CỘNG HÒA XÃ HỘI CHỦ NGHĨA VIỆT NAM
D2: Độc lập – Tự do – Hạnh phúc
A3: TTYT huyện: | C3: ='Huyện-Tổng hợp'!B3 -> Thiệu Hóa
A4: TYT xã
A5: ='Xã Thiệu Toán'!A5 -> BÁO CÁO HOẠT ĐỘNG QUẢN LÝ ĐIỀU TRỊ BỆNH KHÔNG LÂY NHIỄM TẠI TRẠM Y TẾ
C6: Tháng | D6: ='Huyện-Tổng hợp'!D7 -> 0 | R6: 0
A7: ='Huyện-Tổng hợp'!A8 -> I. Thông tin chung | R7: 1
A8: ='Xã Thiệu Toán'!A8 -> Dân số:
A9: ='Xã Thiệu Toán'!A9 -> Số người ≥ 18 tuổi:
A10: ='Xã Thiệu Toán'!A10 -> Số người ≥ 40 tuổi:
A11: ='Xã Thiệu Toán'!A11 -> Tổng số thôn bản: | F11: ='Xã Thiệu Toán'!F11 -> Số điện thoại
A12: ='Xã Thiệu Toán'!A12 -> Số thôn bản có YTTB/CTV | F12: ='Xã Thiệu Toán'!F12 -> Email:
A13: ='Xã Thiệu Toán'!A13 -> Số YTTB/CTV
A14: ='Xã Thiệu Toán'!A14 -> Số cán bộ TYT | G14: ='Xã Thiệu Toán'!G14 -> Mầu xanh TYT xã cần nhập thông tin
A15: ='Xã Thiệu Toán'!A15 -> Số y, bác sỹ có CCHN | G15: ='Xã Thiệu Toán'!G15 -> Màu Vàng tự động tính không cần nhập
A16: ='Xã Thiệu Toán'!A16 -> Có bác sỹ làm việc không (Không=0; Có=1) | G16: ='Xã Thiệu Toán'!G16 -> Màu xám không cần nhập
A17: ='Xã Thiệu Toán'!A17 -> Sử dụng sổ theo dõi NCD điện tử (Không=0; Có=1)
A19: ='Huyện-Tổng hợp'!A19 -> II. Kết quả hoạt động phòng chống bệnh không lây nhiễm
A20: ='Huyện-Tổng hợp'!A20 -> 1. Phát hiện người nguy cơ cao, tiền bệnh, nghi ngờ mắc bệnh, mắc bệnh và số người khám sức khỏe định kỳ
A21: ='Xã Thiệu Toán'!A21 -> (Lấy số liệu từ sheet «sàng lọc phát hiện» của sổ theo dõi NCD điện tử)
B22: ='Huyện-Tổng hợp'!B22 -> Số người được đo huyết áp | C22: ='Huyện-Tổng hợp'!C22 -> Số người được xác định nghi ngờ THA (Chỉ số huyết áp ≥140/90) | D22: ='Huyện-Tổng hợp'!D22 -> Số người được sàng lọc nguy cơ ĐTĐ bằng bộ câu hỏi | E22: ='Huyện-Tổng hợp'!E22 -> Số người được phát hiện thừa cân béo phì (BMI≥25 hoặc vòng eo to) | F22: ='Huyện-Tổng hợp'!F22 -> Số người được xác định nguy cơ cao ĐTĐ (≥ 6 điểm) | G22: ='Huyện-Tổng hợp'!G22 -> Số người được xét nghiệm đường huyết | H22: ='Huyện-Tổng hợp'!H22 -> Số người phát hiện nghi ngờ rối loạn đường huyết (ĐH mao mạch ≥ 5.6 mmol/L) | I22: ='Huyện-Tổng hợp'!I22 -> Số người được sàng lọc BPTNMT/ hen phế quản | ... M22: ='Huyện-Tổng hợp'!M22 -> Tỷ lệ % người được khám sức khỏe định kỳ so với tổng dân số ≥ 18 tuổi(70% dân số)
A23: ='Xã Thiệu Toán'!A23 -> Số mới trong tháng | M23: =L23/(0.7*$D$8) -> #DIV/0!
A24: ='Xã Thiệu Toán'!A24 -> Số cộng dồn trong năm | M24: =L24/(0.7*$D$8) -> #DIV/0!
A27: ='Huyện-Tổng hợp'!A61 -> 2. Quản lý điều trị người bệnh tăng huyết áp và đái tháo đường tại các trạm y tế
A28: a. Phát hiện và Quản lý điều trị THA, ĐTĐ trong tháng
B30: ='Huyện-Tổng hợp'!B64 -> Số BN mắc THA ước tính(12% dân số) | E30: =12%*D8 -> 0 | G30: ='Huyện-Tổng hợp'!B112 -> Số BN mắc ĐTĐ ước tính (2% dân số) | J30: =2%*D8 -> 0
B32: ='Huyện-Tổng hợp'!B67 -> Mới phát hiện trong tháng | C32: ='Huyện-Tổng hợp'!C67:D67 -> Tổng số phát hiện cộng dồn | E32: ='Huyện-Tổng hợp'!E67:F67 -> Tổng số BN đến khám và lấy thuốc cộng dồn | G32: ='Huyện-Tổng hợp'!G67:H67 -> BN đến khám và cấp thuốc tháng vừa qua | I32: ='Huyện-Tổng hợp'!I67:J67 -> BN đến khám và cấp thuốc trong tháng vừa qua đạt mục tiêu điều trị (chuẩn 2020) | K32: ='Huyện-Tổng hợp'!K67:L67 -> BN đến khám và cấp thuốc trong tháng vừa qua đạt mục tiêu điều trị (chuẩn cũ)
C33: ='Huyện-Tổng hợp'!C68 -> Số lượng | D33: ='Huyện-Tổng hợp'!D68 -> Tỷ lệ | E33: ='Huyện-Tổng hợp'!E68 -> Số lượng | F33: ='Huyện-Tổng hợp'!F68 -> Tỷ lệ | G33: ='Huyện-Tổng hợp'!G68 -> Số lượng | H33: ='Huyện-Tổng hợp'!H68 -> Tỷ lệ | I33: ='Huyện-Tổng hợp'!I68 -> Số lượng | J33: ='Huyện-Tổng hợp'!J68 -> Tỷ lệ | ... L33: ='Huyện-Tổng hợp'!L68 -> Tỷ lệ
A34: THA | D34: =C34/E30 -> #DIV/0! | F34: =E34/C34 -> #DIV/0! | H34: =G34/E34 -> #DIV/0! | J34: =I34/G34 -> #DIV/0! | L34: =K34/G34 -> #DIV/0!
A35: ĐTĐ | D35: =C35/J30 -> #DIV/0! | F35: =E35/C35 -> #DIV/0! | H35: =G35/E35 -> #DIV/0! | J35: =I35/G35 -> #DIV/0!
A37: b. Phát hiện và Quản lý điều trị THA, ĐTĐ trong kỳ báo cáo 3 tháng, 6 tháng, 9 tháng và 12 tháng
B38: ='Huyện-Tổng hợp'!B161 -> Mới phát hiện trong kỳ báo cáo | C38: ='Huyện-Tổng hợp'!C161:D161 -> Tổng số phát hiện trong kỳ báo cáo (cộng dồn) | E38: ='Huyện-Tổng hợp'!E161:F161 -> Tổng số BN đang được quản lý trong kỳ báo cáo | G38: ='Huyện-Tổng hợp'!G161:H161 -> BN được khám và cấp thuốc tháng cuối của kỳ báo cáo | I38: ='Huyện-Tổng hợp'!I161:J161 -> BN được quản lý điều trị đạt mục tiêu điều trị tại tháng cuối của kỳ báo cáo (chuẩn 2020) | K38: ='Huyện-Tổng hợp'!K161:L161 -> BN được quản lý điều trị đạt mục tiêu điều trị trong quý cuối của kỳ báo cáo (chuẩn 2020) | M38: ='Huyện-Tổng hợp'!M161:N161 -> BN được quản lý tại đạt mục tiêu điều trị trong quý cuối của kỳ báo cáo (chuẩn cũ)
C39: ='Huyện-Tổng hợp'!C162 -> Số lượng | D39: ='Huyện-Tổng hợp'!D162 -> Tỷ lệ | E39: ='Huyện-Tổng hợp'!E162 -> Số lượng | F39: ='Huyện-Tổng hợp'!F162 -> Tỷ lệ | G39: ='Huyện-Tổng hợp'!G162 -> Số lượng | H39: ='Huyện-Tổng hợp'!H162 -> Tỷ lệ | I39: ='Huyện-Tổng hợp'!I162 -> Số lượng | J39: ='Huyện-Tổng hợp'!J162 -> Tỷ lệ | ... N39: ='Huyện-Tổng hợp'!N162 -> Tỷ lệ
A40: THA | C40: =C34 -> 0 | D40: =D34 -> #DIV/0! | F40: =E40/C40 -> #DIV/0! | G40: =G34 -> 0 | H40: =G40/E40 -> #DIV/0! | I40: =I34 -> 0 | J40: =J34 -> #DIV/0! | L40: =K40/E40 -> #DIV/0! | N40: =M40/E40 -> #DIV/0!
A41: ĐTĐ | C41: =C35 -> 0 | D41: =D35 -> #DIV/0! | F41: =E41/C41 -> #DIV/0! | G41: =G35 -> 0 | H41: =G41/E41 -> #DIV/0! | I41: =I35 -> 0 | J41: =J35 -> #DIV/0! | L41: =K41/E41 -> #DIV/0!
A43: ='Huyện-Tổng hợp'!A249 -> III. Tổng hợp cung ứng thuốc tại các TYT
B44: ='Huyện-Tổng hợp'!B251:G251 -> Thuốc điều trị THA | H44: ='Huyện-Tổng hợp'!H251:K251 -> Thuốc điều trị ĐTĐ
B45: ='Huyện-Tổng hợp'!B252:B252 -> Có thuốc chẹn kênh can xi (bao gồm cả viên kết hợp có thành phần này) | C45: ='Huyện-Tổng hợp'!C252:C252 -> Có thuốc ức chế men chuyển và/hoặc ức chế thụ thể (bao gồm cả viên kết hợp có thành phần này) | D45: ='Huyện-Tổng hợp'!D252:D252 -> Có thuốc lợi tiểu thiazide hoặc tương tự (bao gồm cả viên kết hợp có thành phần này) | E45: ='Huyện-Tổng hợp'!E252:E252 -> Có thuốc kết hợp 2 loại đơn chất trên | F45: ='Huyện-Tổng hợp'!F252:F252 -> Có thuốc kết hợp 3 loại đơn chất trên | G45: ='Huyện-Tổng hợp'!G252:G252 -> Có thực hiện cấp thuốc 28-30 ngày cho phần lớn bệnh nhân THA | H45: ='Huyện-Tổng hợp'!H252:H252 -> Có thuốc Metformin | I45: ='Huyện-Tổng hợp'!I252:I252 -> Có thuốc Gliclazide | ... K45: ='Huyện-Tổng hợp'!K252:K252 -> Có thực hiện cấp thuốc 28-30 ngày cho phần lớn bệnh nhân ĐTĐ
A46: ='Xã Thiệu Toán'!A46 -> Có = 1 Không có = 0
A49: ='Huyện-Tổng hợp'!A288 -> IV. Quản lý điều trị các bệnh khác
B51: ='Huyện-Tổng hợp'!A289 -> a. Quản lý điều trị Tâm thần phân liệt và Động kinh
C52: ='Huyện-Tổng hợp'!C290:G290 -> Tâm thần phân liệt | H52: ='Huyện-Tổng hợp'!H290:L290 -> Động kinh
C53: ='Huyện-Tổng hợp'!C291 -> Tổng số phát hiện | D53: ='Huyện-Tổng hợp'!D291 -> Mới phát hiện trong kỳ báo cáo | E53: ='Huyện-Tổng hợp'!E291 -> Tổng số BN đang được quản lý | F53: ='Huyện-Tổng hợp'!F291 -> Số BN được khám và cấp thuốc trong tháng vừa qua trong số BN được quản lý | G53: ='Huyện-Tổng hợp'!G291 -> Số BN điều trị đạt hiệu quả trong số BN được quản lý | H53: ='Huyện-Tổng hợp'!H291 -> Tổng số phát hiện | I53: ='Huyện-Tổng hợp'!I291 -> Mới phát hiện trong kỳ báo cáo | J53: ='Huyện-Tổng hợp'!J291 -> Tổng số BN đang được quản lý | ... L53: ='Huyện-Tổng hợp'!L291 -> Số BN điều trị đạt hiệu quả trong số BN được quản lý
B54: ='Xã Thiệu Toán'!B54 -> Kết quả
B57: ='Huyện-Tổng hợp'!A334 -> b. Quản lý điều trị Bệnh phổi mạn tính (COPD và Hen) và BKLN khác
C58: ='Huyện-Tổng hợp'!C336:G336 -> Bệnh phổi mạn tính (COPD/Hen) | H58: ='Huyện-Tổng hợp'!H336:L336 -> Bệnh KLN khác
C59: ='Huyện-Tổng hợp'!C337 -> Tổng số phát hiện | D59: ='Huyện-Tổng hợp'!D337 -> Mới phát hiện trong kỳ báo cáo | E59: ='Huyện-Tổng hợp'!E337 -> Tổng số BN đang được quản lý | F59: ='Huyện-Tổng hợp'!F337 -> Số BN được khám và cấp thuốc trong tháng vừa qua trong số BN được quản lý | G59: ='Huyện-Tổng hợp'!G337 -> Số BN điều trị đạt hiệu quả trong số BN được quản lý | H59: ='Huyện-Tổng hợp'!H337 -> Tổng số phát hiện | I59: ='Huyện-Tổng hợp'!I337 -> Mới phát hiện trong kỳ báo cáo | J59: ='Huyện-Tổng hợp'!J337 -> Tổng số BN đang được quản lý | ... L59: ='Huyện-Tổng hợp'!L337 -> Số BN điều trị đạt hiệu quả trong số BN được quản lý
B60: ='Xã Thiệu Toán'!B60 -> Kết quả
A62: ='Huyện-Tổng hợp'!A379 -> V. Báo cáo nguyên nhân tử vong
A64: ='Xã Thiệu Toán'!A64 -> TT | B64: ='Xã Thiệu Toán'!B64 -> Ngày, tháng ghi sổ | C64: ='Xã Thiệu Toán'!C64 -> Họ và tên | E64: ='Xã Thiệu Toán'!E64 -> Tuổi | G64: ='Xã Thiệu Toán'!G64 -> Địa chỉ | H64: ='Xã Thiệu Toán'!H64 -> Nghề nghiệp | I64: ='Xã Thiệu Toán'!I64 -> Dân tộc | J64: ='Xã Thiệu Toán'!J64 -> Ngày tháng tử vong | K64: ='Xã Thiệu Toán'!K64 -> Nơi Tử vong | L64: ='Xã Thiệu Toán'!L64 -> Nguyên nhân chính gây tử vong | N64: ='Xã Thiệu Toán'!N64 -> Mã VN | O64: ='Xã Thiệu Toán'!O64 -> Đã khám/điều trị tại CSYT trong vòng 30 ngày trước khi tử vong | P64: ='Xã Thiệu Toán'!P64 -> Được CBYT chăm sóc khi tử vong | Q64: ='Xã Thiệu Toán'!Q64 -> Được cấp giấy báo tử
E65: ='Xã Thiệu Toán'!E65 -> Nam | F65: ='Xã Thiệu Toán'!F65 -> Nữ
A66: 1
A67: 2
A68: 3
A69: 4
A70: 5
A71: 6
A72: 7
A73: 8
A74: 9
A75: 10
A76: 11
A77: 12
... A95: 30
A97: ='Xã Thiệu Toán'!A96 -> Nhận xét
A99: ='Xã Thiệu Toán'!A98 -> Kiến nghị

Sheet Xã Thiệu Vận
A1: ='Huyện-Tổng hợp'!A2:C2 -> Mẫu báo cáo TYT xã - X0106 | D1: CỘNG HÒA XÃ HỘI CHỦ NGHĨA VIỆT NAM
D2: Độc lập – Tự do – Hạnh phúc
A3: TTYT huyện: | C3: ='Huyện-Tổng hợp'!B3 -> Thiệu Hóa
A4: TYT xã
A5: ='Xã Thiệu Toán'!A5 -> BÁO CÁO HOẠT ĐỘNG QUẢN LÝ ĐIỀU TRỊ BỆNH KHÔNG LÂY NHIỄM TẠI TRẠM Y TẾ
C6: Tháng | D6: ='Huyện-Tổng hợp'!D7 -> 0 | R6: 0
A7: ='Huyện-Tổng hợp'!A8 -> I. Thông tin chung | R7: 1
A8: ='Xã Thiệu Toán'!A8 -> Dân số:
A9: ='Xã Thiệu Toán'!A9 -> Số người ≥ 18 tuổi:
A10: ='Xã Thiệu Toán'!A10 -> Số người ≥ 40 tuổi:
A11: ='Xã Thiệu Toán'!A11 -> Tổng số thôn bản: | F11: ='Xã Thiệu Toán'!F11 -> Số điện thoại
A12: ='Xã Thiệu Toán'!A12 -> Số thôn bản có YTTB/CTV | F12: ='Xã Thiệu Toán'!F12 -> Email:
A13: ='Xã Thiệu Toán'!A13 -> Số YTTB/CTV
A14: ='Xã Thiệu Toán'!A14 -> Số cán bộ TYT | G14: ='Xã Thiệu Toán'!G14 -> Mầu xanh TYT xã cần nhập thông tin
A15: ='Xã Thiệu Toán'!A15 -> Số y, bác sỹ có CCHN | G15: ='Xã Thiệu Toán'!G15 -> Màu Vàng tự động tính không cần nhập
A16: ='Xã Thiệu Toán'!A16 -> Có bác sỹ làm việc không (Không=0; Có=1) | G16: ='Xã Thiệu Toán'!G16 -> Màu xám không cần nhập
A17: ='Xã Thiệu Toán'!A17 -> Sử dụng sổ theo dõi NCD điện tử (Không=0; Có=1)
A19: ='Huyện-Tổng hợp'!A19 -> II. Kết quả hoạt động phòng chống bệnh không lây nhiễm
A20: ='Huyện-Tổng hợp'!A20 -> 1. Phát hiện người nguy cơ cao, tiền bệnh, nghi ngờ mắc bệnh, mắc bệnh và số người khám sức khỏe định kỳ
A21: ='Xã Thiệu Toán'!A21 -> (Lấy số liệu từ sheet «sàng lọc phát hiện» của sổ theo dõi NCD điện tử)
B22: ='Huyện-Tổng hợp'!B22 -> Số người được đo huyết áp | C22: ='Huyện-Tổng hợp'!C22 -> Số người được xác định nghi ngờ THA (Chỉ số huyết áp ≥140/90) | D22: ='Huyện-Tổng hợp'!D22 -> Số người được sàng lọc nguy cơ ĐTĐ bằng bộ câu hỏi | E22: ='Huyện-Tổng hợp'!E22 -> Số người được phát hiện thừa cân béo phì (BMI≥25 hoặc vòng eo to) | F22: ='Huyện-Tổng hợp'!F22 -> Số người được xác định nguy cơ cao ĐTĐ (≥ 6 điểm) | G22: ='Huyện-Tổng hợp'!G22 -> Số người được xét nghiệm đường huyết | H22: ='Huyện-Tổng hợp'!H22 -> Số người phát hiện nghi ngờ rối loạn đường huyết (ĐH mao mạch ≥ 5.6 mmol/L) | I22: ='Huyện-Tổng hợp'!I22 -> Số người được sàng lọc BPTNMT/ hen phế quản | ... M22: ='Huyện-Tổng hợp'!M22 -> Tỷ lệ % người được khám sức khỏe định kỳ so với tổng dân số ≥ 18 tuổi(70% dân số)
A23: ='Xã Thiệu Toán'!A23 -> Số mới trong tháng | M23: =L23/(0.7*$D$8) -> #DIV/0!
A24: ='Xã Thiệu Toán'!A24 -> Số cộng dồn trong năm | M24: =L24/(0.7*$D$8) -> #DIV/0!
A27: ='Huyện-Tổng hợp'!A61 -> 2. Quản lý điều trị người bệnh tăng huyết áp và đái tháo đường tại các trạm y tế
A28: a. Phát hiện và Quản lý điều trị THA, ĐTĐ trong tháng
B30: ='Huyện-Tổng hợp'!B64 -> Số BN mắc THA ước tính(12% dân số) | E30: =12%*D8 -> 0 | G30: ='Huyện-Tổng hợp'!B112 -> Số BN mắc ĐTĐ ước tính (2% dân số) | J30: =2%*D8 -> 0
B32: ='Huyện-Tổng hợp'!B67 -> Mới phát hiện trong tháng | C32: ='Huyện-Tổng hợp'!C67:D67 -> Tổng số phát hiện cộng dồn | E32: ='Huyện-Tổng hợp'!E67:F67 -> Tổng số BN đến khám và lấy thuốc cộng dồn | G32: ='Huyện-Tổng hợp'!G67:H67 -> BN đến khám và cấp thuốc tháng vừa qua | I32: ='Huyện-Tổng hợp'!I67:J67 -> BN đến khám và cấp thuốc trong tháng vừa qua đạt mục tiêu điều trị (chuẩn 2020) | K32: ='Huyện-Tổng hợp'!K67:L67 -> BN đến khám và cấp thuốc trong tháng vừa qua đạt mục tiêu điều trị (chuẩn cũ)
C33: ='Huyện-Tổng hợp'!C68 -> Số lượng | D33: ='Huyện-Tổng hợp'!D68 -> Tỷ lệ | E33: ='Huyện-Tổng hợp'!E68 -> Số lượng | F33: ='Huyện-Tổng hợp'!F68 -> Tỷ lệ | G33: ='Huyện-Tổng hợp'!G68 -> Số lượng | H33: ='Huyện-Tổng hợp'!H68 -> Tỷ lệ | I33: ='Huyện-Tổng hợp'!I68 -> Số lượng | J33: ='Huyện-Tổng hợp'!J68 -> Tỷ lệ | ... L33: ='Huyện-Tổng hợp'!L68 -> Tỷ lệ
A34: THA | D34: =C34/E30 -> #DIV/0! | F34: =E34/C34 -> #DIV/0! | H34: =G34/E34 -> #DIV/0! | J34: =I34/G34 -> #DIV/0! | L34: =K34/G34 -> #DIV/0!
A35: ĐTĐ | D35: =C35/J30 -> #DIV/0! | F35: =E35/C35 -> #DIV/0! | H35: =G35/E35 -> #DIV/0! | J35: =I35/G35 -> #DIV/0!
A37: b. Phát hiện và Quản lý điều trị THA, ĐTĐ trong kỳ báo cáo 3 tháng, 6 tháng, 9 tháng và 12 tháng
B38: ='Huyện-Tổng hợp'!B161 -> Mới phát hiện trong kỳ báo cáo | C38: ='Huyện-Tổng hợp'!C161:D161 -> Tổng số phát hiện trong kỳ báo cáo (cộng dồn) | E38: ='Huyện-Tổng hợp'!E161:F161 -> Tổng số BN đang được quản lý trong kỳ báo cáo | G38: ='Huyện-Tổng hợp'!G161:H161 -> BN được khám và cấp thuốc tháng cuối của kỳ báo cáo | I38: ='Huyện-Tổng hợp'!I161:J161 -> BN được quản lý điều trị đạt mục tiêu điều trị tại tháng cuối của kỳ báo cáo (chuẩn 2020) | K38: ='Huyện-Tổng hợp'!K161:L161 -> BN được quản lý điều trị đạt mục tiêu điều trị trong quý cuối của kỳ báo cáo (chuẩn 2020) | M38: ='Huyện-Tổng hợp'!M161:N161 -> BN được quản lý tại đạt mục tiêu điều trị trong quý cuối của kỳ báo cáo (chuẩn cũ)
C39: ='Huyện-Tổng hợp'!C162 -> Số lượng | D39: ='Huyện-Tổng hợp'!D162 -> Tỷ lệ | E39: ='Huyện-Tổng hợp'!E162 -> Số lượng | F39: ='Huyện-Tổng hợp'!F162 -> Tỷ lệ | G39: ='Huyện-Tổng hợp'!G162 -> Số lượng | H39: ='Huyện-Tổng hợp'!H162 -> Tỷ lệ | I39: ='Huyện-Tổng hợp'!I162 -> Số lượng | J39: ='Huyện-Tổng hợp'!J162 -> Tỷ lệ | ... N39: ='Huyện-Tổng hợp'!N162 -> Tỷ lệ
A40: THA | C40: =C34 -> 0 | D40: =D34 -> #DIV/0! | F40: =E40/C40 -> #DIV/0! | G40: =G34 -> 0 | H40: =G40/E40 -> #DIV/0! | I40: =I34 -> 0 | J40: =J34 -> #DIV/0! | L40: =K40/E40 -> #DIV/0! | N40: =M40/E40 -> #DIV/0!
A41: ĐTĐ | C41: =C35 -> 0 | D41: =D35 -> #DIV/0! | F41: =E41/C41 -> #DIV/0! | G41: =G35 -> 0 | H41: =G41/E41 -> #DIV/0! | I41: =I35 -> 0 | J41: =J35 -> #DIV/0! | L41: =K41/E41 -> #DIV/0!
A43: ='Huyện-Tổng hợp'!A249 -> III. Tổng hợp cung ứng thuốc tại các TYT
B44: ='Huyện-Tổng hợp'!B251:G251 -> Thuốc điều trị THA | H44: ='Huyện-Tổng hợp'!H251:K251 -> Thuốc điều trị ĐTĐ
B45: ='Huyện-Tổng hợp'!B252:B252 -> Có thuốc chẹn kênh can xi (bao gồm cả viên kết hợp có thành phần này) | C45: ='Huyện-Tổng hợp'!C252:C252 -> Có thuốc ức chế men chuyển và/hoặc ức chế thụ thể (bao gồm cả viên kết hợp có thành phần này) | D45: ='Huyện-Tổng hợp'!D252:D252 -> Có thuốc lợi tiểu thiazide hoặc tương tự (bao gồm cả viên kết hợp có thành phần này) | E45: ='Huyện-Tổng hợp'!E252:E252 -> Có thuốc kết hợp 2 loại đơn chất trên | F45: ='Huyện-Tổng hợp'!F252:F252 -> Có thuốc kết hợp 3 loại đơn chất trên | G45: ='Huyện-Tổng hợp'!G252:G252 -> Có thực hiện cấp thuốc 28-30 ngày cho phần lớn bệnh nhân THA | H45: ='Huyện-Tổng hợp'!H252:H252 -> Có thuốc Metformin | I45: ='Huyện-Tổng hợp'!I252:I252 -> Có thuốc Gliclazide | ... K45: ='Huyện-Tổng hợp'!K252:K252 -> Có thực hiện cấp thuốc 28-30 ngày cho phần lớn bệnh nhân ĐTĐ
A46: ='Xã Thiệu Toán'!A46 -> Có = 1 Không có = 0
A49: ='Huyện-Tổng hợp'!A288 -> IV. Quản lý điều trị các bệnh khác
B51: ='Huyện-Tổng hợp'!A289 -> a. Quản lý điều trị Tâm thần phân liệt và Động kinh
C52: ='Huyện-Tổng hợp'!C290:G290 -> Tâm thần phân liệt | H52: ='Huyện-Tổng hợp'!H290:L290 -> Động kinh
C53: ='Huyện-Tổng hợp'!C291 -> Tổng số phát hiện | D53: ='Huyện-Tổng hợp'!D291 -> Mới phát hiện trong kỳ báo cáo | E53: ='Huyện-Tổng hợp'!E291 -> Tổng số BN đang được quản lý | F53: ='Huyện-Tổng hợp'!F291 -> Số BN được khám và cấp thuốc trong tháng vừa qua trong số BN được quản lý | G53: ='Huyện-Tổng hợp'!G291 -> Số BN điều trị đạt hiệu quả trong số BN được quản lý | H53: ='Huyện-Tổng hợp'!H291 -> Tổng số phát hiện | I53: ='Huyện-Tổng hợp'!I291 -> Mới phát hiện trong kỳ báo cáo | J53: ='Huyện-Tổng hợp'!J291 -> Tổng số BN đang được quản lý | ... L53: ='Huyện-Tổng hợp'!L291 -> Số BN điều trị đạt hiệu quả trong số BN được quản lý
B54: ='Xã Thiệu Toán'!B54 -> Kết quả
B57: ='Huyện-Tổng hợp'!A334 -> b. Quản lý điều trị Bệnh phổi mạn tính (COPD và Hen) và BKLN khác
C58: ='Huyện-Tổng hợp'!C336:G336 -> Bệnh phổi mạn tính (COPD/Hen) | H58: ='Huyện-Tổng hợp'!H336:L336 -> Bệnh KLN khác
C59: ='Huyện-Tổng hợp'!C337 -> Tổng số phát hiện | D59: ='Huyện-Tổng hợp'!D337 -> Mới phát hiện trong kỳ báo cáo | E59: ='Huyện-Tổng hợp'!E337 -> Tổng số BN đang được quản lý | F59: ='Huyện-Tổng hợp'!F337 -> Số BN được khám và cấp thuốc trong tháng vừa qua trong số BN được quản lý | G59: ='Huyện-Tổng hợp'!G337 -> Số BN điều trị đạt hiệu quả trong số BN được quản lý | H59: ='Huyện-Tổng hợp'!H337 -> Tổng số phát hiện | I59: ='Huyện-Tổng hợp'!I337 -> Mới phát hiện trong kỳ báo cáo | J59: ='Huyện-Tổng hợp'!J337 -> Tổng số BN đang được quản lý | ... L59: ='Huyện-Tổng hợp'!L337 -> Số BN điều trị đạt hiệu quả trong số BN được quản lý
B60: ='Xã Thiệu Toán'!B60 -> Kết quả
A62: ='Huyện-Tổng hợp'!A379 -> V. Báo cáo nguyên nhân tử vong
A64: ='Xã Thiệu Toán'!A64 -> TT | B64: ='Xã Thiệu Toán'!B64 -> Ngày, tháng ghi sổ | C64: ='Xã Thiệu Toán'!C64 -> Họ và tên | E64: ='Xã Thiệu Toán'!E64 -> Tuổi | G64: ='Xã Thiệu Toán'!G64 -> Địa chỉ | H64: ='Xã Thiệu Toán'!H64 -> Nghề nghiệp | I64: ='Xã Thiệu Toán'!I64 -> Dân tộc | J64: ='Xã Thiệu Toán'!J64 -> Ngày tháng tử vong | K64: ='Xã Thiệu Toán'!K64 -> Nơi Tử vong | L64: ='Xã Thiệu Toán'!L64 -> Nguyên nhân chính gây tử vong | N64: ='Xã Thiệu Toán'!N64 -> Mã VN | O64: ='Xã Thiệu Toán'!O64 -> Đã khám/điều trị tại CSYT trong vòng 30 ngày trước khi tử vong | P64: ='Xã Thiệu Toán'!P64 -> Được CBYT chăm sóc khi tử vong | Q64: ='Xã Thiệu Toán'!Q64 -> Được cấp giấy báo tử
E65: ='Xã Thiệu Toán'!E65 -> Nam | F65: ='Xã Thiệu Toán'!F65 -> Nữ
A66: 1
A67: 2
A68: 3
A69: 4
A70: 5
A71: 6
A72: 7
A73: 8
A74: 9
A75: 10
A76: 11
A77: 12
... A95: 30
A97: ='Xã Thiệu Toán'!A96 -> Nhận xét
A99: ='Xã Thiệu Toán'!A98 -> Kiến nghị

Sheet Xã Thiệu Trung
A1: ='Huyện-Tổng hợp'!A2:C2 -> Mẫu báo cáo TYT xã - X0106 | D1: CỘNG HÒA XÃ HỘI CHỦ NGHĨA VIỆT NAM
D2: Độc lập – Tự do – Hạnh phúc
A3: TTYT huyện: | C3: ='Huyện-Tổng hợp'!B3 -> Thiệu Hóa
A4: TYT xã
A5: ='Xã Thiệu Toán'!A5 -> BÁO CÁO HOẠT ĐỘNG QUẢN LÝ ĐIỀU TRỊ BỆNH KHÔNG LÂY NHIỄM TẠI TRẠM Y TẾ
C6: Tháng | D6: ='Huyện-Tổng hợp'!D7 -> 0 | R6: 0
A7: ='Huyện-Tổng hợp'!A8 -> I. Thông tin chung | R7: 1
A8: ='Xã Thiệu Toán'!A8 -> Dân số:
A9: ='Xã Thiệu Toán'!A9 -> Số người ≥ 18 tuổi:
A10: ='Xã Thiệu Toán'!A10 -> Số người ≥ 40 tuổi:
A11: ='Xã Thiệu Toán'!A11 -> Tổng số thôn bản: | F11: ='Xã Thiệu Toán'!F11 -> Số điện thoại
A12: ='Xã Thiệu Toán'!A12 -> Số thôn bản có YTTB/CTV | F12: ='Xã Thiệu Toán'!F12 -> Email:
A13: ='Xã Thiệu Toán'!A13 -> Số YTTB/CTV
A14: ='Xã Thiệu Toán'!A14 -> Số cán bộ TYT | G14: ='Xã Thiệu Toán'!G14 -> Mầu xanh TYT xã cần nhập thông tin
A15: ='Xã Thiệu Toán'!A15 -> Số y, bác sỹ có CCHN | G15: ='Xã Thiệu Toán'!G15 -> Màu Vàng tự động tính không cần nhập
A16: ='Xã Thiệu Toán'!A16 -> Có bác sỹ làm việc không (Không=0; Có=1) | G16: ='Xã Thiệu Toán'!G16 -> Màu xám không cần nhập
A17: ='Xã Thiệu Toán'!A17 -> Sử dụng sổ theo dõi NCD điện tử (Không=0; Có=1)
A19: ='Huyện-Tổng hợp'!A19 -> II. Kết quả hoạt động phòng chống bệnh không lây nhiễm
A20: ='Huyện-Tổng hợp'!A20 -> 1. Phát hiện người nguy cơ cao, tiền bệnh, nghi ngờ mắc bệnh, mắc bệnh và số người khám sức khỏe định kỳ
A21: ='Xã Thiệu Toán'!A21 -> (Lấy số liệu từ sheet «sàng lọc phát hiện» của sổ theo dõi NCD điện tử)
B22: ='Huyện-Tổng hợp'!B22 -> Số người được đo huyết áp | C22: ='Huyện-Tổng hợp'!C22 -> Số người được xác định nghi ngờ THA (Chỉ số huyết áp ≥140/90) | D22: ='Huyện-Tổng hợp'!D22 -> Số người được sàng lọc nguy cơ ĐTĐ bằng bộ câu hỏi | E22: ='Huyện-Tổng hợp'!E22 -> Số người được phát hiện thừa cân béo phì (BMI≥25 hoặc vòng eo to) | F22: ='Huyện-Tổng hợp'!F22 -> Số người được xác định nguy cơ cao ĐTĐ (≥ 6 điểm) | G22: ='Huyện-Tổng hợp'!G22 -> Số người được xét nghiệm đường huyết | H22: ='Huyện-Tổng hợp'!H22 -> Số người phát hiện nghi ngờ rối loạn đường huyết (ĐH mao mạch ≥ 5.6 mmol/L) | I22: ='Huyện-Tổng hợp'!I22 -> Số người được sàng lọc BPTNMT/ hen phế quản | ... M22: ='Huyện-Tổng hợp'!M22 -> Tỷ lệ % người được khám sức khỏe định kỳ so với tổng dân số ≥ 18 tuổi(70% dân số)
A23: ='Xã Thiệu Toán'!A23 -> Số mới trong tháng | M23: =L23/(0.7*$D$8) -> #DIV/0!
A24: ='Xã Thiệu Toán'!A24 -> Số cộng dồn trong năm | M24: =L24/(0.7*$D$8) -> #DIV/0!
A27: ='Huyện-Tổng hợp'!A61 -> 2. Quản lý điều trị người bệnh tăng huyết áp và đái tháo đường tại các trạm y tế
A28: a. Phát hiện và Quản lý điều trị THA, ĐTĐ trong tháng
B30: ='Huyện-Tổng hợp'!B64 -> Số BN mắc THA ước tính(12% dân số) | E30: =12%*D8 -> 0 | G30: ='Huyện-Tổng hợp'!B112 -> Số BN mắc ĐTĐ ước tính (2% dân số) | J30: =2%*D8 -> 0
B32: ='Huyện-Tổng hợp'!B67 -> Mới phát hiện trong tháng | C32: ='Huyện-Tổng hợp'!C67:D67 -> Tổng số phát hiện cộng dồn | E32: ='Huyện-Tổng hợp'!E67:F67 -> Tổng số BN đến khám và lấy thuốc cộng dồn | G32: ='Huyện-Tổng hợp'!G67:H67 -> BN đến khám và cấp thuốc tháng vừa qua | I32: ='Huyện-Tổng hợp'!I67:J67 -> BN đến khám và cấp thuốc trong tháng vừa qua đạt mục tiêu điều trị (chuẩn 2020) | K32: ='Huyện-Tổng hợp'!K67:L67 -> BN đến khám và cấp thuốc trong tháng vừa qua đạt mục tiêu điều trị (chuẩn cũ)
C33: ='Huyện-Tổng hợp'!C68 -> Số lượng | D33: ='Huyện-Tổng hợp'!D68 -> Tỷ lệ | E33: ='Huyện-Tổng hợp'!E68 -> Số lượng | F33: ='Huyện-Tổng hợp'!F68 -> Tỷ lệ | G33: ='Huyện-Tổng hợp'!G68 -> Số lượng | H33: ='Huyện-Tổng hợp'!H68 -> Tỷ lệ | I33: ='Huyện-Tổng hợp'!I68 -> Số lượng | J33: ='Huyện-Tổng hợp'!J68 -> Tỷ lệ | ... L33: ='Huyện-Tổng hợp'!L68 -> Tỷ lệ
A34: THA | D34: =C34/E30 -> #DIV/0! | F34: =E34/C34 -> #DIV/0! | H34: =G34/E34 -> #DIV/0! | J34: =I34/G34 -> #DIV/0! | L34: =K34/G34 -> #DIV/0!
A35: ĐTĐ | D35: =C35/J30 -> #DIV/0! | F35: =E35/C35 -> #DIV/0! | H35: =G35/E35 -> #DIV/0! | J35: =I35/G35 -> #DIV/0!
A37: b. Phát hiện và Quản lý điều trị THA, ĐTĐ trong kỳ báo cáo 3 tháng, 6 tháng, 9 tháng và 12 tháng
B38: ='Huyện-Tổng hợp'!B161 -> Mới phát hiện trong kỳ báo cáo | C38: ='Huyện-Tổng hợp'!C161:D161 -> Tổng số phát hiện trong kỳ báo cáo (cộng dồn) | E38: ='Huyện-Tổng hợp'!E161:F161 -> Tổng số BN đang được quản lý trong kỳ báo cáo | G38: ='Huyện-Tổng hợp'!G161:H161 -> BN được khám và cấp thuốc tháng cuối của kỳ báo cáo | I38: ='Huyện-Tổng hợp'!I161:J161 -> BN được quản lý điều trị đạt mục tiêu điều trị tại tháng cuối của kỳ báo cáo (chuẩn 2020) | K38: ='Huyện-Tổng hợp'!K161:L161 -> BN được quản lý điều trị đạt mục tiêu điều trị trong quý cuối của kỳ báo cáo (chuẩn 2020) | M38: ='Huyện-Tổng hợp'!M161:N161 -> BN được quản lý tại đạt mục tiêu điều trị trong quý cuối của kỳ báo cáo (chuẩn cũ)
C39: ='Huyện-Tổng hợp'!C162 -> Số lượng | D39: ='Huyện-Tổng hợp'!D162 -> Tỷ lệ | E39: ='Huyện-Tổng hợp'!E162 -> Số lượng | F39: ='Huyện-Tổng hợp'!F162 -> Tỷ lệ | G39: ='Huyện-Tổng hợp'!G162 -> Số lượng | H39: ='Huyện-Tổng hợp'!H162 -> Tỷ lệ | I39: ='Huyện-Tổng hợp'!I162 -> Số lượng | J39: ='Huyện-Tổng hợp'!J162 -> Tỷ lệ | ... N39: ='Huyện-Tổng hợp'!N162 -> Tỷ lệ
A40: THA | C40: =C34 -> 0 | D40: =D34 -> #DIV/0! | F40: =E40/C40 -> #DIV/0! | G40: =G34 -> 0 | H40: =G40/E40 -> #DIV/0! | I40: =I34 -> 0 | J40: =J34 -> #DIV/0! | L40: =K40/E40 -> #DIV/0! | N40: =M40/E40 -> #DIV/0!
A41: ĐTĐ | C41: =C35 -> 0 | D41: =D35 -> #DIV/0! | F41: =E41/C41 -> #DIV/0! | G41: =G35 -> 0 | H41: =G41/E41 -> #DIV/0! | I41: =I35 -> 0 | J41: =J35 -> #DIV/0! | L41: =K41/E41 -> #DIV/0!
A43: ='Huyện-Tổng hợp'!A249 -> III. Tổng hợp cung ứng thuốc tại các TYT
B44: ='Huyện-Tổng hợp'!B251:G251 -> Thuốc điều trị THA | H44: ='Huyện-Tổng hợp'!H251:K251 -> Thuốc điều trị ĐTĐ
B45: ='Huyện-Tổng hợp'!B252:B252 -> Có thuốc chẹn kênh can xi (bao gồm cả viên kết hợp có thành phần này) | C45: ='Huyện-Tổng hợp'!C252:C252 -> Có thuốc ức chế men chuyển và/hoặc ức chế thụ thể (bao gồm cả viên kết hợp có thành phần này) | D45: ='Huyện-Tổng hợp'!D252:D252 -> Có thuốc lợi tiểu thiazide hoặc tương tự (bao gồm cả viên kết hợp có thành phần này) | E45: ='Huyện-Tổng hợp'!E252:E252 -> Có thuốc kết hợp 2 loại đơn chất trên | F45: ='Huyện-Tổng hợp'!F252:F252 -> Có thuốc kết hợp 3 loại đơn chất trên | G45: ='Huyện-Tổng hợp'!G252:G252 -> Có thực hiện cấp thuốc 28-30 ngày cho phần lớn bệnh nhân THA | H45: ='Huyện-Tổng hợp'!H252:H252 -> Có thuốc Metformin | I45: ='Huyện-Tổng hợp'!I252:I252 -> Có thuốc Gliclazide | ... K45: ='Huyện-Tổng hợp'!K252:K252 -> Có thực hiện cấp thuốc 28-30 ngày cho phần lớn bệnh nhân ĐTĐ
A46: ='Xã Thiệu Toán'!A46 -> Có = 1 Không có = 0
A49: ='Huyện-Tổng hợp'!A288 -> IV. Quản lý điều trị các bệnh khác
B51: ='Huyện-Tổng hợp'!A289 -> a. Quản lý điều trị Tâm thần phân liệt và Động kinh
C52: ='Huyện-Tổng hợp'!C290:G290 -> Tâm thần phân liệt | H52: ='Huyện-Tổng hợp'!H290:L290 -> Động kinh
C53: ='Huyện-Tổng hợp'!C291 -> Tổng số phát hiện | D53: ='Huyện-Tổng hợp'!D291 -> Mới phát hiện trong kỳ báo cáo | E53: ='Huyện-Tổng hợp'!E291 -> Tổng số BN đang được quản lý | F53: ='Huyện-Tổng hợp'!F291 -> Số BN được khám và cấp thuốc trong tháng vừa qua trong số BN được quản lý | G53: ='Huyện-Tổng hợp'!G291 -> Số BN điều trị đạt hiệu quả trong số BN được quản lý | H53: ='Huyện-Tổng hợp'!H291 -> Tổng số phát hiện | I53: ='Huyện-Tổng hợp'!I291 -> Mới phát hiện trong kỳ báo cáo | J53: ='Huyện-Tổng hợp'!J291 -> Tổng số BN đang được quản lý | ... L53: ='Huyện-Tổng hợp'!L291 -> Số BN điều trị đạt hiệu quả trong số BN được quản lý
B54: ='Xã Thiệu Toán'!B54 -> Kết quả
B57: ='Huyện-Tổng hợp'!A334 -> b. Quản lý điều trị Bệnh phổi mạn tính (COPD và Hen) và BKLN khác
C58: ='Huyện-Tổng hợp'!C336:G336 -> Bệnh phổi mạn tính (COPD/Hen) | H58: ='Huyện-Tổng hợp'!H336:L336 -> Bệnh KLN khác
C59: ='Huyện-Tổng hợp'!C337 -> Tổng số phát hiện | D59: ='Huyện-Tổng hợp'!D337 -> Mới phát hiện trong kỳ báo cáo | E59: ='Huyện-Tổng hợp'!E337 -> Tổng số BN đang được quản lý | F59: ='Huyện-Tổng hợp'!F337 -> Số BN được khám và cấp thuốc trong tháng vừa qua trong số BN được quản lý | G59: ='Huyện-Tổng hợp'!G337 -> Số BN điều trị đạt hiệu quả trong số BN được quản lý | H59: ='Huyện-Tổng hợp'!H337 -> Tổng số phát hiện | I59: ='Huyện-Tổng hợp'!I337 -> Mới phát hiện trong kỳ báo cáo | J59: ='Huyện-Tổng hợp'!J337 -> Tổng số BN đang được quản lý | ... L59: ='Huyện-Tổng hợp'!L337 -> Số BN điều trị đạt hiệu quả trong số BN được quản lý
B60: ='Xã Thiệu Toán'!B60 -> Kết quả
A62: ='Huyện-Tổng hợp'!A379 -> V. Báo cáo nguyên nhân tử vong
A64: ='Xã Thiệu Toán'!A64 -> TT | B64: ='Xã Thiệu Toán'!B64 -> Ngày, tháng ghi sổ | C64: ='Xã Thiệu Toán'!C64 -> Họ và tên | E64: ='Xã Thiệu Toán'!E64 -> Tuổi | G64: ='Xã Thiệu Toán'!G64 -> Địa chỉ | H64: ='Xã Thiệu Toán'!H64 -> Nghề nghiệp | I64: ='Xã Thiệu Toán'!I64 -> Dân tộc | J64: ='Xã Thiệu Toán'!J64 -> Ngày tháng tử vong | K64: ='Xã Thiệu Toán'!K64 -> Nơi Tử vong | L64: ='Xã Thiệu Toán'!L64 -> Nguyên nhân chính gây tử vong | N64: ='Xã Thiệu Toán'!N64 -> Mã VN | O64: ='Xã Thiệu Toán'!O64 -> Đã khám/điều trị tại CSYT trong vòng 30 ngày trước khi tử vong | P64: ='Xã Thiệu Toán'!P64 -> Được CBYT chăm sóc khi tử vong | Q64: ='Xã Thiệu Toán'!Q64 -> Được cấp giấy báo tử
E65: ='Xã Thiệu Toán'!E65 -> Nam | F65: ='Xã Thiệu Toán'!F65 -> Nữ
A66: 1
A67: 2
A68: 3
A69: 4
A70: 5
A71: 6
A72: 7
A73: 8
A74: 9
A75: 10
A76: 11
A77: 12
... A95: 30
A97: ='Xã Thiệu Toán'!A96 -> Nhận xét
A99: ='Xã Thiệu Toán'!A98 -> Kiến nghị

Sheet TT Thiệu Hóa
A1: ='Huyện-Tổng hợp'!A2:C2 -> Mẫu báo cáo TYT xã - X0106 | D1: CỘNG HÒA XÃ HỘI CHỦ NGHĨA VIỆT NAM
D2: Độc lập – Tự do – Hạnh phúc
A3: TTYT huyện: | C3: ='Huyện-Tổng hợp'!B3 -> Thiệu Hóa
A4: TYT xã
A5: ='Xã Thiệu Toán'!A5 -> BÁO CÁO HOẠT ĐỘNG QUẢN LÝ ĐIỀU TRỊ BỆNH KHÔNG LÂY NHIỄM TẠI TRẠM Y TẾ
C6: Tháng | D6: ='Huyện-Tổng hợp'!D7 -> 0 | R6: 0
A7: ='Huyện-Tổng hợp'!A8 -> I. Thông tin chung | R7: 1
A8: ='Xã Thiệu Toán'!A8 -> Dân số:
A9: ='Xã Thiệu Toán'!A9 -> Số người ≥ 18 tuổi:
A10: ='Xã Thiệu Toán'!A10 -> Số người ≥ 40 tuổi:
A11: ='Xã Thiệu Toán'!A11 -> Tổng số thôn bản: | F11: ='Xã Thiệu Toán'!F11 -> Số điện thoại
A12: ='Xã Thiệu Toán'!A12 -> Số thôn bản có YTTB/CTV | F12: ='Xã Thiệu Toán'!F12 -> Email:
A13: ='Xã Thiệu Toán'!A13 -> Số YTTB/CTV
A14: ='Xã Thiệu Toán'!A14 -> Số cán bộ TYT | G14: ='Xã Thiệu Toán'!G14 -> Mầu xanh TYT xã cần nhập thông tin
A15: ='Xã Thiệu Toán'!A15 -> Số y, bác sỹ có CCHN | G15: ='Xã Thiệu Toán'!G15 -> Màu Vàng tự động tính không cần nhập
A16: ='Xã Thiệu Toán'!A16 -> Có bác sỹ làm việc không (Không=0; Có=1) | G16: ='Xã Thiệu Toán'!G16 -> Màu xám không cần nhập
A17: ='Xã Thiệu Toán'!A17 -> Sử dụng sổ theo dõi NCD điện tử (Không=0; Có=1)
A19: ='Huyện-Tổng hợp'!A19 -> II. Kết quả hoạt động phòng chống bệnh không lây nhiễm
A20: ='Huyện-Tổng hợp'!A20 -> 1. Phát hiện người nguy cơ cao, tiền bệnh, nghi ngờ mắc bệnh, mắc bệnh và số người khám sức khỏe định kỳ
A21: ='Xã Thiệu Toán'!A21 -> (Lấy số liệu từ sheet «sàng lọc phát hiện» của sổ theo dõi NCD điện tử)
B22: ='Huyện-Tổng hợp'!B22 -> Số người được đo huyết áp | C22: ='Huyện-Tổng hợp'!C22 -> Số người được xác định nghi ngờ THA (Chỉ số huyết áp ≥140/90) | D22: ='Huyện-Tổng hợp'!D22 -> Số người được sàng lọc nguy cơ ĐTĐ bằng bộ câu hỏi | E22: ='Huyện-Tổng hợp'!E22 -> Số người được phát hiện thừa cân béo phì (BMI≥25 hoặc vòng eo to) | F22: ='Huyện-Tổng hợp'!F22 -> Số người được xác định nguy cơ cao ĐTĐ (≥ 6 điểm) | G22: ='Huyện-Tổng hợp'!G22 -> Số người được xét nghiệm đường huyết | H22: ='Huyện-Tổng hợp'!H22 -> Số người phát hiện nghi ngờ rối loạn đường huyết (ĐH mao mạch ≥ 5.6 mmol/L) | I22: ='Huyện-Tổng hợp'!I22 -> Số người được sàng lọc BPTNMT/ hen phế quản | ... M22: ='Huyện-Tổng hợp'!M22 -> Tỷ lệ % người được khám sức khỏe định kỳ so với tổng dân số ≥ 18 tuổi(70% dân số)
A23: ='Xã Thiệu Toán'!A23 -> Số mới trong tháng | M23: =L23/(0.7*$D$8) -> #DIV/0!
A24: ='Xã Thiệu Toán'!A24 -> Số cộng dồn trong năm | M24: =L24/(0.7*$D$8) -> #DIV/0!
A27: ='Huyện-Tổng hợp'!A61 -> 2. Quản lý điều trị người bệnh tăng huyết áp và đái tháo đường tại các trạm y tế
A28: a. Phát hiện và Quản lý điều trị THA, ĐTĐ trong tháng
B30: ='Huyện-Tổng hợp'!B64 -> Số BN mắc THA ước tính(12% dân số) | E30: =12%*D8 -> 0 | G30: ='Huyện-Tổng hợp'!B112 -> Số BN mắc ĐTĐ ước tính (2% dân số) | J30: =2%*D8 -> 0
B32: ='Huyện-Tổng hợp'!B67 -> Mới phát hiện trong tháng | C32: ='Huyện-Tổng hợp'!C67:D67 -> Tổng số phát hiện cộng dồn | E32: ='Huyện-Tổng hợp'!E67:F67 -> Tổng số BN đến khám và lấy thuốc cộng dồn | G32: ='Huyện-Tổng hợp'!G67:H67 -> BN đến khám và cấp thuốc tháng vừa qua | I32: ='Huyện-Tổng hợp'!I67:J67 -> BN đến khám và cấp thuốc trong tháng vừa qua đạt mục tiêu điều trị (chuẩn 2020) | K32: ='Huyện-Tổng hợp'!K67:L67 -> BN đến khám và cấp thuốc trong tháng vừa qua đạt mục tiêu điều trị (chuẩn cũ)
C33: ='Huyện-Tổng hợp'!C68 -> Số lượng | D33: ='Huyện-Tổng hợp'!D68 -> Tỷ lệ | E33: ='Huyện-Tổng hợp'!E68 -> Số lượng | F33: ='Huyện-Tổng hợp'!F68 -> Tỷ lệ | G33: ='Huyện-Tổng hợp'!G68 -> Số lượng | H33: ='Huyện-Tổng hợp'!H68 -> Tỷ lệ | I33: ='Huyện-Tổng hợp'!I68 -> Số lượng | J33: ='Huyện-Tổng hợp'!J68 -> Tỷ lệ | ... L33: ='Huyện-Tổng hợp'!L68 -> Tỷ lệ
A34: THA | D34: =C34/E30 -> #DIV/0! | F34: =E34/C34 -> #DIV/0! | H34: =G34/E34 -> #DIV/0! | J34: =I34/G34 -> #DIV/0! | L34: =K34/G34 -> #DIV/0!
A35: ĐTĐ | D35: =C35/J30 -> #DIV/0! | F35: =E35/C35 -> #DIV/0! | H35: =G35/E35 -> #DIV/0! | J35: =I35/G35 -> #DIV/0!
A37: b. Phát hiện và Quản lý điều trị THA, ĐTĐ trong kỳ báo cáo 3 tháng, 6 tháng, 9 tháng và 12 tháng
B38: ='Huyện-Tổng hợp'!B161 -> Mới phát hiện trong kỳ báo cáo | C38: ='Huyện-Tổng hợp'!C161:D161 -> Tổng số phát hiện trong kỳ báo cáo (cộng dồn) | E38: ='Huyện-Tổng hợp'!E161:F161 -> Tổng số BN đang được quản lý trong kỳ báo cáo | G38: ='Huyện-Tổng hợp'!G161:H161 -> BN được khám và cấp thuốc tháng cuối của kỳ báo cáo | I38: ='Huyện-Tổng hợp'!I161:J161 -> BN được quản lý điều trị đạt mục tiêu điều trị tại tháng cuối của kỳ báo cáo (chuẩn 2020) | K38: ='Huyện-Tổng hợp'!K161:L161 -> BN được quản lý điều trị đạt mục tiêu điều trị trong quý cuối của kỳ báo cáo (chuẩn 2020) | M38: ='Huyện-Tổng hợp'!M161:N161 -> BN được quản lý tại đạt mục tiêu điều trị trong quý cuối của kỳ báo cáo (chuẩn cũ)
C39: ='Huyện-Tổng hợp'!C162 -> Số lượng | D39: ='Huyện-Tổng hợp'!D162 -> Tỷ lệ | E39: ='Huyện-Tổng hợp'!E162 -> Số lượng | F39: ='Huyện-Tổng hợp'!F162 -> Tỷ lệ | G39: ='Huyện-Tổng hợp'!G162 -> Số lượng | H39: ='Huyện-Tổng hợp'!H162 -> Tỷ lệ | I39: ='Huyện-Tổng hợp'!I162 -> Số lượng | J39: ='Huyện-Tổng hợp'!J162 -> Tỷ lệ | ... N39: ='Huyện-Tổng hợp'!N162 -> Tỷ lệ
A40: THA | C40: =C34 -> 0 | D40: =D34 -> #DIV/0! | F40: =E40/C40 -> #DIV/0! | G40: =G34 -> 0 | H40: =G40/E40 -> #DIV/0! | I40: =I34 -> 0 | J40: =J34 -> #DIV/0! | L40: =K40/E40 -> #DIV/0! | N40: =M40/E40 -> #DIV/0!
A41: ĐTĐ | C41: =C35 -> 0 | D41: =D35 -> #DIV/0! | F41: =E41/C41 -> #DIV/0! | G41: =G35 -> 0 | H41: =G41/E41 -> #DIV/0! | I41: =I35 -> 0 | J41: =J35 -> #DIV/0! | L41: =K41/E41 -> #DIV/0!
A43: ='Huyện-Tổng hợp'!A249 -> III. Tổng hợp cung ứng thuốc tại các TYT
B44: ='Huyện-Tổng hợp'!B251:G251 -> Thuốc điều trị THA | H44: ='Huyện-Tổng hợp'!H251:K251 -> Thuốc điều trị ĐTĐ
B45: ='Huyện-Tổng hợp'!B252:B252 -> Có thuốc chẹn kênh can xi (bao gồm cả viên kết hợp có thành phần này) | C45: ='Huyện-Tổng hợp'!C252:C252 -> Có thuốc ức chế men chuyển và/hoặc ức chế thụ thể (bao gồm cả viên kết hợp có thành phần này) | D45: ='Huyện-Tổng hợp'!D252:D252 -> Có thuốc lợi tiểu thiazide hoặc tương tự (bao gồm cả viên kết hợp có thành phần này) | E45: ='Huyện-Tổng hợp'!E252:E252 -> Có thuốc kết hợp 2 loại đơn chất trên | F45: ='Huyện-Tổng hợp'!F252:F252 -> Có thuốc kết hợp 3 loại đơn chất trên | G45: ='Huyện-Tổng hợp'!G252:G252 -> Có thực hiện cấp thuốc 28-30 ngày cho phần lớn bệnh nhân THA | H45: ='Huyện-Tổng hợp'!H252:H252 -> Có thuốc Metformin | I45: ='Huyện-Tổng hợp'!I252:I252 -> Có thuốc Gliclazide | ... K45: ='Huyện-Tổng hợp'!K252:K252 -> Có thực hiện cấp thuốc 28-30 ngày cho phần lớn bệnh nhân ĐTĐ
A46: ='Xã Thiệu Toán'!A46 -> Có = 1 Không có = 0
A49: ='Huyện-Tổng hợp'!A288 -> IV. Quản lý điều trị các bệnh khác
B51: ='Huyện-Tổng hợp'!A289 -> a. Quản lý điều trị Tâm thần phân liệt và Động kinh
C52: ='Huyện-Tổng hợp'!C290:G290 -> Tâm thần phân liệt | H52: ='Huyện-Tổng hợp'!H290:L290 -> Động kinh
C53: ='Huyện-Tổng hợp'!C291 -> Tổng số phát hiện | D53: ='Huyện-Tổng hợp'!D291 -> Mới phát hiện trong kỳ báo cáo | E53: ='Huyện-Tổng hợp'!E291 -> Tổng số BN đang được quản lý | F53: ='Huyện-Tổng hợp'!F291 -> Số BN được khám và cấp thuốc trong tháng vừa qua trong số BN được quản lý | G53: ='Huyện-Tổng hợp'!G291 -> Số BN điều trị đạt hiệu quả trong số BN được quản lý | H53: ='Huyện-Tổng hợp'!H291 -> Tổng số phát hiện | I53: ='Huyện-Tổng hợp'!I291 -> Mới phát hiện trong kỳ báo cáo | J53: ='Huyện-Tổng hợp'!J291 -> Tổng số BN đang được quản lý | ... L53: ='Huyện-Tổng hợp'!L291 -> Số BN điều trị đạt hiệu quả trong số BN được quản lý
B54: ='Xã Thiệu Toán'!B54 -> Kết quả
B57: ='Huyện-Tổng hợp'!A334 -> b. Quản lý điều trị Bệnh phổi mạn tính (COPD và Hen) và BKLN khác
C58: ='Huyện-Tổng hợp'!C336:G336 -> Bệnh phổi mạn tính (COPD/Hen) | H58: ='Huyện-Tổng hợp'!H336:L336 -> Bệnh KLN khác
C59: ='Huyện-Tổng hợp'!C337 -> Tổng số phát hiện | D59: ='Huyện-Tổng hợp'!D337 -> Mới phát hiện trong kỳ báo cáo | E59: ='Huyện-Tổng hợp'!E337 -> Tổng số BN đang được quản lý | F59: ='Huyện-Tổng hợp'!F337 -> Số BN được khám và cấp thuốc trong tháng vừa qua trong số BN được quản lý | G59: ='Huyện-Tổng hợp'!G337 -> Số BN điều trị đạt hiệu quả trong số BN được quản lý | H59: ='Huyện-Tổng hợp'!H337 -> Tổng số phát hiện | I59: ='Huyện-Tổng hợp'!I337 -> Mới phát hiện trong kỳ báo cáo | J59: ='Huyện-Tổng hợp'!J337 -> Tổng số BN đang được quản lý | ... L59: ='Huyện-Tổng hợp'!L337 -> Số BN điều trị đạt hiệu quả trong số BN được quản lý
B60: ='Xã Thiệu Toán'!B60 -> Kết quả
A62: ='Huyện-Tổng hợp'!A379 -> V. Báo cáo nguyên nhân tử vong
A64: ='Xã Thiệu Toán'!A64 -> TT | B64: ='Xã Thiệu Toán'!B64 -> Ngày, tháng ghi sổ | C64: ='Xã Thiệu Toán'!C64 -> Họ và tên | E64: ='Xã Thiệu Toán'!E64 -> Tuổi | G64: ='Xã Thiệu Toán'!G64 -> Địa chỉ | H64: ='Xã Thiệu Toán'!H64 -> Nghề nghiệp | I64: ='Xã Thiệu Toán'!I64 -> Dân tộc | J64: ='Xã Thiệu Toán'!J64 -> Ngày tháng tử vong | K64: ='Xã Thiệu Toán'!K64 -> Nơi Tử vong | L64: ='Xã Thiệu Toán'!L64 -> Nguyên nhân chính gây tử vong | N64: ='Xã Thiệu Toán'!N64 -> Mã VN | O64: ='Xã Thiệu Toán'!O64 -> Đã khám/điều trị tại CSYT trong vòng 30 ngày trước khi tử vong | P64: ='Xã Thiệu Toán'!P64 -> Được CBYT chăm sóc khi tử vong | Q64: ='Xã Thiệu Toán'!Q64 -> Được cấp giấy báo tử
E65: ='Xã Thiệu Toán'!E65 -> Nam | F65: ='Xã Thiệu Toán'!F65 -> Nữ
A66: 1
A67: 2
A68: 3
A69: 4
A70: 5
A71: 6
A72: 7
A73: 8
A74: 9
A75: 10
A76: 11
A77: 12
... A95: 30
A97: ='Xã Thiệu Toán'!A96 -> Nhận xét
A99: ='Xã Thiệu Toán'!A98 -> Kiến nghị

Sheet Xã Thiệu Giao
A1: ='Huyện-Tổng hợp'!A2:C2 -> Mẫu báo cáo TYT xã - X0106 | D1: CỘNG HÒA XÃ HỘI CHỦ NGHĨA VIỆT NAM
D2: Độc lập – Tự do – Hạnh phúc
A3: TTYT huyện: | C3: ='Huyện-Tổng hợp'!B3 -> Thiệu Hóa
A4: TYT xã
A5: ='Xã Thiệu Toán'!A5 -> BÁO CÁO HOẠT ĐỘNG QUẢN LÝ ĐIỀU TRỊ BỆNH KHÔNG LÂY NHIỄM TẠI TRẠM Y TẾ
C6: Tháng | D6: ='Huyện-Tổng hợp'!D7 -> 0 | R6: 0
A7: ='Huyện-Tổng hợp'!A8 -> I. Thông tin chung | R7: 1
A8: ='Xã Thiệu Toán'!A8 -> Dân số:
A9: ='Xã Thiệu Toán'!A9 -> Số người ≥ 18 tuổi:
A10: ='Xã Thiệu Toán'!A10 -> Số người ≥ 40 tuổi:
A11: ='Xã Thiệu Toán'!A11 -> Tổng số thôn bản: | F11: ='Xã Thiệu Toán'!F11 -> Số điện thoại
A12: ='Xã Thiệu Toán'!A12 -> Số thôn bản có YTTB/CTV | F12: ='Xã Thiệu Toán'!F12 -> Email:
A13: ='Xã Thiệu Toán'!A13 -> Số YTTB/CTV
A14: ='Xã Thiệu Toán'!A14 -> Số cán bộ TYT | G14: ='Xã Thiệu Toán'!G14 -> Mầu xanh TYT xã cần nhập thông tin
A15: ='Xã Thiệu Toán'!A15 -> Số y, bác sỹ có CCHN | G15: ='Xã Thiệu Toán'!G15 -> Màu Vàng tự động tính không cần nhập
A16: ='Xã Thiệu Toán'!A16 -> Có bác sỹ làm việc không (Không=0; Có=1) | G16: ='Xã Thiệu Toán'!G16 -> Màu xám không cần nhập
A17: ='Xã Thiệu Toán'!A17 -> Sử dụng sổ theo dõi NCD điện tử (Không=0; Có=1)
A19: ='Huyện-Tổng hợp'!A19 -> II. Kết quả hoạt động phòng chống bệnh không lây nhiễm
A20: ='Huyện-Tổng hợp'!A20 -> 1. Phát hiện người nguy cơ cao, tiền bệnh, nghi ngờ mắc bệnh, mắc bệnh và số người khám sức khỏe định kỳ
A21: ='Xã Thiệu Toán'!A21 -> (Lấy số liệu từ sheet «sàng lọc phát hiện» của sổ theo dõi NCD điện tử)
B22: ='Huyện-Tổng hợp'!B22 -> Số người được đo huyết áp | C22: ='Huyện-Tổng hợp'!C22 -> Số người được xác định nghi ngờ THA (Chỉ số huyết áp ≥140/90) | D22: ='Huyện-Tổng hợp'!D22 -> Số người được sàng lọc nguy cơ ĐTĐ bằng bộ câu hỏi | E22: ='Huyện-Tổng hợp'!E22 -> Số người được phát hiện thừa cân béo phì (BMI≥25 hoặc vòng eo to) | F22: ='Huyện-Tổng hợp'!F22 -> Số người được xác định nguy cơ cao ĐTĐ (≥ 6 điểm) | G22: ='Huyện-Tổng hợp'!G22 -> Số người được xét nghiệm đường huyết | H22: ='Huyện-Tổng hợp'!H22 -> Số người phát hiện nghi ngờ rối loạn đường huyết (ĐH mao mạch ≥ 5.6 mmol/L) | I22: ='Huyện-Tổng hợp'!I22 -> Số người được sàng lọc BPTNMT/ hen phế quản | ... M22: ='Huyện-Tổng hợp'!M22 -> Tỷ lệ % người được khám sức khỏe định kỳ so với tổng dân số ≥ 18 tuổi(70% dân số)
A23: ='Xã Thiệu Toán'!A23 -> Số mới trong tháng | M23: =L23/(0.7*$D$8) -> #DIV/0!
A24: ='Xã Thiệu Toán'!A24 -> Số cộng dồn trong năm | M24: =L24/(0.7*$D$8) -> #DIV/0!
A27: ='Huyện-Tổng hợp'!A61 -> 2. Quản lý điều trị người bệnh tăng huyết áp và đái tháo đường tại các trạm y tế
A28: a. Phát hiện và Quản lý điều trị THA, ĐTĐ trong tháng
B30: ='Huyện-Tổng hợp'!B64 -> Số BN mắc THA ước tính(12% dân số) | E30: =12%*D8 -> 0 | G30: ='Huyện-Tổng hợp'!B112 -> Số BN mắc ĐTĐ ước tính (2% dân số) | J30: =2%*D8 -> 0
B32: ='Huyện-Tổng hợp'!B67 -> Mới phát hiện trong tháng | C32: ='Huyện-Tổng hợp'!C67:D67 -> Tổng số phát hiện cộng dồn | E32: ='Huyện-Tổng hợp'!E67:F67 -> Tổng số BN đến khám và lấy thuốc cộng dồn | G32: ='Huyện-Tổng hợp'!G67:H67 -> BN đến khám và cấp thuốc tháng vừa qua | I32: ='Huyện-Tổng hợp'!I67:J67 -> BN đến khám và cấp thuốc trong tháng vừa qua đạt mục tiêu điều trị (chuẩn 2020) | K32: ='Huyện-Tổng hợp'!K67:L67 -> BN đến khám và cấp thuốc trong tháng vừa qua đạt mục tiêu điều trị (chuẩn cũ)
C33: ='Huyện-Tổng hợp'!C68 -> Số lượng | D33: ='Huyện-Tổng hợp'!D68 -> Tỷ lệ | E33: ='Huyện-Tổng hợp'!E68 -> Số lượng | F33: ='Huyện-Tổng hợp'!F68 -> Tỷ lệ | G33: ='Huyện-Tổng hợp'!G68 -> Số lượng | H33: ='Huyện-Tổng hợp'!H68 -> Tỷ lệ | I33: ='Huyện-Tổng hợp'!I68 -> Số lượng | J33: ='Huyện-Tổng hợp'!J68 -> Tỷ lệ | ... L33: ='Huyện-Tổng hợp'!L68 -> Tỷ lệ
A34: THA | D34: =C34/E30 -> #DIV/0! | F34: =E34/C34 -> #DIV/0! | H34: =G34/E34 -> #DIV/0! | J34: =I34/G34 -> #DIV/0! | L34: =K34/G34 -> #DIV/0!
A35: ĐTĐ | D35: =C35/J30 -> #DIV/0! | F35: =E35/C35 -> #DIV/0! | H35: =G35/E35 -> #DIV/0! | J35: =I35/G35 -> #DIV/0!
A37: b. Phát hiện và Quản lý điều trị THA, ĐTĐ trong kỳ báo cáo 3 tháng, 6 tháng, 9 tháng và 12 tháng
B38: ='Huyện-Tổng hợp'!B161 -> Mới phát hiện trong kỳ báo cáo | C38: ='Huyện-Tổng hợp'!C161:D161 -> Tổng số phát hiện trong kỳ báo cáo (cộng dồn) | E38: ='Huyện-Tổng hợp'!E161:F161 -> Tổng số BN đang được quản lý trong kỳ báo cáo | G38: ='Huyện-Tổng hợp'!G161:H161 -> BN được khám và cấp thuốc tháng cuối của kỳ báo cáo | I38: ='Huyện-Tổng hợp'!I161:J161 -> BN được quản lý điều trị đạt mục tiêu điều trị tại tháng cuối của kỳ báo cáo (chuẩn 2020) | K38: ='Huyện-Tổng hợp'!K161:L161 -> BN được quản lý điều trị đạt mục tiêu điều trị trong quý cuối của kỳ báo cáo (chuẩn 2020) | M38: ='Huyện-Tổng hợp'!M161:N161 -> BN được quản lý tại đạt mục tiêu điều trị trong quý cuối của kỳ báo cáo (chuẩn cũ)
C39: ='Huyện-Tổng hợp'!C162 -> Số lượng | D39: ='Huyện-Tổng hợp'!D162 -> Tỷ lệ | E39: ='Huyện-Tổng hợp'!E162 -> Số lượng | F39: ='Huyện-Tổng hợp'!F162 -> Tỷ lệ | G39: ='Huyện-Tổng hợp'!G162 -> Số lượng | H39: ='Huyện-Tổng hợp'!H162 -> Tỷ lệ | I39: ='Huyện-Tổng hợp'!I162 -> Số lượng | J39: ='Huyện-Tổng hợp'!J162 -> Tỷ lệ | ... N39: ='Huyện-Tổng hợp'!N162 -> Tỷ lệ
A40: THA | C40: =C34 -> 0 | D40: =D34 -> #DIV/0! | F40: =E40/C40 -> #DIV/0! | G40: =G34 -> 0 | H40: =G40/E40 -> #DIV/0! | I40: =I34 -> 0 | J40: =J34 -> #DIV/0! | L40: =K40/E40 -> #DIV/0! | N40: =M40/E40 -> #DIV/0!
A41: ĐTĐ | C41: =C35 -> 0 | D41: =D35 -> #DIV/0! | F41: =E41/C41 -> #DIV/0! | G41: =G35 -> 0 | H41: =G41/E41 -> #DIV/0! | I41: =I35 -> 0 | J41: =J35 -> #DIV/0! | L41: =K41/E41 -> #DIV/0!
A43: ='Huyện-Tổng hợp'!A249 -> III. Tổng hợp cung ứng thuốc tại các TYT
B44: ='Huyện-Tổng hợp'!B251:G251 -> Thuốc điều trị THA | H44: ='Huyện-Tổng hợp'!H251:K251 -> Thuốc điều trị ĐTĐ
B45: ='Huyện-Tổng hợp'!B252:B252 -> Có thuốc chẹn kênh can xi (bao gồm cả viên kết hợp có thành phần này) | C45: ='Huyện-Tổng hợp'!C252:C252 -> Có thuốc ức chế men chuyển và/hoặc ức chế thụ thể (bao gồm cả viên kết hợp có thành phần này) | D45: ='Huyện-Tổng hợp'!D252:D252 -> Có thuốc lợi tiểu thiazide hoặc tương tự (bao gồm cả viên kết hợp có thành phần này) | E45: ='Huyện-Tổng hợp'!E252:E252 -> Có thuốc kết hợp 2 loại đơn chất trên | F45: ='Huyện-Tổng hợp'!F252:F252 -> Có thuốc kết hợp 3 loại đơn chất trên | G45: ='Huyện-Tổng hợp'!G252:G252 -> Có thực hiện cấp thuốc 28-30 ngày cho phần lớn bệnh nhân THA | H45: ='Huyện-Tổng hợp'!H252:H252 -> Có thuốc Metformin | I45: ='Huyện-Tổng hợp'!I252:I252 -> Có thuốc Gliclazide | ... K45: ='Huyện-Tổng hợp'!K252:K252 -> Có thực hiện cấp thuốc 28-30 ngày cho phần lớn bệnh nhân ĐTĐ
A46: ='Xã Thiệu Toán'!A46 -> Có = 1 Không có = 0
A49: ='Huyện-Tổng hợp'!A288 -> IV. Quản lý điều trị các bệnh khác
B51: ='Huyện-Tổng hợp'!A289 -> a. Quản lý điều trị Tâm thần phân liệt và Động kinh
C52: ='Huyện-Tổng hợp'!C290:G290 -> Tâm thần phân liệt | H52: ='Huyện-Tổng hợp'!H290:L290 -> Động kinh
C53: ='Huyện-Tổng hợp'!C291 -> Tổng số phát hiện | D53: ='Huyện-Tổng hợp'!D291 -> Mới phát hiện trong kỳ báo cáo | E53: ='Huyện-Tổng hợp'!E291 -> Tổng số BN đang được quản lý | F53: ='Huyện-Tổng hợp'!F291 -> Số BN được khám và cấp thuốc trong tháng vừa qua trong số BN được quản lý | G53: ='Huyện-Tổng hợp'!G291 -> Số BN điều trị đạt hiệu quả trong số BN được quản lý | H53: ='Huyện-Tổng hợp'!H291 -> Tổng số phát hiện | I53: ='Huyện-Tổng hợp'!I291 -> Mới phát hiện trong kỳ báo cáo | J53: ='Huyện-Tổng hợp'!J291 -> Tổng số BN đang được quản lý | ... L53: ='Huyện-Tổng hợp'!L291 -> Số BN điều trị đạt hiệu quả trong số BN được quản lý
B54: ='Xã Thiệu Toán'!B54 -> Kết quả
B57: ='Huyện-Tổng hợp'!A334 -> b. Quản lý điều trị Bệnh phổi mạn tính (COPD và Hen) và BKLN khác
C58: ='Huyện-Tổng hợp'!C336:G336 -> Bệnh phổi mạn tính (COPD/Hen) | H58: ='Huyện-Tổng hợp'!H336:L336 -> Bệnh KLN khác
C59: ='Huyện-Tổng hợp'!C337 -> Tổng số phát hiện | D59: ='Huyện-Tổng hợp'!D337 -> Mới phát hiện trong kỳ báo cáo | E59: ='Huyện-Tổng hợp'!E337 -> Tổng số BN đang được quản lý | F59: ='Huyện-Tổng hợp'!F337 -> Số BN được khám và cấp thuốc trong tháng vừa qua trong số BN được quản lý | G59: ='Huyện-Tổng hợp'!G337 -> Số BN điều trị đạt hiệu quả trong số BN được quản lý | H59: ='Huyện-Tổng hợp'!H337 -> Tổng số phát hiện | I59: ='Huyện-Tổng hợp'!I337 -> Mới phát hiện trong kỳ báo cáo | J59: ='Huyện-Tổng hợp'!J337 -> Tổng số BN đang được quản lý | ... L59: ='Huyện-Tổng hợp'!L337 -> Số BN điều trị đạt hiệu quả trong số BN được quản lý
B60: ='Xã Thiệu Toán'!B60 -> Kết quả
A62: ='Huyện-Tổng hợp'!A379 -> V. Báo cáo nguyên nhân tử vong
A64: ='Xã Thiệu Toán'!A64 -> TT | B64: ='Xã Thiệu Toán'!B64 -> Ngày, tháng ghi sổ | C64: ='Xã Thiệu Toán'!C64 -> Họ và tên | E64: ='Xã Thiệu Toán'!E64 -> Tuổi | G64: ='Xã Thiệu Toán'!G64 -> Địa chỉ | H64: ='Xã Thiệu Toán'!H64 -> Nghề nghiệp | I64: ='Xã Thiệu Toán'!I64 -> Dân tộc | J64: ='Xã Thiệu Toán'!J64 -> Ngày tháng tử vong | K64: ='Xã Thiệu Toán'!K64 -> Nơi Tử vong | L64: ='Xã Thiệu Toán'!L64 -> Nguyên nhân chính gây tử vong | N64: ='Xã Thiệu Toán'!N64 -> Mã VN | O64: ='Xã Thiệu Toán'!O64 -> Đã khám/điều trị tại CSYT trong vòng 30 ngày trước khi tử vong | P64: ='Xã Thiệu Toán'!P64 -> Được CBYT chăm sóc khi tử vong | Q64: ='Xã Thiệu Toán'!Q64 -> Được cấp giấy báo tử
E65: ='Xã Thiệu Toán'!E65 -> Nam | F65: ='Xã Thiệu Toán'!F65 -> Nữ
A66: 1
A67: 2
A68: 3
A69: 4
A70: 5
A71: 6
A72: 7
A73: 8
A74: 9
A75: 10
A76: 11
A77: 12
... A95: 30
A97: ='Xã Thiệu Toán'!A96 -> Nhận xét
A99: ='Xã Thiệu Toán'!A98 -> Kiến nghị

Sheet Tân Châu
A1: ='Huyện-Tổng hợp'!A2:C2 -> Mẫu báo cáo TYT xã - X0106 | D1: CỘNG HÒA XÃ HỘI CHỦ NGHĨA VIỆT NAM
D2: Độc lập – Tự do – Hạnh phúc
A3: TTYT huyện: | C3: ='Huyện-Tổng hợp'!B3 -> Thiệu Hóa
A4: TYT xã
A5: ='Xã Thiệu Toán'!A5 -> BÁO CÁO HOẠT ĐỘNG QUẢN LÝ ĐIỀU TRỊ BỆNH KHÔNG LÂY NHIỄM TẠI TRẠM Y TẾ
C6: Tháng | D6: ='Huyện-Tổng hợp'!D7 -> 0 | R6: 0
A7: ='Huyện-Tổng hợp'!A8 -> I. Thông tin chung | R7: 1
A8: ='Xã Thiệu Toán'!A8 -> Dân số:
A9: ='Xã Thiệu Toán'!A9 -> Số người ≥ 18 tuổi:
A10: ='Xã Thiệu Toán'!A10 -> Số người ≥ 40 tuổi:
A11: ='Xã Thiệu Toán'!A11 -> Tổng số thôn bản: | F11: ='Xã Thiệu Toán'!F11 -> Số điện thoại
A12: ='Xã Thiệu Toán'!A12 -> Số thôn bản có YTTB/CTV | F12: ='Xã Thiệu Toán'!F12 -> Email:
A13: ='Xã Thiệu Toán'!A13 -> Số YTTB/CTV
A14: ='Xã Thiệu Toán'!A14 -> Số cán bộ TYT | G14: ='Xã Thiệu Toán'!G14 -> Mầu xanh TYT xã cần nhập thông tin
A15: ='Xã Thiệu Toán'!A15 -> Số y, bác sỹ có CCHN | G15: ='Xã Thiệu Toán'!G15 -> Màu Vàng tự động tính không cần nhập
A16: ='Xã Thiệu Toán'!A16 -> Có bác sỹ làm việc không (Không=0; Có=1) | G16: ='Xã Thiệu Toán'!G16 -> Màu xám không cần nhập
A17: ='Xã Thiệu Toán'!A17 -> Sử dụng sổ theo dõi NCD điện tử (Không=0; Có=1)
A19: ='Huyện-Tổng hợp'!A19 -> II. Kết quả hoạt động phòng chống bệnh không lây nhiễm
A20: ='Huyện-Tổng hợp'!A20 -> 1. Phát hiện người nguy cơ cao, tiền bệnh, nghi ngờ mắc bệnh, mắc bệnh và số người khám sức khỏe định kỳ
A21: ='Xã Thiệu Toán'!A21 -> (Lấy số liệu từ sheet «sàng lọc phát hiện» của sổ theo dõi NCD điện tử)
B22: ='Huyện-Tổng hợp'!B22 -> Số người được đo huyết áp | C22: ='Huyện-Tổng hợp'!C22 -> Số người được xác định nghi ngờ THA (Chỉ số huyết áp ≥140/90) | D22: ='Huyện-Tổng hợp'!D22 -> Số người được sàng lọc nguy cơ ĐTĐ bằng bộ câu hỏi | E22: ='Huyện-Tổng hợp'!E22 -> Số người được phát hiện thừa cân béo phì (BMI≥25 hoặc vòng eo to) | F22: ='Huyện-Tổng hợp'!F22 -> Số người được xác định nguy cơ cao ĐTĐ (≥ 6 điểm) | G22: ='Huyện-Tổng hợp'!G22 -> Số người được xét nghiệm đường huyết | H22: ='Huyện-Tổng hợp'!H22 -> Số người phát hiện nghi ngờ rối loạn đường huyết (ĐH mao mạch ≥ 5.6 mmol/L) | I22: ='Huyện-Tổng hợp'!I22 -> Số người được sàng lọc BPTNMT/ hen phế quản | ... M22: ='Huyện-Tổng hợp'!M22 -> Tỷ lệ % người được khám sức khỏe định kỳ so với tổng dân số ≥ 18 tuổi(70% dân số)
A23: ='Xã Thiệu Toán'!A23 -> Số mới trong tháng | M23: =L23/(0.7*$D$8) -> #DIV/0!
A24: ='Xã Thiệu Toán'!A24 -> Số cộng dồn trong năm | M24: =L24/(0.7*$D$8) -> #DIV/0!
A27: ='Huyện-Tổng hợp'!A61 -> 2. Quản lý điều trị người bệnh tăng huyết áp và đái tháo đường tại các trạm y tế
A28: a. Phát hiện và Quản lý điều trị THA, ĐTĐ trong tháng
B30: ='Huyện-Tổng hợp'!B64 -> Số BN mắc THA ước tính(12% dân số) | E30: =12%*D8 -> 0 | G30: ='Huyện-Tổng hợp'!B112 -> Số BN mắc ĐTĐ ước tính (2% dân số) | J30: =2%*D8 -> 0
B32: ='Huyện-Tổng hợp'!B67 -> Mới phát hiện trong tháng | C32: ='Huyện-Tổng hợp'!C67:D67 -> Tổng số phát hiện cộng dồn | E32: ='Huyện-Tổng hợp'!E67:F67 -> Tổng số BN đến khám và lấy thuốc cộng dồn | G32: ='Huyện-Tổng hợp'!G67:H67 -> BN đến khám và cấp thuốc tháng vừa qua | I32: ='Huyện-Tổng hợp'!I67:J67 -> BN đến khám và cấp thuốc trong tháng vừa qua đạt mục tiêu điều trị (chuẩn 2020) | K32: ='Huyện-Tổng hợp'!K67:L67 -> BN đến khám và cấp thuốc trong tháng vừa qua đạt mục tiêu điều trị (chuẩn cũ)
C33: ='Huyện-Tổng hợp'!C68 -> Số lượng | D33: ='Huyện-Tổng hợp'!D68 -> Tỷ lệ | E33: ='Huyện-Tổng hợp'!E68 -> Số lượng | F33: ='Huyện-Tổng hợp'!F68 -> Tỷ lệ | G33: ='Huyện-Tổng hợp'!G68 -> Số lượng | H33: ='Huyện-Tổng hợp'!H68 -> Tỷ lệ | I33: ='Huyện-Tổng hợp'!I68 -> Số lượng | J33: ='Huyện-Tổng hợp'!J68 -> Tỷ lệ | ... L33: ='Huyện-Tổng hợp'!L68 -> Tỷ lệ
A34: THA | D34: =C34/E30 -> #DIV/0! | F34: =E34/C34 -> #DIV/0! | H34: =G34/E34 -> #DIV/0! | J34: =I34/G34 -> #DIV/0! | L34: =K34/G34 -> #DIV/0!
A35: ĐTĐ | D35: =C35/J30 -> #DIV/0! | F35: =E35/C35 -> #DIV/0! | H35: =G35/E35 -> #DIV/0! | J35: =I35/G35 -> #DIV/0!
A37: b. Phát hiện và Quản lý điều trị THA, ĐTĐ trong kỳ báo cáo 3 tháng, 6 tháng, 9 tháng và 12 tháng
B38: ='Huyện-Tổng hợp'!B161 -> Mới phát hiện trong kỳ báo cáo | C38: ='Huyện-Tổng hợp'!C161:D161 -> Tổng số phát hiện trong kỳ báo cáo (cộng dồn) | E38: ='Huyện-Tổng hợp'!E161:F161 -> Tổng số BN đang được quản lý trong kỳ báo cáo | G38: ='Huyện-Tổng hợp'!G161:H161 -> BN được khám và cấp thuốc tháng cuối của kỳ báo cáo | I38: ='Huyện-Tổng hợp'!I161:J161 -> BN được quản lý điều trị đạt mục tiêu điều trị tại tháng cuối của kỳ báo cáo (chuẩn 2020) | K38: ='Huyện-Tổng hợp'!K161:L161 -> BN được quản lý điều trị đạt mục tiêu điều trị trong quý cuối của kỳ báo cáo (chuẩn 2020) | M38: ='Huyện-Tổng hợp'!M161:N161 -> BN được quản lý tại đạt mục tiêu điều trị trong quý cuối của kỳ báo cáo (chuẩn cũ)
C39: ='Huyện-Tổng hợp'!C162 -> Số lượng | D39: ='Huyện-Tổng hợp'!D162 -> Tỷ lệ | E39: ='Huyện-Tổng hợp'!E162 -> Số lượng | F39: ='Huyện-Tổng hợp'!F162 -> Tỷ lệ | G39: ='Huyện-Tổng hợp'!G162 -> Số lượng | H39: ='Huyện-Tổng hợp'!H162 -> Tỷ lệ | I39: ='Huyện-Tổng hợp'!I162 -> Số lượng | J39: ='Huyện-Tổng hợp'!J162 -> Tỷ lệ | ... N39: ='Huyện-Tổng hợp'!N162 -> Tỷ lệ
A40: THA | C40: =C34 -> 0 | D40: =D34 -> #DIV/0! | F40: =E40/C40 -> #DIV/0! | G40: =G34 -> 0 | H40: =G40/E40 -> #DIV/0! | I40: =I34 -> 0 | J40: =J34 -> #DIV/0! | L40: =K40/E40 -> #DIV/0! | N40: =M40/E40 -> #DIV/0!
A41: ĐTĐ | C41: =C35 -> 0 | D41: =D35 -> #DIV/0! | F41: =E41/C41 -> #DIV/0! | G41: =G35 -> 0 | H41: =G41/E41 -> #DIV/0! | I41: =I35 -> 0 | J41: =J35 -> #DIV/0! | L41: =K41/E41 -> #DIV/0!
A43: ='Huyện-Tổng hợp'!A249 -> III. Tổng hợp cung ứng thuốc tại các TYT
B44: ='Huyện-Tổng hợp'!B251:G251 -> Thuốc điều trị THA | H44: ='Huyện-Tổng hợp'!H251:K251 -> Thuốc điều trị ĐTĐ
B45: ='Huyện-Tổng hợp'!B252:B252 -> Có thuốc chẹn kênh can xi (bao gồm cả viên kết hợp có thành phần này) | C45: ='Huyện-Tổng hợp'!C252:C252 -> Có thuốc ức chế men chuyển và/hoặc ức chế thụ thể (bao gồm cả viên kết hợp có thành phần này) | D45: ='Huyện-Tổng hợp'!D252:D252 -> Có thuốc lợi tiểu thiazide hoặc tương tự (bao gồm cả viên kết hợp có thành phần này) | E45: ='Huyện-Tổng hợp'!E252:E252 -> Có thuốc kết hợp 2 loại đơn chất trên | F45: ='Huyện-Tổng hợp'!F252:F252 -> Có thuốc kết hợp 3 loại đơn chất trên | G45: ='Huyện-Tổng hợp'!G252:G252 -> Có thực hiện cấp thuốc 28-30 ngày cho phần lớn bệnh nhân THA | H45: ='Huyện-Tổng hợp'!H252:H252 -> Có thuốc Metformin | I45: ='Huyện-Tổng hợp'!I252:I252 -> Có thuốc Gliclazide | ... K45: ='Huyện-Tổng hợp'!K252:K252 -> Có thực hiện cấp thuốc 28-30 ngày cho phần lớn bệnh nhân ĐTĐ
A46: ='Xã Thiệu Toán'!A46 -> Có = 1 Không có = 0
A49: ='Huyện-Tổng hợp'!A288 -> IV. Quản lý điều trị các bệnh khác
B51: ='Huyện-Tổng hợp'!A289 -> a. Quản lý điều trị Tâm thần phân liệt và Động kinh
C52: ='Huyện-Tổng hợp'!C290:G290 -> Tâm thần phân liệt | H52: ='Huyện-Tổng hợp'!H290:L290 -> Động kinh
C53: ='Huyện-Tổng hợp'!C291 -> Tổng số phát hiện | D53: ='Huyện-Tổng hợp'!D291 -> Mới phát hiện trong kỳ báo cáo | E53: ='Huyện-Tổng hợp'!E291 -> Tổng số BN đang được quản lý | F53: ='Huyện-Tổng hợp'!F291 -> Số BN được khám và cấp thuốc trong tháng vừa qua trong số BN được quản lý | G53: ='Huyện-Tổng hợp'!G291 -> Số BN điều trị đạt hiệu quả trong số BN được quản lý | H53: ='Huyện-Tổng hợp'!H291 -> Tổng số phát hiện | I53: ='Huyện-Tổng hợp'!I291 -> Mới phát hiện trong kỳ báo cáo | J53: ='Huyện-Tổng hợp'!J291 -> Tổng số BN đang được quản lý | ... L53: ='Huyện-Tổng hợp'!L291 -> Số BN điều trị đạt hiệu quả trong số BN được quản lý
B54: ='Xã Thiệu Toán'!B54 -> Kết quả
B57: ='Huyện-Tổng hợp'!A334 -> b. Quản lý điều trị Bệnh phổi mạn tính (COPD và Hen) và BKLN khác
C58: ='Huyện-Tổng hợp'!C336:G336 -> Bệnh phổi mạn tính (COPD/Hen) | H58: ='Huyện-Tổng hợp'!H336:L336 -> Bệnh KLN khác
C59: ='Huyện-Tổng hợp'!C337 -> Tổng số phát hiện | D59: ='Huyện-Tổng hợp'!D337 -> Mới phát hiện trong kỳ báo cáo | E59: ='Huyện-Tổng hợp'!E337 -> Tổng số BN đang được quản lý | F59: ='Huyện-Tổng hợp'!F337 -> Số BN được khám và cấp thuốc trong tháng vừa qua trong số BN được quản lý | G59: ='Huyện-Tổng hợp'!G337 -> Số BN điều trị đạt hiệu quả trong số BN được quản lý | H59: ='Huyện-Tổng hợp'!H337 -> Tổng số phát hiện | I59: ='Huyện-Tổng hợp'!I337 -> Mới phát hiện trong kỳ báo cáo | J59: ='Huyện-Tổng hợp'!J337 -> Tổng số BN đang được quản lý | ... L59: ='Huyện-Tổng hợp'!L337 -> Số BN điều trị đạt hiệu quả trong số BN được quản lý
B60: ='Xã Thiệu Toán'!B60 -> Kết quả
A62: ='Huyện-Tổng hợp'!A379 -> V. Báo cáo nguyên nhân tử vong
A64: ='Xã Thiệu Toán'!A64 -> TT | B64: ='Xã Thiệu Toán'!B64 -> Ngày, tháng ghi sổ | C64: ='Xã Thiệu Toán'!C64 -> Họ và tên | E64: ='Xã Thiệu Toán'!E64 -> Tuổi | G64: ='Xã Thiệu Toán'!G64 -> Địa chỉ | H64: ='Xã Thiệu Toán'!H64 -> Nghề nghiệp | I64: ='Xã Thiệu Toán'!I64 -> Dân tộc | J64: ='Xã Thiệu Toán'!J64 -> Ngày tháng tử vong | K64: ='Xã Thiệu Toán'!K64 -> Nơi Tử vong | L64: ='Xã Thiệu Toán'!L64 -> Nguyên nhân chính gây tử vong | N64: ='Xã Thiệu Toán'!N64 -> Mã VN | O64: ='Xã Thiệu Toán'!O64 -> Đã khám/điều trị tại CSYT trong vòng 30 ngày trước khi tử vong | P64: ='Xã Thiệu Toán'!P64 -> Được CBYT chăm sóc khi tử vong | Q64: ='Xã Thiệu Toán'!Q64 -> Được cấp giấy báo tử
E65: ='Xã Thiệu Toán'!E65 -> Nam | F65: ='Xã Thiệu Toán'!F65 -> Nữ
A66: 1
A67: 2
A68: 3
A69: 4
A70: 5
A71: 6
A72: 7
A73: 8
A74: 9
A75: 10
A76: 11
A77: 12
... A95: 30
A97: ='Xã Thiệu Toán'!A96 -> Nhận xét
A99: ='Xã Thiệu Toán'!A98 -> Kiến nghị

Sheet Xã Thiệu Ngọc
A1: ='Huyện-Tổng hợp'!A2:C2 -> Mẫu báo cáo TYT xã - X0106 | D1: CỘNG HÒA XÃ HỘI CHỦ NGHĨA VIỆT NAM
D2: Độc lập – Tự do – Hạnh phúc
A3: TTYT huyện: | C3: ='Huyện-Tổng hợp'!B3 -> Thiệu Hóa
A4: TYT xã
A5: ='Xã Thiệu Toán'!A5 -> BÁO CÁO HOẠT ĐỘNG QUẢN LÝ ĐIỀU TRỊ BỆNH KHÔNG LÂY NHIỄM TẠI TRẠM Y TẾ
C6: Tháng | D6: ='Huyện-Tổng hợp'!D7 -> 0 | R6: 0
A7: ='Huyện-Tổng hợp'!A8 -> I. Thông tin chung | R7: 1
A8: ='Xã Thiệu Toán'!A8 -> Dân số:
A9: ='Xã Thiệu Toán'!A9 -> Số người ≥ 18 tuổi:
A10: ='Xã Thiệu Toán'!A10 -> Số người ≥ 40 tuổi:
A11: ='Xã Thiệu Toán'!A11 -> Tổng số thôn bản: | F11: ='Xã Thiệu Toán'!F11 -> Số điện thoại
A12: ='Xã Thiệu Toán'!A12 -> Số thôn bản có YTTB/CTV | F12: ='Xã Thiệu Toán'!F12 -> Email:
A13: ='Xã Thiệu Toán'!A13 -> Số YTTB/CTV
A14: ='Xã Thiệu Toán'!A14 -> Số cán bộ TYT | G14: ='Xã Thiệu Toán'!G14 -> Mầu xanh TYT xã cần nhập thông tin
A15: ='Xã Thiệu Toán'!A15 -> Số y, bác sỹ có CCHN | G15: ='Xã Thiệu Toán'!G15 -> Màu Vàng tự động tính không cần nhập
A16: ='Xã Thiệu Toán'!A16 -> Có bác sỹ làm việc không (Không=0; Có=1) | G16: ='Xã Thiệu Toán'!G16 -> Màu xám không cần nhập
A17: ='Xã Thiệu Toán'!A17 -> Sử dụng sổ theo dõi NCD điện tử (Không=0; Có=1)
A19: ='Huyện-Tổng hợp'!A19 -> II. Kết quả hoạt động phòng chống bệnh không lây nhiễm
A20: ='Huyện-Tổng hợp'!A20 -> 1. Phát hiện người nguy cơ cao, tiền bệnh, nghi ngờ mắc bệnh, mắc bệnh và số người khám sức khỏe định kỳ
A21: ='Xã Thiệu Toán'!A21 -> (Lấy số liệu từ sheet «sàng lọc phát hiện» của sổ theo dõi NCD điện tử)
B22: ='Huyện-Tổng hợp'!B22 -> Số người được đo huyết áp | C22: ='Huyện-Tổng hợp'!C22 -> Số người được xác định nghi ngờ THA (Chỉ số huyết áp ≥140/90) | D22: ='Huyện-Tổng hợp'!D22 -> Số người được sàng lọc nguy cơ ĐTĐ bằng bộ câu hỏi | E22: ='Huyện-Tổng hợp'!E22 -> Số người được phát hiện thừa cân béo phì (BMI≥25 hoặc vòng eo to) | F22: ='Huyện-Tổng hợp'!F22 -> Số người được xác định nguy cơ cao ĐTĐ (≥ 6 điểm) | G22: ='Huyện-Tổng hợp'!G22 -> Số người được xét nghiệm đường huyết | H22: ='Huyện-Tổng hợp'!H22 -> Số người phát hiện nghi ngờ rối loạn đường huyết (ĐH mao mạch ≥ 5.6 mmol/L) | I22: ='Huyện-Tổng hợp'!I22 -> Số người được sàng lọc BPTNMT/ hen phế quản | ... M22: ='Huyện-Tổng hợp'!M22 -> Tỷ lệ % người được khám sức khỏe định kỳ so với tổng dân số ≥ 18 tuổi(70% dân số)
A23: ='Xã Thiệu Toán'!A23 -> Số mới trong tháng | M23: =L23/(0.7*$D$8) -> #DIV/0!
A24: ='Xã Thiệu Toán'!A24 -> Số cộng dồn trong năm | M24: =L24/(0.7*$D$8) -> #DIV/0!
A27: ='Huyện-Tổng hợp'!A61 -> 2. Quản lý điều trị người bệnh tăng huyết áp và đái tháo đường tại các trạm y tế
A28: a. Phát hiện và Quản lý điều trị THA, ĐTĐ trong tháng
B30: ='Huyện-Tổng hợp'!B64 -> Số BN mắc THA ước tính(12% dân số) | E30: =12%*D8 -> 0 | G30: ='Huyện-Tổng hợp'!B112 -> Số BN mắc ĐTĐ ước tính (2% dân số) | J30: =2%*D8 -> 0
B32: ='Huyện-Tổng hợp'!B67 -> Mới phát hiện trong tháng | C32: ='Huyện-Tổng hợp'!C67:D67 -> Tổng số phát hiện cộng dồn | E32: ='Huyện-Tổng hợp'!E67:F67 -> Tổng số BN đến khám và lấy thuốc cộng dồn | G32: ='Huyện-Tổng hợp'!G67:H67 -> BN đến khám và cấp thuốc tháng vừa qua | I32: ='Huyện-Tổng hợp'!I67:J67 -> BN đến khám và cấp thuốc trong tháng vừa qua đạt mục tiêu điều trị (chuẩn 2020) | K32: ='Huyện-Tổng hợp'!K67:L67 -> BN đến khám và cấp thuốc trong tháng vừa qua đạt mục tiêu điều trị (chuẩn cũ)
C33: ='Huyện-Tổng hợp'!C68 -> Số lượng | D33: ='Huyện-Tổng hợp'!D68 -> Tỷ lệ | E33: ='Huyện-Tổng hợp'!E68 -> Số lượng | F33: ='Huyện-Tổng hợp'!F68 -> Tỷ lệ | G33: ='Huyện-Tổng hợp'!G68 -> Số lượng | H33: ='Huyện-Tổng hợp'!H68 -> Tỷ lệ | I33: ='Huyện-Tổng hợp'!I68 -> Số lượng | J33: ='Huyện-Tổng hợp'!J68 -> Tỷ lệ | ... L33: ='Huyện-Tổng hợp'!L68 -> Tỷ lệ
A34: THA | D34: =C34/E30 -> #DIV/0! | F34: =E34/C34 -> #DIV/0! | H34: =G34/E34 -> #DIV/0! | J34: =I34/G34 -> #DIV/0! | L34: =K34/G34 -> #DIV/0!
A35: ĐTĐ | D35: =C35/J30 -> #DIV/0! | F35: =E35/C35 -> #DIV/0! | H35: =G35/E35 -> #DIV/0! | J35: =I35/G35 -> #DIV/0!
A37: b. Phát hiện và Quản lý điều trị THA, ĐTĐ trong kỳ báo cáo 3 tháng, 6 tháng, 9 tháng và 12 tháng
B38: ='Huyện-Tổng hợp'!B161 -> Mới phát hiện trong kỳ báo cáo | C38: ='Huyện-Tổng hợp'!C161:D161 -> Tổng số phát hiện trong kỳ báo cáo (cộng dồn) | E38: ='Huyện-Tổng hợp'!E161:F161 -> Tổng số BN đang được quản lý trong kỳ báo cáo | G38: ='Huyện-Tổng hợp'!G161:H161 -> BN được khám và cấp thuốc tháng cuối của kỳ báo cáo | I38: ='Huyện-Tổng hợp'!I161:J161 -> BN được quản lý điều trị đạt mục tiêu điều trị tại tháng cuối của kỳ báo cáo (chuẩn 2020) | K38: ='Huyện-Tổng hợp'!K161:L161 -> BN được quản lý điều trị đạt mục tiêu điều trị trong quý cuối của kỳ báo cáo (chuẩn 2020) | M38: ='Huyện-Tổng hợp'!M161:N161 -> BN được quản lý tại đạt mục tiêu điều trị trong quý cuối của kỳ báo cáo (chuẩn cũ)
C39: ='Huyện-Tổng hợp'!C162 -> Số lượng | D39: ='Huyện-Tổng hợp'!D162 -> Tỷ lệ | E39: ='Huyện-Tổng hợp'!E162 -> Số lượng | F39: ='Huyện-Tổng hợp'!F162 -> Tỷ lệ | G39: ='Huyện-Tổng hợp'!G162 -> Số lượng | H39: ='Huyện-Tổng hợp'!H162 -> Tỷ lệ | I39: ='Huyện-Tổng hợp'!I162 -> Số lượng | J39: ='Huyện-Tổng hợp'!J162 -> Tỷ lệ | ... N39: ='Huyện-Tổng hợp'!N162 -> Tỷ lệ
A40: THA | C40: =C34 -> 0 | D40: =D34 -> #DIV/0! | F40: =E40/C40 -> #DIV/0! | G40: =G34 -> 0 | H40: =G40/E40 -> #DIV/0! | I40: =I34 -> 0 | J40: =J34 -> #DIV/0! | L40: =K40/E40 -> #DIV/0! | N40: =M40/E40 -> #DIV/0!
A41: ĐTĐ | C41: =C35 -> 0 | D41: =D35 -> #DIV/0! | F41: =E41/C41 -> #DIV/0! | G41: =G35 -> 0 | H41: =G41/E41 -> #DIV/0! | I41: =I35 -> 0 | J41: =J35 -> #DIV/0! | L41: =K41/E41 -> #DIV/0!
A43: ='Huyện-Tổng hợp'!A249 -> III. Tổng hợp cung ứng thuốc tại các TYT
B44: ='Huyện-Tổng hợp'!B251:G251 -> Thuốc điều trị THA | H44: ='Huyện-Tổng hợp'!H251:K251 -> Thuốc điều trị ĐTĐ
B45: ='Huyện-Tổng hợp'!B252:B252 -> Có thuốc chẹn kênh can xi (bao gồm cả viên kết hợp có thành phần này) | C45: ='Huyện-Tổng hợp'!C252:C252 -> Có thuốc ức chế men chuyển và/hoặc ức chế thụ thể (bao gồm cả viên kết hợp có thành phần này) | D45: ='Huyện-Tổng hợp'!D252:D252 -> Có thuốc lợi tiểu thiazide hoặc tương tự (bao gồm cả viên kết hợp có thành phần này) | E45: ='Huyện-Tổng hợp'!E252:E252 -> Có thuốc kết hợp 2 loại đơn chất trên | F45: ='Huyện-Tổng hợp'!F252:F252 -> Có thuốc kết hợp 3 loại đơn chất trên | G45: ='Huyện-Tổng hợp'!G252:G252 -> Có thực hiện cấp thuốc 28-30 ngày cho phần lớn bệnh nhân THA | H45: ='Huyện-Tổng hợp'!H252:H252 -> Có thuốc Metformin | I45: ='Huyện-Tổng hợp'!I252:I252 -> Có thuốc Gliclazide | ... K45: ='Huyện-Tổng hợp'!K252:K252 -> Có thực hiện cấp thuốc 28-30 ngày cho phần lớn bệnh nhân ĐTĐ
A46: ='Xã Thiệu Toán'!A46 -> Có = 1 Không có = 0
A49: ='Huyện-Tổng hợp'!A288 -> IV. Quản lý điều trị các bệnh khác
B51: ='Huyện-Tổng hợp'!A289 -> a. Quản lý điều trị Tâm thần phân liệt và Động kinh
C52: ='Huyện-Tổng hợp'!C290:G290 -> Tâm thần phân liệt | H52: ='Huyện-Tổng hợp'!H290:L290 -> Động kinh
C53: ='Huyện-Tổng hợp'!C291 -> Tổng số phát hiện | D53: ='Huyện-Tổng hợp'!D291 -> Mới phát hiện trong kỳ báo cáo | E53: ='Huyện-Tổng hợp'!E291 -> Tổng số BN đang được quản lý | F53: ='Huyện-Tổng hợp'!F291 -> Số BN được khám và cấp thuốc trong tháng vừa qua trong số BN được quản lý | G53: ='Huyện-Tổng hợp'!G291 -> Số BN điều trị đạt hiệu quả trong số BN được quản lý | H53: ='Huyện-Tổng hợp'!H291 -> Tổng số phát hiện | I53: ='Huyện-Tổng hợp'!I291 -> Mới phát hiện trong kỳ báo cáo | J53: ='Huyện-Tổng hợp'!J291 -> Tổng số BN đang được quản lý | ... L53: ='Huyện-Tổng hợp'!L291 -> Số BN điều trị đạt hiệu quả trong số BN được quản lý
B54: ='Xã Thiệu Toán'!B54 -> Kết quả
B57: ='Huyện-Tổng hợp'!A334 -> b. Quản lý điều trị Bệnh phổi mạn tính (COPD và Hen) và BKLN khác
C58: ='Huyện-Tổng hợp'!C336:G336 -> Bệnh phổi mạn tính (COPD/Hen) | H58: ='Huyện-Tổng hợp'!H336:L336 -> Bệnh KLN khác
C59: ='Huyện-Tổng hợp'!C337 -> Tổng số phát hiện | D59: ='Huyện-Tổng hợp'!D337 -> Mới phát hiện trong kỳ báo cáo | E59: ='Huyện-Tổng hợp'!E337 -> Tổng số BN đang được quản lý | F59: ='Huyện-Tổng hợp'!F337 -> Số BN được khám và cấp thuốc trong tháng vừa qua trong số BN được quản lý | G59: ='Huyện-Tổng hợp'!G337 -> Số BN điều trị đạt hiệu quả trong số BN được quản lý | H59: ='Huyện-Tổng hợp'!H337 -> Tổng số phát hiện | I59: ='Huyện-Tổng hợp'!I337 -> Mới phát hiện trong kỳ báo cáo | J59: ='Huyện-Tổng hợp'!J337 -> Tổng số BN đang được quản lý | ... L59: ='Huyện-Tổng hợp'!L337 -> Số BN điều trị đạt hiệu quả trong số BN được quản lý
B60: ='Xã Thiệu Toán'!B60 -> Kết quả
A62: ='Huyện-Tổng hợp'!A379 -> V. Báo cáo nguyên nhân tử vong
A64: ='Xã Thiệu Toán'!A64 -> TT | B64: ='Xã Thiệu Toán'!B64 -> Ngày, tháng ghi sổ | C64: ='Xã Thiệu Toán'!C64 -> Họ và tên | E64: ='Xã Thiệu Toán'!E64 -> Tuổi | G64: ='Xã Thiệu Toán'!G64 -> Địa chỉ | H64: ='Xã Thiệu Toán'!H64 -> Nghề nghiệp | I64: ='Xã Thiệu Toán'!I64 -> Dân tộc | J64: ='Xã Thiệu Toán'!J64 -> Ngày tháng tử vong | K64: ='Xã Thiệu Toán'!K64 -> Nơi Tử vong | L64: ='Xã Thiệu Toán'!L64 -> Nguyên nhân chính gây tử vong | N64: ='Xã Thiệu Toán'!N64 -> Mã VN | O64: ='Xã Thiệu Toán'!O64 -> Đã khám/điều trị tại CSYT trong vòng 30 ngày trước khi tử vong | P64: ='Xã Thiệu Toán'!P64 -> Được CBYT chăm sóc khi tử vong | Q64: ='Xã Thiệu Toán'!Q64 -> Được cấp giấy báo tử
E65: ='Xã Thiệu Toán'!E65 -> Nam | F65: ='Xã Thiệu Toán'!F65 -> Nữ
A66: 1
A67: 2
A68: 3
A69: 4
A70: 5
A71: 6
A72: 7
A73: 8
A74: 9
A75: 10
A76: 11
A77: 12
... A95: 30
A97: ='Xã Thiệu Toán'!A96 -> Nhận xét
A99: ='Xã Thiệu Toán'!A98 -> Kiến nghị

Sheet Xã Thiệu Vũ
A1: ='Huyện-Tổng hợp'!A2:C2 -> Mẫu báo cáo TYT xã - X0106 | D1: CỘNG HÒA XÃ HỘI CHỦ NGHĨA VIỆT NAM
D2: Độc lập – Tự do – Hạnh phúc
A3: TTYT huyện: | C3: ='Huyện-Tổng hợp'!B3 -> Thiệu Hóa
A4: TYT xã
A5: ='Xã Thiệu Toán'!A5 -> BÁO CÁO HOẠT ĐỘNG QUẢN LÝ ĐIỀU TRỊ BỆNH KHÔNG LÂY NHIỄM TẠI TRẠM Y TẾ
C6: Tháng | D6: ='Huyện-Tổng hợp'!D7 -> 0 | R6: 0
A7: ='Huyện-Tổng hợp'!A8 -> I. Thông tin chung | R7: 1
A8: ='Xã Thiệu Toán'!A8 -> Dân số:
A9: ='Xã Thiệu Toán'!A9 -> Số người ≥ 18 tuổi:
A10: ='Xã Thiệu Toán'!A10 -> Số người ≥ 40 tuổi:
A11: ='Xã Thiệu Toán'!A11 -> Tổng số thôn bản: | F11: ='Xã Thiệu Toán'!F11 -> Số điện thoại
A12: ='Xã Thiệu Toán'!A12 -> Số thôn bản có YTTB/CTV | F12: ='Xã Thiệu Toán'!F12 -> Email:
A13: ='Xã Thiệu Toán'!A13 -> Số YTTB/CTV
A14: ='Xã Thiệu Toán'!A14 -> Số cán bộ TYT | G14: ='Xã Thiệu Toán'!G14 -> Mầu xanh TYT xã cần nhập thông tin
A15: ='Xã Thiệu Toán'!A15 -> Số y, bác sỹ có CCHN | G15: ='Xã Thiệu Toán'!G15 -> Màu Vàng tự động tính không cần nhập
A16: ='Xã Thiệu Toán'!A16 -> Có bác sỹ làm việc không (Không=0; Có=1) | G16: ='Xã Thiệu Toán'!G16 -> Màu xám không cần nhập
A17: ='Xã Thiệu Toán'!A17 -> Sử dụng sổ theo dõi NCD điện tử (Không=0; Có=1)
A19: ='Huyện-Tổng hợp'!A19 -> II. Kết quả hoạt động phòng chống bệnh không lây nhiễm
A20: ='Huyện-Tổng hợp'!A20 -> 1. Phát hiện người nguy cơ cao, tiền bệnh, nghi ngờ mắc bệnh, mắc bệnh và số người khám sức khỏe định kỳ
A21: ='Xã Thiệu Toán'!A21 -> (Lấy số liệu từ sheet «sàng lọc phát hiện» của sổ theo dõi NCD điện tử)
B22: ='Huyện-Tổng hợp'!B22 -> Số người được đo huyết áp | C22: ='Huyện-Tổng hợp'!C22 -> Số người được xác định nghi ngờ THA (Chỉ số huyết áp ≥140/90) | D22: ='Huyện-Tổng hợp'!D22 -> Số người được sàng lọc nguy cơ ĐTĐ bằng bộ câu hỏi | E22: ='Huyện-Tổng hợp'!E22 -> Số người được phát hiện thừa cân béo phì (BMI≥25 hoặc vòng eo to) | F22: ='Huyện-Tổng hợp'!F22 -> Số người được xác định nguy cơ cao ĐTĐ (≥ 6 điểm) | G22: ='Huyện-Tổng hợp'!G22 -> Số người được xét nghiệm đường huyết | H22: ='Huyện-Tổng hợp'!H22 -> Số người phát hiện nghi ngờ rối loạn đường huyết (ĐH mao mạch ≥ 5.6 mmol/L) | I22: ='Huyện-Tổng hợp'!I22 -> Số người được sàng lọc BPTNMT/ hen phế quản | ... M22: ='Huyện-Tổng hợp'!M22 -> Tỷ lệ % người được khám sức khỏe định kỳ so với tổng dân số ≥ 18 tuổi(70% dân số)
A23: ='Xã Thiệu Toán'!A23 -> Số mới trong tháng | M23: =L23/(0.7*$D$8) -> #DIV/0!
A24: ='Xã Thiệu Toán'!A24 -> Số cộng dồn trong năm | M24: =L24/(0.7*$D$8) -> #DIV/0!
A27: ='Huyện-Tổng hợp'!A61 -> 2. Quản lý điều trị người bệnh tăng huyết áp và đái tháo đường tại các trạm y tế
A28: a. Phát hiện và Quản lý điều trị THA, ĐTĐ trong tháng
B30: ='Huyện-Tổng hợp'!B64 -> Số BN mắc THA ước tính(12% dân số) | E30: =12%*D8 -> 0 | G30: ='Huyện-Tổng hợp'!B112 -> Số BN mắc ĐTĐ ước tính (2% dân số) | J30: =2%*D8 -> 0
B32: ='Huyện-Tổng hợp'!B67 -> Mới phát hiện trong tháng | C32: ='Huyện-Tổng hợp'!C67:D67 -> Tổng số phát hiện cộng dồn | E32: ='Huyện-Tổng hợp'!E67:F67 -> Tổng số BN đến khám và lấy thuốc cộng dồn | G32: ='Huyện-Tổng hợp'!G67:H67 -> BN đến khám và cấp thuốc tháng vừa qua | I32: ='Huyện-Tổng hợp'!I67:J67 -> BN đến khám và cấp thuốc trong tháng vừa qua đạt mục tiêu điều trị (chuẩn 2020) | K32: ='Huyện-Tổng hợp'!K67:L67 -> BN đến khám và cấp thuốc trong tháng vừa qua đạt mục tiêu điều trị (chuẩn cũ)
C33: ='Huyện-Tổng hợp'!C68 -> Số lượng | D33: ='Huyện-Tổng hợp'!D68 -> Tỷ lệ | E33: ='Huyện-Tổng hợp'!E68 -> Số lượng | F33: ='Huyện-Tổng hợp'!F68 -> Tỷ lệ | G33: ='Huyện-Tổng hợp'!G68 -> Số lượng | H33: ='Huyện-Tổng hợp'!H68 -> Tỷ lệ | I33: ='Huyện-Tổng hợp'!I68 -> Số lượng | J33: ='Huyện-Tổng hợp'!J68 -> Tỷ lệ | ... L33: ='Huyện-Tổng hợp'!L68 -> Tỷ lệ
A34: THA | D34: =C34/E30 -> #DIV/0! | F34: =E34/C34 -> #DIV/0! | H34: =G34/E34 -> #DIV/0! | J34: =I34/G34 -> #DIV/0! | L34: =K34/G34 -> #DIV/0!
A35: ĐTĐ | D35: =C35/J30 -> #DIV/0! | F35: =E35/C35 -> #DIV/0! | H35: =G35/E35 -> #DIV/0! | J35: =I35/G35 -> #DIV/0!
A37: b. Phát hiện và Quản lý điều trị THA, ĐTĐ trong kỳ báo cáo 3 tháng, 6 tháng, 9 tháng và 12 tháng
B38: ='Huyện-Tổng hợp'!B161 -> Mới phát hiện trong kỳ báo cáo | C38: ='Huyện-Tổng hợp'!C161:D161 -> Tổng số phát hiện trong kỳ báo cáo (cộng dồn) | E38: ='Huyện-Tổng hợp'!E161:F161 -> Tổng số BN đang được quản lý trong kỳ báo cáo | G38: ='Huyện-Tổng hợp'!G161:H161 -> BN được khám và cấp thuốc tháng cuối của kỳ báo cáo | I38: ='Huyện-Tổng hợp'!I161:J161 -> BN được quản lý điều trị đạt mục tiêu điều trị tại tháng cuối của kỳ báo cáo (chuẩn 2020) | K38: ='Huyện-Tổng hợp'!K161:L161 -> BN được quản lý điều trị đạt mục tiêu điều trị trong quý cuối của kỳ báo cáo (chuẩn 2020) | M38: ='Huyện-Tổng hợp'!M161:N161 -> BN được quản lý tại đạt mục tiêu điều trị trong quý cuối của kỳ báo cáo (chuẩn cũ)
C39: ='Huyện-Tổng hợp'!C162 -> Số lượng | D39: ='Huyện-Tổng hợp'!D162 -> Tỷ lệ | E39: ='Huyện-Tổng hợp'!E162 -> Số lượng | F39: ='Huyện-Tổng hợp'!F162 -> Tỷ lệ | G39: ='Huyện-Tổng hợp'!G162 -> Số lượng | H39: ='Huyện-Tổng hợp'!H162 -> Tỷ lệ | I39: ='Huyện-Tổng hợp'!I162 -> Số lượng | J39: ='Huyện-Tổng hợp'!J162 -> Tỷ lệ | ... N39: ='Huyện-Tổng hợp'!N162 -> Tỷ lệ
A40: THA | C40: =C34 -> 0 | D40: =D34 -> #DIV/0! | F40: =E40/C40 -> #DIV/0! | G40: =G34 -> 0 | H40: =G40/E40 -> #DIV/0! | I40: =I34 -> 0 | J40: =J34 -> #DIV/0! | L40: =K40/E40 -> #DIV/0! | N40: =M40/E40 -> #DIV/0!
A41: ĐTĐ | C41: =C35 -> 0 | D41: =D35 -> #DIV/0! | F41: =E41/C41 -> #DIV/0! | G41: =G35 -> 0 | H41: =G41/E41 -> #DIV/0! | I41: =I35 -> 0 | J41: =J35 -> #DIV/0! | L41: =K41/E41 -> #DIV/0!
A43: ='Huyện-Tổng hợp'!A249 -> III. Tổng hợp cung ứng thuốc tại các TYT
B44: ='Huyện-Tổng hợp'!B251:G251 -> Thuốc điều trị THA | H44: ='Huyện-Tổng hợp'!H251:K251 -> Thuốc điều trị ĐTĐ
B45: ='Huyện-Tổng hợp'!B252:B252 -> Có thuốc chẹn kênh can xi (bao gồm cả viên kết hợp có thành phần này) | C45: ='Huyện-Tổng hợp'!C252:C252 -> Có thuốc ức chế men chuyển và/hoặc ức chế thụ thể (bao gồm cả viên kết hợp có thành phần này) | D45: ='Huyện-Tổng hợp'!D252:D252 -> Có thuốc lợi tiểu thiazide hoặc tương tự (bao gồm cả viên kết hợp có thành phần này) | E45: ='Huyện-Tổng hợp'!E252:E252 -> Có thuốc kết hợp 2 loại đơn chất trên | F45: ='Huyện-Tổng hợp'!F252:F252 -> Có thuốc kết hợp 3 loại đơn chất trên | G45: ='Huyện-Tổng hợp'!G252:G252 -> Có thực hiện cấp thuốc 28-30 ngày cho phần lớn bệnh nhân THA | H45: ='Huyện-Tổng hợp'!H252:H252 -> Có thuốc Metformin | I45: ='Huyện-Tổng hợp'!I252:I252 -> Có thuốc Gliclazide | ... K45: ='Huyện-Tổng hợp'!K252:K252 -> Có thực hiện cấp thuốc 28-30 ngày cho phần lớn bệnh nhân ĐTĐ
A46: ='Xã Thiệu Toán'!A46 -> Có = 1 Không có = 0
A49: ='Huyện-Tổng hợp'!A288 -> IV. Quản lý điều trị các bệnh khác
B51: ='Huyện-Tổng hợp'!A289 -> a. Quản lý điều trị Tâm thần phân liệt và Động kinh
C52: ='Huyện-Tổng hợp'!C290:G290 -> Tâm thần phân liệt | H52: ='Huyện-Tổng hợp'!H290:L290 -> Động kinh
C53: ='Huyện-Tổng hợp'!C291 -> Tổng số phát hiện | D53: ='Huyện-Tổng hợp'!D291 -> Mới phát hiện trong kỳ báo cáo | E53: ='Huyện-Tổng hợp'!E291 -> Tổng số BN đang được quản lý | F53: ='Huyện-Tổng hợp'!F291 -> Số BN được khám và cấp thuốc trong tháng vừa qua trong số BN được quản lý | G53: ='Huyện-Tổng hợp'!G291 -> Số BN điều trị đạt hiệu quả trong số BN được quản lý | H53: ='Huyện-Tổng hợp'!H291 -> Tổng số phát hiện | I53: ='Huyện-Tổng hợp'!I291 -> Mới phát hiện trong kỳ báo cáo | J53: ='Huyện-Tổng hợp'!J291 -> Tổng số BN đang được quản lý | ... L53: ='Huyện-Tổng hợp'!L291 -> Số BN điều trị đạt hiệu quả trong số BN được quản lý
B54: ='Xã Thiệu Toán'!B54 -> Kết quả
B57: ='Huyện-Tổng hợp'!A334 -> b. Quản lý điều trị Bệnh phổi mạn tính (COPD và Hen) và BKLN khác
C58: ='Huyện-Tổng hợp'!C336:G336 -> Bệnh phổi mạn tính (COPD/Hen) | H58: ='Huyện-Tổng hợp'!H336:L336 -> Bệnh KLN khác
C59: ='Huyện-Tổng hợp'!C337 -> Tổng số phát hiện | D59: ='Huyện-Tổng hợp'!D337 -> Mới phát hiện trong kỳ báo cáo | E59: ='Huyện-Tổng hợp'!E337 -> Tổng số BN đang được quản lý | F59: ='Huyện-Tổng hợp'!F337 -> Số BN được khám và cấp thuốc trong tháng vừa qua trong số BN được quản lý | G59: ='Huyện-Tổng hợp'!G337 -> Số BN điều trị đạt hiệu quả trong số BN được quản lý | H59: ='Huyện-Tổng hợp'!H337 -> Tổng số phát hiện | I59: ='Huyện-Tổng hợp'!I337 -> Mới phát hiện trong kỳ báo cáo | J59: ='Huyện-Tổng hợp'!J337 -> Tổng số BN đang được quản lý | ... L59: ='Huyện-Tổng hợp'!L337 -> Số BN điều trị đạt hiệu quả trong số BN được quản lý
B60: ='Xã Thiệu Toán'!B60 -> Kết quả
A62: ='Huyện-Tổng hợp'!A379 -> V. Báo cáo nguyên nhân tử vong
A64: ='Xã Thiệu Toán'!A64 -> TT | B64: ='Xã Thiệu Toán'!B64 -> Ngày, tháng ghi sổ | C64: ='Xã Thiệu Toán'!C64 -> Họ và tên | E64: ='Xã Thiệu Toán'!E64 -> Tuổi | G64: ='Xã Thiệu Toán'!G64 -> Địa chỉ | H64: ='Xã Thiệu Toán'!H64 -> Nghề nghiệp | I64: ='Xã Thiệu Toán'!I64 -> Dân tộc | J64: ='Xã Thiệu Toán'!J64 -> Ngày tháng tử vong | K64: ='Xã Thiệu Toán'!K64 -> Nơi Tử vong | L64: ='Xã Thiệu Toán'!L64 -> Nguyên nhân chính gây tử vong | N64: ='Xã Thiệu Toán'!N64 -> Mã VN | O64: ='Xã Thiệu Toán'!O64 -> Đã khám/điều trị tại CSYT trong vòng 30 ngày trước khi tử vong | P64: ='Xã Thiệu Toán'!P64 -> Được CBYT chăm sóc khi tử vong | Q64: ='Xã Thiệu Toán'!Q64 -> Được cấp giấy báo tử
E65: ='Xã Thiệu Toán'!E65 -> Nam | F65: ='Xã Thiệu Toán'!F65 -> Nữ
A66: 1
A67: 2
A68: 3
A69: 4
A70: 5
A71: 6
A72: 7
A73: 8
A74: 9
A75: 10
A76: 11
A77: 12
... A95: 30
A97: ='Xã Thiệu Toán'!A96 -> Nhận xét
A99: ='Xã Thiệu Toán'!A98 -> Kiến nghị

Sheet Xã Thiệu Tiến
A1: ='Huyện-Tổng hợp'!A2:C2 -> Mẫu báo cáo TYT xã - X0106 | D1: CỘNG HÒA XÃ HỘI CHỦ NGHĨA VIỆT NAM
D2: Độc lập – Tự do – Hạnh phúc
A3: TTYT huyện: | C3: ='Huyện-Tổng hợp'!B3 -> Thiệu Hóa
A4: TYT xã
A5: ='Xã Thiệu Toán'!A5 -> BÁO CÁO HOẠT ĐỘNG QUẢN LÝ ĐIỀU TRỊ BỆNH KHÔNG LÂY NHIỄM TẠI TRẠM Y TẾ
C6: Tháng | D6: ='Huyện-Tổng hợp'!D7 -> 0 | R6: 0
A7: ='Huyện-Tổng hợp'!A8 -> I. Thông tin chung | R7: 1
A8: ='Xã Thiệu Toán'!A8 -> Dân số:
A9: ='Xã Thiệu Toán'!A9 -> Số người ≥ 18 tuổi:
A10: ='Xã Thiệu Toán'!A10 -> Số người ≥ 40 tuổi:
A11: ='Xã Thiệu Toán'!A11 -> Tổng số thôn bản: | F11: ='Xã Thiệu Toán'!F11 -> Số điện thoại
A12: ='Xã Thiệu Toán'!A12 -> Số thôn bản có YTTB/CTV | F12: ='Xã Thiệu Toán'!F12 -> Email:
A13: ='Xã Thiệu Toán'!A13 -> Số YTTB/CTV
A14: ='Xã Thiệu Toán'!A14 -> Số cán bộ TYT | G14: ='Xã Thiệu Toán'!G14 -> Mầu xanh TYT xã cần nhập thông tin
A15: ='Xã Thiệu Toán'!A15 -> Số y, bác sỹ có CCHN | G15: ='Xã Thiệu Toán'!G15 -> Màu Vàng tự động tính không cần nhập
A16: ='Xã Thiệu Toán'!A16 -> Có bác sỹ làm việc không (Không=0; Có=1) | G16: ='Xã Thiệu Toán'!G16 -> Màu xám không cần nhập
A17: ='Xã Thiệu Toán'!A17 -> Sử dụng sổ theo dõi NCD điện tử (Không=0; Có=1)
A19: ='Huyện-Tổng hợp'!A19 -> II. Kết quả hoạt động phòng chống bệnh không lây nhiễm
A20: ='Huyện-Tổng hợp'!A20 -> 1. Phát hiện người nguy cơ cao, tiền bệnh, nghi ngờ mắc bệnh, mắc bệnh và số người khám sức khỏe định kỳ
A21: ='Xã Thiệu Toán'!A21 -> (Lấy số liệu từ sheet «sàng lọc phát hiện» của sổ theo dõi NCD điện tử)
B22: ='Huyện-Tổng hợp'!B22 -> Số người được đo huyết áp | C22: ='Huyện-Tổng hợp'!C22 -> Số người được xác định nghi ngờ THA (Chỉ số huyết áp ≥140/90) | D22: ='Huyện-Tổng hợp'!D22 -> Số người được sàng lọc nguy cơ ĐTĐ bằng bộ câu hỏi | E22: ='Huyện-Tổng hợp'!E22 -> Số người được phát hiện thừa cân béo phì (BMI≥25 hoặc vòng eo to) | F22: ='Huyện-Tổng hợp'!F22 -> Số người được xác định nguy cơ cao ĐTĐ (≥ 6 điểm) | G22: ='Huyện-Tổng hợp'!G22 -> Số người được xét nghiệm đường huyết | H22: ='Huyện-Tổng hợp'!H22 -> Số người phát hiện nghi ngờ rối loạn đường huyết (ĐH mao mạch ≥ 5.6 mmol/L) | I22: ='Huyện-Tổng hợp'!I22 -> Số người được sàng lọc BPTNMT/ hen phế quản | ... M22: ='Huyện-Tổng hợp'!M22 -> Tỷ lệ % người được khám sức khỏe định kỳ so với tổng dân số ≥ 18 tuổi(70% dân số)
A23: ='Xã Thiệu Toán'!A23 -> Số mới trong tháng | M23: =L23/(0.7*$D$8) -> #DIV/0!
A24: ='Xã Thiệu Toán'!A24 -> Số cộng dồn trong năm | M24: =L24/(0.7*$D$8) -> #DIV/0!
A27: ='Huyện-Tổng hợp'!A61 -> 2. Quản lý điều trị người bệnh tăng huyết áp và đái tháo đường tại các trạm y tế
A28: a. Phát hiện và Quản lý điều trị THA, ĐTĐ trong tháng
B30: ='Huyện-Tổng hợp'!B64 -> Số BN mắc THA ước tính(12% dân số) | E30: =12%*D8 -> 0 | G30: ='Huyện-Tổng hợp'!B112 -> Số BN mắc ĐTĐ ước tính (2% dân số) | J30: =2%*D8 -> 0
B32: ='Huyện-Tổng hợp'!B67 -> Mới phát hiện trong tháng | C32: ='Huyện-Tổng hợp'!C67:D67 -> Tổng số phát hiện cộng dồn | E32: ='Huyện-Tổng hợp'!E67:F67 -> Tổng số BN đến khám và lấy thuốc cộng dồn | G32: ='Huyện-Tổng hợp'!G67:H67 -> BN đến khám và cấp thuốc tháng vừa qua | I32: ='Huyện-Tổng hợp'!I67:J67 -> BN đến khám và cấp thuốc trong tháng vừa qua đạt mục tiêu điều trị (chuẩn 2020) | K32: ='Huyện-Tổng hợp'!K67:L67 -> BN đến khám và cấp thuốc trong tháng vừa qua đạt mục tiêu điều trị (chuẩn cũ)
C33: ='Huyện-Tổng hợp'!C68 -> Số lượng | D33: ='Huyện-Tổng hợp'!D68 -> Tỷ lệ | E33: ='Huyện-Tổng hợp'!E68 -> Số lượng | F33: ='Huyện-Tổng hợp'!F68 -> Tỷ lệ | G33: ='Huyện-Tổng hợp'!G68 -> Số lượng | H33: ='Huyện-Tổng hợp'!H68 -> Tỷ lệ | I33: ='Huyện-Tổng hợp'!I68 -> Số lượng | J33: ='Huyện-Tổng hợp'!J68 -> Tỷ lệ | ... L33: ='Huyện-Tổng hợp'!L68 -> Tỷ lệ
A34: THA | D34: =C34/E30 -> #DIV/0! | F34: =E34/C34 -> #DIV/0! | H34: =G34/E34 -> #DIV/0! | J34: =I34/G34 -> #DIV/0! | L34: =K34/G34 -> #DIV/0!
A35: ĐTĐ | D35: =C35/J30 -> #DIV/0! | F35: =E35/C35 -> #DIV/0! | H35: =G35/E35 -> #DIV/0! | J35: =I35/G35 -> #DIV/0!
A37: b. Phát hiện và Quản lý điều trị THA, ĐTĐ trong kỳ báo cáo 3 tháng, 6 tháng, 9 tháng và 12 tháng
B38: ='Huyện-Tổng hợp'!B161 -> Mới phát hiện trong kỳ báo cáo | C38: ='Huyện-Tổng hợp'!C161:D161 -> Tổng số phát hiện trong kỳ báo cáo (cộng dồn) | E38: ='Huyện-Tổng hợp'!E161:F161 -> Tổng số BN đang được quản lý trong kỳ báo cáo | G38: ='Huyện-Tổng hợp'!G161:H161 -> BN được khám và cấp thuốc tháng cuối của kỳ báo cáo | I38: ='Huyện-Tổng hợp'!I161:J161 -> BN được quản lý điều trị đạt mục tiêu điều trị tại tháng cuối của kỳ báo cáo (chuẩn 2020) | K38: ='Huyện-Tổng hợp'!K161:L161 -> BN được quản lý điều trị đạt mục tiêu điều trị trong quý cuối của kỳ báo cáo (chuẩn 2020) | M38: ='Huyện-Tổng hợp'!M161:N161 -> BN được quản lý tại đạt mục tiêu điều trị trong quý cuối của kỳ báo cáo (chuẩn cũ)
C39: ='Huyện-Tổng hợp'!C162 -> Số lượng | D39: ='Huyện-Tổng hợp'!D162 -> Tỷ lệ | E39: ='Huyện-Tổng hợp'!E162 -> Số lượng | F39: ='Huyện-Tổng hợp'!F162 -> Tỷ lệ | G39: ='Huyện-Tổng hợp'!G162 -> Số lượng | H39: ='Huyện-Tổng hợp'!H162 -> Tỷ lệ | I39: ='Huyện-Tổng hợp'!I162 -> Số lượng | J39: ='Huyện-Tổng hợp'!J162 -> Tỷ lệ | ... N39: ='Huyện-Tổng hợp'!N162 -> Tỷ lệ
A40: THA | C40: =C34 -> 0 | D40: =D34 -> #DIV/0! | F40: =E40/C40 -> #DIV/0! | G40: =G34 -> 0 | H40: =G40/E40 -> #DIV/0! | I40: =I34 -> 0 | J40: =J34 -> #DIV/0! | L40: =K40/E40 -> #DIV/0! | N40: =M40/E40 -> #DIV/0!
A41: ĐTĐ | C41: =C35 -> 0 | D41: =D35 -> #DIV/0! | F41: =E41/C41 -> #DIV/0! | G41: =G35 -> 0 | H41: =G41/E41 -> #DIV/0! | I41: =I35 -> 0 | J41: =J35 -> #DIV/0! | L41: =K41/E41 -> #DIV/0!
A43: ='Huyện-Tổng hợp'!A249 -> III. Tổng hợp cung ứng thuốc tại các TYT
B44: ='Huyện-Tổng hợp'!B251:G251 -> Thuốc điều trị THA | H44: ='Huyện-Tổng hợp'!H251:K251 -> Thuốc điều trị ĐTĐ
B45: ='Huyện-Tổng hợp'!B252:B252 -> Có thuốc chẹn kênh can xi (bao gồm cả viên kết hợp có thành phần này) | C45: ='Huyện-Tổng hợp'!C252:C252 -> Có thuốc ức chế men chuyển và/hoặc ức chế thụ thể (bao gồm cả viên kết hợp có thành phần này) | D45: ='Huyện-Tổng hợp'!D252:D252 -> Có thuốc lợi tiểu thiazide hoặc tương tự (bao gồm cả viên kết hợp có thành phần này) | E45: ='Huyện-Tổng hợp'!E252:E252 -> Có thuốc kết hợp 2 loại đơn chất trên | F45: ='Huyện-Tổng hợp'!F252:F252 -> Có thuốc kết hợp 3 loại đơn chất trên | G45: ='Huyện-Tổng hợp'!G252:G252 -> Có thực hiện cấp thuốc 28-30 ngày cho phần lớn bệnh nhân THA | H45: ='Huyện-Tổng hợp'!H252:H252 -> Có thuốc Metformin | I45: ='Huyện-Tổng hợp'!I252:I252 -> Có thuốc Gliclazide | ... K45: ='Huyện-Tổng hợp'!K252:K252 -> Có thực hiện cấp thuốc 28-30 ngày cho phần lớn bệnh nhân ĐTĐ
A46: ='Xã Thiệu Toán'!A46 -> Có = 1 Không có = 0
A49: ='Huyện-Tổng hợp'!A288 -> IV. Quản lý điều trị các bệnh khác
B51: ='Huyện-Tổng hợp'!A289 -> a. Quản lý điều trị Tâm thần phân liệt và Động kinh
C52: ='Huyện-Tổng hợp'!C290:G290 -> Tâm thần phân liệt | H52: ='Huyện-Tổng hợp'!H290:L290 -> Động kinh
C53: ='Huyện-Tổng hợp'!C291 -> Tổng số phát hiện | D53: ='Huyện-Tổng hợp'!D291 -> Mới phát hiện trong kỳ báo cáo | E53: ='Huyện-Tổng hợp'!E291 -> Tổng số BN đang được quản lý | F53: ='Huyện-Tổng hợp'!F291 -> Số BN được khám và cấp thuốc trong tháng vừa qua trong số BN được quản lý | G53: ='Huyện-Tổng hợp'!G291 -> Số BN điều trị đạt hiệu quả trong số BN được quản lý | H53: ='Huyện-Tổng hợp'!H291 -> Tổng số phát hiện | I53: ='Huyện-Tổng hợp'!I291 -> Mới phát hiện trong kỳ báo cáo | J53: ='Huyện-Tổng hợp'!J291 -> Tổng số BN đang được quản lý | ... L53: ='Huyện-Tổng hợp'!L291 -> Số BN điều trị đạt hiệu quả trong số BN được quản lý
B54: ='Xã Thiệu Toán'!B54 -> Kết quả
B57: ='Huyện-Tổng hợp'!A334 -> b. Quản lý điều trị Bệnh phổi mạn tính (COPD và Hen) và BKLN khác
C58: ='Huyện-Tổng hợp'!C336:G336 -> Bệnh phổi mạn tính (COPD/Hen) | H58: ='Huyện-Tổng hợp'!H336:L336 -> Bệnh KLN khác
C59: ='Huyện-Tổng hợp'!C337 -> Tổng số phát hiện | D59: ='Huyện-Tổng hợp'!D337 -> Mới phát hiện trong kỳ báo cáo | E59: ='Huyện-Tổng hợp'!E337 -> Tổng số BN đang được quản lý | F59: ='Huyện-Tổng hợp'!F337 -> Số BN được khám và cấp thuốc trong tháng vừa qua trong số BN được quản lý | G59: ='Huyện-Tổng hợp'!G337 -> Số BN điều trị đạt hiệu quả trong số BN được quản lý | H59: ='Huyện-Tổng hợp'!H337 -> Tổng số phát hiện | I59: ='Huyện-Tổng hợp'!I337 -> Mới phát hiện trong kỳ báo cáo | J59: ='Huyện-Tổng hợp'!J337 -> Tổng số BN đang được quản lý | ... L59: ='Huyện-Tổng hợp'!L337 -> Số BN điều trị đạt hiệu quả trong số BN được quản lý
B60: ='Xã Thiệu Toán'!B60 -> Kết quả
A62: ='Huyện-Tổng hợp'!A379 -> V. Báo cáo nguyên nhân tử vong
A64: ='Xã Thiệu Toán'!A64 -> TT | B64: ='Xã Thiệu Toán'!B64 -> Ngày, tháng ghi sổ | C64: ='Xã Thiệu Toán'!C64 -> Họ và tên | E64: ='Xã Thiệu Toán'!E64 -> Tuổi | G64: ='Xã Thiệu Toán'!G64 -> Địa chỉ | H64: ='Xã Thiệu Toán'!H64 -> Nghề nghiệp | I64: ='Xã Thiệu Toán'!I64 -> Dân tộc | J64: ='Xã Thiệu Toán'!J64 -> Ngày tháng tử vong | K64: ='Xã Thiệu Toán'!K64 -> Nơi Tử vong | L64: ='Xã Thiệu Toán'!L64 -> Nguyên nhân chính gây tử vong | N64: ='Xã Thiệu Toán'!N64 -> Mã VN | O64: ='Xã Thiệu Toán'!O64 -> Đã khám/điều trị tại CSYT trong vòng 30 ngày trước khi tử vong | P64: ='Xã Thiệu Toán'!P64 -> Được CBYT chăm sóc khi tử vong | Q64: ='Xã Thiệu Toán'!Q64 -> Được cấp giấy báo tử
E65: ='Xã Thiệu Toán'!E65 -> Nam | F65: ='Xã Thiệu Toán'!F65 -> Nữ
A66: 1
A67: 2
A68: 3
A69: 4
A70: 5
A71: 6
A72: 7
A73: 8
A74: 9
A75: 10
A76: 11
A77: 12
... A95: 30
A97: ='Xã Thiệu Toán'!A96 -> Nhận xét
A99: ='Xã Thiệu Toán'!A98 -> Kiến nghị

Sheet Xã Thiệu Thành
A1: ='Huyện-Tổng hợp'!A2:C2 -> Mẫu báo cáo TYT xã - X0106 | D1: CỘNG HÒA XÃ HỘI CHỦ NGHĨA VIỆT NAM
D2: Độc lập – Tự do – Hạnh phúc
A3: TTYT huyện: | C3: ='Huyện-Tổng hợp'!B3 -> Thiệu Hóa
A4: TYT xã
A5: ='Xã Thiệu Toán'!A5 -> BÁO CÁO HOẠT ĐỘNG QUẢN LÝ ĐIỀU TRỊ BỆNH KHÔNG LÂY NHIỄM TẠI TRẠM Y TẾ
C6: Tháng | D6: ='Huyện-Tổng hợp'!D7 -> 0 | R6: 0
A7: ='Huyện-Tổng hợp'!A8 -> I. Thông tin chung | R7: 1
A8: ='Xã Thiệu Toán'!A8 -> Dân số:
A9: ='Xã Thiệu Toán'!A9 -> Số người ≥ 18 tuổi:
A10: ='Xã Thiệu Toán'!A10 -> Số người ≥ 40 tuổi:
A11: ='Xã Thiệu Toán'!A11 -> Tổng số thôn bản: | F11: ='Xã Thiệu Toán'!F11 -> Số điện thoại
A12: ='Xã Thiệu Toán'!A12 -> Số thôn bản có YTTB/CTV | F12: ='Xã Thiệu Toán'!F12 -> Email:
A13: ='Xã Thiệu Toán'!A13 -> Số YTTB/CTV
A14: ='Xã Thiệu Toán'!A14 -> Số cán bộ TYT | G14: ='Xã Thiệu Toán'!G14 -> Mầu xanh TYT xã cần nhập thông tin
A15: ='Xã Thiệu Toán'!A15 -> Số y, bác sỹ có CCHN | G15: ='Xã Thiệu Toán'!G15 -> Màu Vàng tự động tính không cần nhập
A16: ='Xã Thiệu Toán'!A16 -> Có bác sỹ làm việc không (Không=0; Có=1) | G16: ='Xã Thiệu Toán'!G16 -> Màu xám không cần nhập
A17: ='Xã Thiệu Toán'!A17 -> Sử dụng sổ theo dõi NCD điện tử (Không=0; Có=1)
A19: ='Huyện-Tổng hợp'!A19 -> II. Kết quả hoạt động phòng chống bệnh không lây nhiễm
A20: ='Huyện-Tổng hợp'!A20 -> 1. Phát hiện người nguy cơ cao, tiền bệnh, nghi ngờ mắc bệnh, mắc bệnh và số người khám sức khỏe định kỳ
A21: ='Xã Thiệu Toán'!A21 -> (Lấy số liệu từ sheet «sàng lọc phát hiện» của sổ theo dõi NCD điện tử)
B22: ='Huyện-Tổng hợp'!B22 -> Số người được đo huyết áp | C22: ='Huyện-Tổng hợp'!C22 -> Số người được xác định nghi ngờ THA (Chỉ số huyết áp ≥140/90) | D22: ='Huyện-Tổng hợp'!D22 -> Số người được sàng lọc nguy cơ ĐTĐ bằng bộ câu hỏi | E22: ='Huyện-Tổng hợp'!E22 -> Số người được phát hiện thừa cân béo phì (BMI≥25 hoặc vòng eo to) | F22: ='Huyện-Tổng hợp'!F22 -> Số người được xác định nguy cơ cao ĐTĐ (≥ 6 điểm) | G22: ='Huyện-Tổng hợp'!G22 -> Số người được xét nghiệm đường huyết | H22: ='Huyện-Tổng hợp'!H22 -> Số người phát hiện nghi ngờ rối loạn đường huyết (ĐH mao mạch ≥ 5.6 mmol/L) | I22: ='Huyện-Tổng hợp'!I22 -> Số người được sàng lọc BPTNMT/ hen phế quản | ... M22: ='Huyện-Tổng hợp'!M22 -> Tỷ lệ % người được khám sức khỏe định kỳ so với tổng dân số ≥ 18 tuổi(70% dân số)
A23: ='Xã Thiệu Toán'!A23 -> Số mới trong tháng | M23: =L23/(0.7*$D$8) -> #DIV/0!
A24: ='Xã Thiệu Toán'!A24 -> Số cộng dồn trong năm | M24: =L24/(0.7*$D$8) -> #DIV/0!
A27: ='Huyện-Tổng hợp'!A61 -> 2. Quản lý điều trị người bệnh tăng huyết áp và đái tháo đường tại các trạm y tế
A28: a. Phát hiện và Quản lý điều trị THA, ĐTĐ trong tháng
B30: ='Huyện-Tổng hợp'!B64 -> Số BN mắc THA ước tính(12% dân số) | E30: =12%*D8 -> 0 | G30: ='Huyện-Tổng hợp'!B112 -> Số BN mắc ĐTĐ ước tính (2% dân số) | J30: =2%*D8 -> 0
B32: ='Huyện-Tổng hợp'!B67 -> Mới phát hiện trong tháng | C32: ='Huyện-Tổng hợp'!C67:D67 -> Tổng số phát hiện cộng dồn | E32: ='Huyện-Tổng hợp'!E67:F67 -> Tổng số BN đến khám và lấy thuốc cộng dồn | G32: ='Huyện-Tổng hợp'!G67:H67 -> BN đến khám và cấp thuốc tháng vừa qua | I32: ='Huyện-Tổng hợp'!I67:J67 -> BN đến khám và cấp thuốc trong tháng vừa qua đạt mục tiêu điều trị (chuẩn 2020) | K32: ='Huyện-Tổng hợp'!K67:L67 -> BN đến khám và cấp thuốc trong tháng vừa qua đạt mục tiêu điều trị (chuẩn cũ)
C33: ='Huyện-Tổng hợp'!C68 -> Số lượng | D33: ='Huyện-Tổng hợp'!D68 -> Tỷ lệ | E33: ='Huyện-Tổng hợp'!E68 -> Số lượng | F33: ='Huyện-Tổng hợp'!F68 -> Tỷ lệ | G33: ='Huyện-Tổng hợp'!G68 -> Số lượng | H33: ='Huyện-Tổng hợp'!H68 -> Tỷ lệ | I33: ='Huyện-Tổng hợp'!I68 -> Số lượng | J33: ='Huyện-Tổng hợp'!J68 -> Tỷ lệ | ... L33: ='Huyện-Tổng hợp'!L68 -> Tỷ lệ
A34: THA | D34: =C34/E30 -> #DIV/0! | F34: =E34/C34 -> #DIV/0! | H34: =G34/E34 -> #DIV/0! | J34: =I34/G34 -> #DIV/0! | L34: =K34/G34 -> #DIV/0!
A35: ĐTĐ | D35: =C35/J30 -> #DIV/0! | F35: =E35/C35 -> #DIV/0! | H35: =G35/E35 -> #DIV/0! | J35: =I35/G35 -> #DIV/0!
A37: b. Phát hiện và Quản lý điều trị THA, ĐTĐ trong kỳ báo cáo 3 tháng, 6 tháng, 9 tháng và 12 tháng
B38: ='Huyện-Tổng hợp'!B161 -> Mới phát hiện trong kỳ báo cáo | C38: ='Huyện-Tổng hợp'!C161:D161 -> Tổng số phát hiện trong kỳ báo cáo (cộng dồn) | E38: ='Huyện-Tổng hợp'!E161:F161 -> Tổng số BN đang được quản lý trong kỳ báo cáo | G38: ='Huyện-Tổng hợp'!G161:H161 -> BN được khám và cấp thuốc tháng cuối của kỳ báo cáo | I38: ='Huyện-Tổng hợp'!I161:J161 -> BN được quản lý điều trị đạt mục tiêu điều trị tại tháng cuối của kỳ báo cáo (chuẩn 2020) | K38: ='Huyện-Tổng hợp'!K161:L161 -> BN được quản lý điều trị đạt mục tiêu điều trị trong quý cuối của kỳ báo cáo (chuẩn 2020) | M38: ='Huyện-Tổng hợp'!M161:N161 -> BN được quản lý tại đạt mục tiêu điều trị trong quý cuối của kỳ báo cáo (chuẩn cũ)
C39: ='Huyện-Tổng hợp'!C162 -> Số lượng | D39: ='Huyện-Tổng hợp'!D162 -> Tỷ lệ | E39: ='Huyện-Tổng hợp'!E162 -> Số lượng | F39: ='Huyện-Tổng hợp'!F162 -> Tỷ lệ | G39: ='Huyện-Tổng hợp'!G162 -> Số lượng | H39: ='Huyện-Tổng hợp'!H162 -> Tỷ lệ | I39: ='Huyện-Tổng hợp'!I162 -> Số lượng | J39: ='Huyện-Tổng hợp'!J162 -> Tỷ lệ | ... N39: ='Huyện-Tổng hợp'!N162 -> Tỷ lệ
A40: THA | C40: =C34 -> 0 | D40: =D34 -> #DIV/0! | F40: =E40/C40 -> #DIV/0! | G40: =G34 -> 0 | H40: =G40/E40 -> #DIV/0! | I40: =I34 -> 0 | J40: =J34 -> #DIV/0! | L40: =K40/E40 -> #DIV/0! | N40: =M40/E40 -> #DIV/0!
A41: ĐTĐ | C41: =C35 -> 0 | D41: =D35 -> #DIV/0! | F41: =E41/C41 -> #DIV/0! | G41: =G35 -> 0 | H41: =G41/E41 -> #DIV/0! | I41: =I35 -> 0 | J41: =J35 -> #DIV/0! | L41: =K41/E41 -> #DIV/0!
A43: ='Huyện-Tổng hợp'!A249 -> III. Tổng hợp cung ứng thuốc tại các TYT
B44: ='Huyện-Tổng hợp'!B251:G251 -> Thuốc điều trị THA | H44: ='Huyện-Tổng hợp'!H251:K251 -> Thuốc điều trị ĐTĐ
B45: ='Huyện-Tổng hợp'!B252:B252 -> Có thuốc chẹn kênh can xi (bao gồm cả viên kết hợp có thành phần này) | C45: ='Huyện-Tổng hợp'!C252:C252 -> Có thuốc ức chế men chuyển và/hoặc ức chế thụ thể (bao gồm cả viên kết hợp có thành phần này) | D45: ='Huyện-Tổng hợp'!D252:D252 -> Có thuốc lợi tiểu thiazide hoặc tương tự (bao gồm cả viên kết hợp có thành phần này) | E45: ='Huyện-Tổng hợp'!E252:E252 -> Có thuốc kết hợp 2 loại đơn chất trên | F45: ='Huyện-Tổng hợp'!F252:F252 -> Có thuốc kết hợp 3 loại đơn chất trên | G45: ='Huyện-Tổng hợp'!G252:G252 -> Có thực hiện cấp thuốc 28-30 ngày cho phần lớn bệnh nhân THA | H45: ='Huyện-Tổng hợp'!H252:H252 -> Có thuốc Metformin | I45: ='Huyện-Tổng hợp'!I252:I252 -> Có thuốc Gliclazide | ... K45: ='Huyện-Tổng hợp'!K252:K252 -> Có thực hiện cấp thuốc 28-30 ngày cho phần lớn bệnh nhân ĐTĐ
A46: ='Xã Thiệu Toán'!A46 -> Có = 1 Không có = 0
A49: ='Huyện-Tổng hợp'!A288 -> IV. Quản lý điều trị các bệnh khác
B51: ='Huyện-Tổng hợp'!A289 -> a. Quản lý điều trị Tâm thần phân liệt và Động kinh
C52: ='Huyện-Tổng hợp'!C290:G290 -> Tâm thần phân liệt | H52: ='Huyện-Tổng hợp'!H290:L290 -> Động kinh
C53: ='Huyện-Tổng hợp'!C291 -> Tổng số phát hiện | D53: ='Huyện-Tổng hợp'!D291 -> Mới phát hiện trong kỳ báo cáo | E53: ='Huyện-Tổng hợp'!E291 -> Tổng số BN đang được quản lý | F53: ='Huyện-Tổng hợp'!F291 -> Số BN được khám và cấp thuốc trong tháng vừa qua trong số BN được quản lý | G53: ='Huyện-Tổng hợp'!G291 -> Số BN điều trị đạt hiệu quả trong số BN được quản lý | H53: ='Huyện-Tổng hợp'!H291 -> Tổng số phát hiện | I53: ='Huyện-Tổng hợp'!I291 -> Mới phát hiện trong kỳ báo cáo | J53: ='Huyện-Tổng hợp'!J291 -> Tổng số BN đang được quản lý | ... L53: ='Huyện-Tổng hợp'!L291 -> Số BN điều trị đạt hiệu quả trong số BN được quản lý
B54: ='Xã Thiệu Toán'!B54 -> Kết quả
B57: ='Huyện-Tổng hợp'!A334 -> b. Quản lý điều trị Bệnh phổi mạn tính (COPD và Hen) và BKLN khác
C58: ='Huyện-Tổng hợp'!C336:G336 -> Bệnh phổi mạn tính (COPD/Hen) | H58: ='Huyện-Tổng hợp'!H336:L336 -> Bệnh KLN khác
C59: ='Huyện-Tổng hợp'!C337 -> Tổng số phát hiện | D59: ='Huyện-Tổng hợp'!D337 -> Mới phát hiện trong kỳ báo cáo | E59: ='Huyện-Tổng hợp'!E337 -> Tổng số BN đang được quản lý | F59: ='Huyện-Tổng hợp'!F337 -> Số BN được khám và cấp thuốc trong tháng vừa qua trong số BN được quản lý | G59: ='Huyện-Tổng hợp'!G337 -> Số BN điều trị đạt hiệu quả trong số BN được quản lý | H59: ='Huyện-Tổng hợp'!H337 -> Tổng số phát hiện | I59: ='Huyện-Tổng hợp'!I337 -> Mới phát hiện trong kỳ báo cáo | J59: ='Huyện-Tổng hợp'!J337 -> Tổng số BN đang được quản lý | ... L59: ='Huyện-Tổng hợp'!L337 -> Số BN điều trị đạt hiệu quả trong số BN được quản lý
B60: ='Xã Thiệu Toán'!B60 -> Kết quả
A62: ='Huyện-Tổng hợp'!A379 -> V. Báo cáo nguyên nhân tử vong
A64: ='Xã Thiệu Toán'!A64 -> TT | B64: ='Xã Thiệu Toán'!B64 -> Ngày, tháng ghi sổ | C64: ='Xã Thiệu Toán'!C64 -> Họ và tên | E64: ='Xã Thiệu Toán'!E64 -> Tuổi | G64: ='Xã Thiệu Toán'!G64 -> Địa chỉ | H64: ='Xã Thiệu Toán'!H64 -> Nghề nghiệp | I64: ='Xã Thiệu Toán'!I64 -> Dân tộc | J64: ='Xã Thiệu Toán'!J64 -> Ngày tháng tử vong | K64: ='Xã Thiệu Toán'!K64 -> Nơi Tử vong | L64: ='Xã Thiệu Toán'!L64 -> Nguyên nhân chính gây tử vong | N64: ='Xã Thiệu Toán'!N64 -> Mã VN | O64: ='Xã Thiệu Toán'!O64 -> Đã khám/điều trị tại CSYT trong vòng 30 ngày trước khi tử vong | P64: ='Xã Thiệu Toán'!P64 -> Được CBYT chăm sóc khi tử vong | Q64: ='Xã Thiệu Toán'!Q64 -> Được cấp giấy báo tử
E65: ='Xã Thiệu Toán'!E65 -> Nam | F65: ='Xã Thiệu Toán'!F65 -> Nữ
A66: 1
A67: 2
A68: 3
A69: 4
A70: 5
A71: 6
A72: 7
A73: 8
A74: 9
A75: 10
A76: 11
A77: 12
... A95: 30
A97: ='Xã Thiệu Toán'!A96 -> Nhận xét
A99: ='Xã Thiệu Toán'!A98 -> Kiến nghị

Sheet Xã Thiệu Công
A1: ='Huyện-Tổng hợp'!A2:C2 -> Mẫu báo cáo TYT xã - X0106 | D1: CỘNG HÒA XÃ HỘI CHỦ NGHĨA VIỆT NAM
D2: Độc lập – Tự do – Hạnh phúc
A3: TTYT huyện: | C3: ='Huyện-Tổng hợp'!B3 -> Thiệu Hóa
A4: TYT xã
A5: ='Xã Thiệu Toán'!A5 -> BÁO CÁO HOẠT ĐỘNG QUẢN LÝ ĐIỀU TRỊ BỆNH KHÔNG LÂY NHIỄM TẠI TRẠM Y TẾ
C6: Tháng | D6: ='Huyện-Tổng hợp'!D7 -> 0 | R6: 0
A7: ='Huyện-Tổng hợp'!A8 -> I. Thông tin chung | R7: 1
A8: ='Xã Thiệu Toán'!A8 -> Dân số:
A9: ='Xã Thiệu Toán'!A9 -> Số người ≥ 18 tuổi:
A10: ='Xã Thiệu Toán'!A10 -> Số người ≥ 40 tuổi:
A11: ='Xã Thiệu Toán'!A11 -> Tổng số thôn bản: | F11: ='Xã Thiệu Toán'!F11 -> Số điện thoại
A12: ='Xã Thiệu Toán'!A12 -> Số thôn bản có YTTB/CTV | F12: ='Xã Thiệu Toán'!F12 -> Email:
A13: ='Xã Thiệu Toán'!A13 -> Số YTTB/CTV
A14: ='Xã Thiệu Toán'!A14 -> Số cán bộ TYT | G14: ='Xã Thiệu Toán'!G14 -> Mầu xanh TYT xã cần nhập thông tin
A15: ='Xã Thiệu Toán'!A15 -> Số y, bác sỹ có CCHN | G15: ='Xã Thiệu Toán'!G15 -> Màu Vàng tự động tính không cần nhập
A16: ='Xã Thiệu Toán'!A16 -> Có bác sỹ làm việc không (Không=0; Có=1) | G16: ='Xã Thiệu Toán'!G16 -> Màu xám không cần nhập
A17: ='Xã Thiệu Toán'!A17 -> Sử dụng sổ theo dõi NCD điện tử (Không=0; Có=1)
A19: ='Huyện-Tổng hợp'!A19 -> II. Kết quả hoạt động phòng chống bệnh không lây nhiễm
A20: ='Huyện-Tổng hợp'!A20 -> 1. Phát hiện người nguy cơ cao, tiền bệnh, nghi ngờ mắc bệnh, mắc bệnh và số người khám sức khỏe định kỳ
A21: ='Xã Thiệu Toán'!A21 -> (Lấy số liệu từ sheet «sàng lọc phát hiện» của sổ theo dõi NCD điện tử)
B22: ='Huyện-Tổng hợp'!B22 -> Số người được đo huyết áp | C22: ='Huyện-Tổng hợp'!C22 -> Số người được xác định nghi ngờ THA (Chỉ số huyết áp ≥140/90) | D22: ='Huyện-Tổng hợp'!D22 -> Số người được sàng lọc nguy cơ ĐTĐ bằng bộ câu hỏi | E22: ='Huyện-Tổng hợp'!E22 -> Số người được phát hiện thừa cân béo phì (BMI≥25 hoặc vòng eo to) | F22: ='Huyện-Tổng hợp'!F22 -> Số người được xác định nguy cơ cao ĐTĐ (≥ 6 điểm) | G22: ='Huyện-Tổng hợp'!G22 -> Số người được xét nghiệm đường huyết | H22: ='Huyện-Tổng hợp'!H22 -> Số người phát hiện nghi ngờ rối loạn đường huyết (ĐH mao mạch ≥ 5.6 mmol/L) | I22: ='Huyện-Tổng hợp'!I22 -> Số người được sàng lọc BPTNMT/ hen phế quản | ... M22: ='Huyện-Tổng hợp'!M22 -> Tỷ lệ % người được khám sức khỏe định kỳ so với tổng dân số ≥ 18 tuổi(70% dân số)
A23: ='Xã Thiệu Toán'!A23 -> Số mới trong tháng | M23: =L23/(0.7*$D$8) -> #DIV/0!
A24: ='Xã Thiệu Toán'!A24 -> Số cộng dồn trong năm | M24: =L24/(0.7*$D$8) -> #DIV/0!
A27: ='Huyện-Tổng hợp'!A61 -> 2. Quản lý điều trị người bệnh tăng huyết áp và đái tháo đường tại các trạm y tế
A28: a. Phát hiện và Quản lý điều trị THA, ĐTĐ trong tháng
B30: ='Huyện-Tổng hợp'!B64 -> Số BN mắc THA ước tính(12% dân số) | E30: =12%*D8 -> 0 | G30: ='Huyện-Tổng hợp'!B112 -> Số BN mắc ĐTĐ ước tính (2% dân số) | J30: =2%*D8 -> 0
B32: ='Huyện-Tổng hợp'!B67 -> Mới phát hiện trong tháng | C32: ='Huyện-Tổng hợp'!C67:D67 -> Tổng số phát hiện cộng dồn | E32: ='Huyện-Tổng hợp'!E67:F67 -> Tổng số BN đến khám và lấy thuốc cộng dồn | G32: ='Huyện-Tổng hợp'!G67:H67 -> BN đến khám và cấp thuốc tháng vừa qua | I32: ='Huyện-Tổng hợp'!I67:J67 -> BN đến khám và cấp thuốc trong tháng vừa qua đạt mục tiêu điều trị (chuẩn 2020) | K32: ='Huyện-Tổng hợp'!K67:L67 -> BN đến khám và cấp thuốc trong tháng vừa qua đạt mục tiêu điều trị (chuẩn cũ)
C33: ='Huyện-Tổng hợp'!C68 -> Số lượng | D33: ='Huyện-Tổng hợp'!D68 -> Tỷ lệ | E33: ='Huyện-Tổng hợp'!E68 -> Số lượng | F33: ='Huyện-Tổng hợp'!F68 -> Tỷ lệ | G33: ='Huyện-Tổng hợp'!G68 -> Số lượng | H33: ='Huyện-Tổng hợp'!H68 -> Tỷ lệ | I33: ='Huyện-Tổng hợp'!I68 -> Số lượng | J33: ='Huyện-Tổng hợp'!J68 -> Tỷ lệ | ... L33: ='Huyện-Tổng hợp'!L68 -> Tỷ lệ
A34: THA | D34: =C34/E30 -> #DIV/0! | F34: =E34/C34 -> #DIV/0! | H34: =G34/E34 -> #DIV/0! | J34: =I34/G34 -> #DIV/0! | L34: =K34/G34 -> #DIV/0!
A35: ĐTĐ | D35: =C35/J30 -> #DIV/0! | F35: =E35/C35 -> #DIV/0! | H35: =G35/E35 -> #DIV/0! | J35: =I35/G35 -> #DIV/0!
A37: b. Phát hiện và Quản lý điều trị THA, ĐTĐ trong kỳ báo cáo 3 tháng, 6 tháng, 9 tháng và 12 tháng
B38: ='Huyện-Tổng hợp'!B161 -> Mới phát hiện trong kỳ báo cáo | C38: ='Huyện-Tổng hợp'!C161:D161 -> Tổng số phát hiện trong kỳ báo cáo (cộng dồn) | E38: ='Huyện-Tổng hợp'!E161:F161 -> Tổng số BN đang được quản lý trong kỳ báo cáo | G38: ='Huyện-Tổng hợp'!G161:H161 -> BN được khám và cấp thuốc tháng cuối của kỳ báo cáo | I38: ='Huyện-Tổng hợp'!I161:J161 -> BN được quản lý điều trị đạt mục tiêu điều trị tại tháng cuối của kỳ báo cáo (chuẩn 2020) | K38: ='Huyện-Tổng hợp'!K161:L161 -> BN được quản lý điều trị đạt mục tiêu điều trị trong quý cuối của kỳ báo cáo (chuẩn 2020) | M38: ='Huyện-Tổng hợp'!M161:N161 -> BN được quản lý tại đạt mục tiêu điều trị trong quý cuối của kỳ báo cáo (chuẩn cũ)
C39: ='Huyện-Tổng hợp'!C162 -> Số lượng | D39: ='Huyện-Tổng hợp'!D162 -> Tỷ lệ | E39: ='Huyện-Tổng hợp'!E162 -> Số lượng | F39: ='Huyện-Tổng hợp'!F162 -> Tỷ lệ | G39: ='Huyện-Tổng hợp'!G162 -> Số lượng | H39: ='Huyện-Tổng hợp'!H162 -> Tỷ lệ | I39: ='Huyện-Tổng hợp'!I162 -> Số lượng | J39: ='Huyện-Tổng hợp'!J162 -> Tỷ lệ | ... N39: ='Huyện-Tổng hợp'!N162 -> Tỷ lệ
A40: THA | C40: =C34 -> 0 | D40: =D34 -> #DIV/0! | F40: =E40/C40 -> #DIV/0! | G40: =G34 -> 0 | H40: =G40/E40 -> #DIV/0! | I40: =I34 -> 0 | J40: =J34 -> #DIV/0! | L40: =K40/E40 -> #DIV/0! | N40: =M40/E40 -> #DIV/0!
A41: ĐTĐ | C41: =C35 -> 0 | D41: =D35 -> #DIV/0! | F41: =E41/C41 -> #DIV/0! | G41: =G35 -> 0 | H41: =G41/E41 -> #DIV/0! | I41: =I35 -> 0 | J41: =J35 -> #DIV/0! | L41: =K41/E41 -> #DIV/0!
A43: ='Huyện-Tổng hợp'!A249 -> III. Tổng hợp cung ứng thuốc tại các TYT
B44: ='Huyện-Tổng hợp'!B251:G251 -> Thuốc điều trị THA | H44: ='Huyện-Tổng hợp'!H251:K251 -> Thuốc điều trị ĐTĐ
B45: ='Huyện-Tổng hợp'!B252:B252 -> Có thuốc chẹn kênh can xi (bao gồm cả viên kết hợp có thành phần này) | C45: ='Huyện-Tổng hợp'!C252:C252 -> Có thuốc ức chế men chuyển và/hoặc ức chế thụ thể (bao gồm cả viên kết hợp có thành phần này) | D45: ='Huyện-Tổng hợp'!D252:D252 -> Có thuốc lợi tiểu thiazide hoặc tương tự (bao gồm cả viên kết hợp có thành phần này) | E45: ='Huyện-Tổng hợp'!E252:E252 -> Có thuốc kết hợp 2 loại đơn chất trên | F45: ='Huyện-Tổng hợp'!F252:F252 -> Có thuốc kết hợp 3 loại đơn chất trên | G45: ='Huyện-Tổng hợp'!G252:G252 -> Có thực hiện cấp thuốc 28-30 ngày cho phần lớn bệnh nhân THA | H45: ='Huyện-Tổng hợp'!H252:H252 -> Có thuốc Metformin | I45: ='Huyện-Tổng hợp'!I252:I252 -> Có thuốc Gliclazide | ... K45: ='Huyện-Tổng hợp'!K252:K252 -> Có thực hiện cấp thuốc 28-30 ngày cho phần lớn bệnh nhân ĐTĐ
A46: ='Xã Thiệu Toán'!A46 -> Có = 1 Không có = 0
A49: ='Huyện-Tổng hợp'!A288 -> IV. Quản lý điều trị các bệnh khác
B51: ='Huyện-Tổng hợp'!A289 -> a. Quản lý điều trị Tâm thần phân liệt và Động kinh
C52: ='Huyện-Tổng hợp'!C290:G290 -> Tâm thần phân liệt | H52: ='Huyện-Tổng hợp'!H290:L290 -> Động kinh
C53: ='Huyện-Tổng hợp'!C291 -> Tổng số phát hiện | D53: ='Huyện-Tổng hợp'!D291 -> Mới phát hiện trong kỳ báo cáo | E53: ='Huyện-Tổng hợp'!E291 -> Tổng số BN đang được quản lý | F53: ='Huyện-Tổng hợp'!F291 -> Số BN được khám và cấp thuốc trong tháng vừa qua trong số BN được quản lý | G53: ='Huyện-Tổng hợp'!G291 -> Số BN điều trị đạt hiệu quả trong số BN được quản lý | H53: ='Huyện-Tổng hợp'!H291 -> Tổng số phát hiện | I53: ='Huyện-Tổng hợp'!I291 -> Mới phát hiện trong kỳ báo cáo | J53: ='Huyện-Tổng hợp'!J291 -> Tổng số BN đang được quản lý | ... L53: ='Huyện-Tổng hợp'!L291 -> Số BN điều trị đạt hiệu quả trong số BN được quản lý
B54: ='Xã Thiệu Toán'!B54 -> Kết quả
B57: ='Huyện-Tổng hợp'!A334 -> b. Quản lý điều trị Bệnh phổi mạn tính (COPD và Hen) và BKLN khác
C58: ='Huyện-Tổng hợp'!C336:G336 -> Bệnh phổi mạn tính (COPD/Hen) | H58: ='Huyện-Tổng hợp'!H336:L336 -> Bệnh KLN khác
C59: ='Huyện-Tổng hợp'!C337 -> Tổng số phát hiện | D59: ='Huyện-Tổng hợp'!D337 -> Mới phát hiện trong kỳ báo cáo | E59: ='Huyện-Tổng hợp'!E337 -> Tổng số BN đang được quản lý | F59: ='Huyện-Tổng hợp'!F337 -> Số BN được khám và cấp thuốc trong tháng vừa qua trong số BN được quản lý | G59: ='Huyện-Tổng hợp'!G337 -> Số BN điều trị đạt hiệu quả trong số BN được quản lý | H59: ='Huyện-Tổng hợp'!H337 -> Tổng số phát hiện | I59: ='Huyện-Tổng hợp'!I337 -> Mới phát hiện trong kỳ báo cáo | J59: ='Huyện-Tổng hợp'!J337 -> Tổng số BN đang được quản lý | ... L59: ='Huyện-Tổng hợp'!L337 -> Số BN điều trị đạt hiệu quả trong số BN được quản lý
B60: ='Xã Thiệu Toán'!B60 -> Kết quả
A62: ='Huyện-Tổng hợp'!A379 -> V. Báo cáo nguyên nhân tử vong
A64: ='Xã Thiệu Toán'!A64 -> TT | B64: ='Xã Thiệu Toán'!B64 -> Ngày, tháng ghi sổ | C64: ='Xã Thiệu Toán'!C64 -> Họ và tên | E64: ='Xã Thiệu Toán'!E64 -> Tuổi | G64: ='Xã Thiệu Toán'!G64 -> Địa chỉ | H64: ='Xã Thiệu Toán'!H64 -> Nghề nghiệp | I64: ='Xã Thiệu Toán'!I64 -> Dân tộc | J64: ='Xã Thiệu Toán'!J64 -> Ngày tháng tử vong | K64: ='Xã Thiệu Toán'!K64 -> Nơi Tử vong | L64: ='Xã Thiệu Toán'!L64 -> Nguyên nhân chính gây tử vong | N64: ='Xã Thiệu Toán'!N64 -> Mã VN | O64: ='Xã Thiệu Toán'!O64 -> Đã khám/điều trị tại CSYT trong vòng 30 ngày trước khi tử vong | P64: ='Xã Thiệu Toán'!P64 -> Được CBYT chăm sóc khi tử vong | Q64: ='Xã Thiệu Toán'!Q64 -> Được cấp giấy báo tử
E65: ='Xã Thiệu Toán'!E65 -> Nam | F65: ='Xã Thiệu Toán'!F65 -> Nữ
A66: 1
A67: 2
A68: 3
A69: 4
A70: 5
A71: 6
A72: 7
A73: 8
A74: 9
A75: 10
A76: 11
A77: 12
... A95: 30
A97: ='Xã Thiệu Toán'!A96 -> Nhận xét
A99: ='Xã Thiệu Toán'!A98 -> Kiến nghị

Sheet Xã Thiệu Phúc
A1: ='Huyện-Tổng hợp'!A2:C2 -> Mẫu báo cáo TYT xã - X0106 | D1: CỘNG HÒA XÃ HỘI CHỦ NGHĨA VIỆT NAM
D2: Độc lập – Tự do – Hạnh phúc
A3: TTYT huyện: | C3: ='Huyện-Tổng hợp'!B3 -> Thiệu Hóa
A4: TYT xã
A5: ='Xã Thiệu Toán'!A5 -> BÁO CÁO HOẠT ĐỘNG QUẢN LÝ ĐIỀU TRỊ BỆNH KHÔNG LÂY NHIỄM TẠI TRẠM Y TẾ
C6: Tháng | D6: ='Huyện-Tổng hợp'!D7 -> 0 | R6: 0
A7: ='Huyện-Tổng hợp'!A8 -> I. Thông tin chung | R7: 1
A8: ='Xã Thiệu Toán'!A8 -> Dân số:
A9: ='Xã Thiệu Toán'!A9 -> Số người ≥ 18 tuổi:
A10: ='Xã Thiệu Toán'!A10 -> Số người ≥ 40 tuổi:
A11: ='Xã Thiệu Toán'!A11 -> Tổng số thôn bản: | F11: ='Xã Thiệu Toán'!F11 -> Số điện thoại
A12: ='Xã Thiệu Toán'!A12 -> Số thôn bản có YTTB/CTV | F12: ='Xã Thiệu Toán'!F12 -> Email:
A13: ='Xã Thiệu Toán'!A13 -> Số YTTB/CTV
A14: ='Xã Thiệu Toán'!A14 -> Số cán bộ TYT | G14: ='Xã Thiệu Toán'!G14 -> Mầu xanh TYT xã cần nhập thông tin
A15: ='Xã Thiệu Toán'!A15 -> Số y, bác sỹ có CCHN | G15: ='Xã Thiệu Toán'!G15 -> Màu Vàng tự động tính không cần nhập
A16: ='Xã Thiệu Toán'!A16 -> Có bác sỹ làm việc không (Không=0; Có=1) | G16: ='Xã Thiệu Toán'!G16 -> Màu xám không cần nhập
A17: ='Xã Thiệu Toán'!A17 -> Sử dụng sổ theo dõi NCD điện tử (Không=0; Có=1)
A19: ='Huyện-Tổng hợp'!A19 -> II. Kết quả hoạt động phòng chống bệnh không lây nhiễm
A20: ='Huyện-Tổng hợp'!A20 -> 1. Phát hiện người nguy cơ cao, tiền bệnh, nghi ngờ mắc bệnh, mắc bệnh và số người khám sức khỏe định kỳ
A21: ='Xã Thiệu Toán'!A21 -> (Lấy số liệu từ sheet «sàng lọc phát hiện» của sổ theo dõi NCD điện tử)
B22: ='Huyện-Tổng hợp'!B22 -> Số người được đo huyết áp | C22: ='Huyện-Tổng hợp'!C22 -> Số người được xác định nghi ngờ THA (Chỉ số huyết áp ≥140/90) | D22: ='Huyện-Tổng hợp'!D22 -> Số người được sàng lọc nguy cơ ĐTĐ bằng bộ câu hỏi | E22: ='Huyện-Tổng hợp'!E22 -> Số người được phát hiện thừa cân béo phì (BMI≥25 hoặc vòng eo to) | F22: ='Huyện-Tổng hợp'!F22 -> Số người được xác định nguy cơ cao ĐTĐ (≥ 6 điểm) | G22: ='Huyện-Tổng hợp'!G22 -> Số người được xét nghiệm đường huyết | H22: ='Huyện-Tổng hợp'!H22 -> Số người phát hiện nghi ngờ rối loạn đường huyết (ĐH mao mạch ≥ 5.6 mmol/L) | I22: ='Huyện-Tổng hợp'!I22 -> Số người được sàng lọc BPTNMT/ hen phế quản | ... M22: ='Huyện-Tổng hợp'!M22 -> Tỷ lệ % người được khám sức khỏe định kỳ so với tổng dân số ≥ 18 tuổi(70% dân số)
A23: ='Xã Thiệu Toán'!A23 -> Số mới trong tháng | M23: =L23/(0.7*$D$8) -> #DIV/0!
A24: ='Xã Thiệu Toán'!A24 -> Số cộng dồn trong năm | M24: =L24/(0.7*$D$8) -> #DIV/0!
A27: ='Huyện-Tổng hợp'!A61 -> 2. Quản lý điều trị người bệnh tăng huyết áp và đái tháo đường tại các trạm y tế
A28: a. Phát hiện và Quản lý điều trị THA, ĐTĐ trong tháng
B30: ='Huyện-Tổng hợp'!B64 -> Số BN mắc THA ước tính(12% dân số) | E30: =12%*D8 -> 0 | G30: ='Huyện-Tổng hợp'!B112 -> Số BN mắc ĐTĐ ước tính (2% dân số) | J30: =2%*D8 -> 0
B32: ='Huyện-Tổng hợp'!B67 -> Mới phát hiện trong tháng | C32: ='Huyện-Tổng hợp'!C67:D67 -> Tổng số phát hiện cộng dồn | E32: ='Huyện-Tổng hợp'!E67:F67 -> Tổng số BN đến khám và lấy thuốc cộng dồn | G32: ='Huyện-Tổng hợp'!G67:H67 -> BN đến khám và cấp thuốc tháng vừa qua | I32: ='Huyện-Tổng hợp'!I67:J67 -> BN đến khám và cấp thuốc trong tháng vừa qua đạt mục tiêu điều trị (chuẩn 2020) | K32: ='Huyện-Tổng hợp'!K67:L67 -> BN đến khám và cấp thuốc trong tháng vừa qua đạt mục tiêu điều trị (chuẩn cũ)
C33: ='Huyện-Tổng hợp'!C68 -> Số lượng | D33: ='Huyện-Tổng hợp'!D68 -> Tỷ lệ | E33: ='Huyện-Tổng hợp'!E68 -> Số lượng | F33: ='Huyện-Tổng hợp'!F68 -> Tỷ lệ | G33: ='Huyện-Tổng hợp'!G68 -> Số lượng | H33: ='Huyện-Tổng hợp'!H68 -> Tỷ lệ | I33: ='Huyện-Tổng hợp'!I68 -> Số lượng | J33: ='Huyện-Tổng hợp'!J68 -> Tỷ lệ | ... L33: ='Huyện-Tổng hợp'!L68 -> Tỷ lệ
A34: THA | D34: =C34/E30 -> #DIV/0! | F34: =E34/C34 -> #DIV/0! | H34: =G34/E34 -> #DIV/0! | J34: =I34/G34 -> #DIV/0! | L34: =K34/G34 -> #DIV/0!
A35: ĐTĐ | D35: =C35/J30 -> #DIV/0! | F35: =E35/C35 -> #DIV/0! | H35: =G35/E35 -> #DIV/0! | J35: =I35/G35 -> #DIV/0!
A37: b. Phát hiện và Quản lý điều trị THA, ĐTĐ trong kỳ báo cáo 3 tháng, 6 tháng, 9 tháng và 12 tháng
B38: ='Huyện-Tổng hợp'!B161 -> Mới phát hiện trong kỳ báo cáo | C38: ='Huyện-Tổng hợp'!C161:D161 -> Tổng số phát hiện trong kỳ báo cáo (cộng dồn) | E38: ='Huyện-Tổng hợp'!E161:F161 -> Tổng số BN đang được quản lý trong kỳ báo cáo | G38: ='Huyện-Tổng hợp'!G161:H161 -> BN được khám và cấp thuốc tháng cuối của kỳ báo cáo | I38: ='Huyện-Tổng hợp'!I161:J161 -> BN được quản lý điều trị đạt mục tiêu điều trị tại tháng cuối của kỳ báo cáo (chuẩn 2020) | K38: ='Huyện-Tổng hợp'!K161:L161 -> BN được quản lý điều trị đạt mục tiêu điều trị trong quý cuối của kỳ báo cáo (chuẩn 2020) | M38: ='Huyện-Tổng hợp'!M161:N161 -> BN được quản lý tại đạt mục tiêu điều trị trong quý cuối của kỳ báo cáo (chuẩn cũ)
C39: ='Huyện-Tổng hợp'!C162 -> Số lượng | D39: ='Huyện-Tổng hợp'!D162 -> Tỷ lệ | E39: ='Huyện-Tổng hợp'!E162 -> Số lượng | F39: ='Huyện-Tổng hợp'!F162 -> Tỷ lệ | G39: ='Huyện-Tổng hợp'!G162 -> Số lượng | H39: ='Huyện-Tổng hợp'!H162 -> Tỷ lệ | I39: ='Huyện-Tổng hợp'!I162 -> Số lượng | J39: ='Huyện-Tổng hợp'!J162 -> Tỷ lệ | ... N39: ='Huyện-Tổng hợp'!N162 -> Tỷ lệ
A40: THA | C40: =C34 -> 0 | D40: =D34 -> #DIV/0! | F40: =E40/C40 -> #DIV/0! | G40: =G34 -> 0 | H40: =G40/E40 -> #DIV/0! | I40: =I34 -> 0 | J40: =J34 -> #DIV/0! | L40: =K40/E40 -> #DIV/0! | N40: =M40/E40 -> #DIV/0!
A41: ĐTĐ | C41: =C35 -> 0 | D41: =D35 -> #DIV/0! | F41: =E41/C41 -> #DIV/0! | G41: =G35 -> 0 | H41: =G41/E41 -> #DIV/0! | I41: =I35 -> 0 | J41: =J35 -> #DIV/0! | L41: =K41/E41 -> #DIV/0!
A43: ='Huyện-Tổng hợp'!A249 -> III. Tổng hợp cung ứng thuốc tại các TYT
B44: ='Huyện-Tổng hợp'!B251:G251 -> Thuốc điều trị THA | H44: ='Huyện-Tổng hợp'!H251:K251 -> Thuốc điều trị ĐTĐ
B45: ='Huyện-Tổng hợp'!B252:B252 -> Có thuốc chẹn kênh can xi (bao gồm cả viên kết hợp có thành phần này) | C45: ='Huyện-Tổng hợp'!C252:C252 -> Có thuốc ức chế men chuyển và/hoặc ức chế thụ thể (bao gồm cả viên kết hợp có thành phần này) | D45: ='Huyện-Tổng hợp'!D252:D252 -> Có thuốc lợi tiểu thiazide hoặc tương tự (bao gồm cả viên kết hợp có thành phần này) | E45: ='Huyện-Tổng hợp'!E252:E252 -> Có thuốc kết hợp 2 loại đơn chất trên | F45: ='Huyện-Tổng hợp'!F252:F252 -> Có thuốc kết hợp 3 loại đơn chất trên | G45: ='Huyện-Tổng hợp'!G252:G252 -> Có thực hiện cấp thuốc 28-30 ngày cho phần lớn bệnh nhân THA | H45: ='Huyện-Tổng hợp'!H252:H252 -> Có thuốc Metformin | I45: ='Huyện-Tổng hợp'!I252:I252 -> Có thuốc Gliclazide | ... K45: ='Huyện-Tổng hợp'!K252:K252 -> Có thực hiện cấp thuốc 28-30 ngày cho phần lớn bệnh nhân ĐTĐ
A46: ='Xã Thiệu Toán'!A46 -> Có = 1 Không có = 0
A49: ='Huyện-Tổng hợp'!A288 -> IV. Quản lý điều trị các bệnh khác
B51: ='Huyện-Tổng hợp'!A289 -> a. Quản lý điều trị Tâm thần phân liệt và Động kinh
C52: ='Huyện-Tổng hợp'!C290:G290 -> Tâm thần phân liệt | H52: ='Huyện-Tổng hợp'!H290:L290 -> Động kinh
C53: ='Huyện-Tổng hợp'!C291 -> Tổng số phát hiện | D53: ='Huyện-Tổng hợp'!D291 -> Mới phát hiện trong kỳ báo cáo | E53: ='Huyện-Tổng hợp'!E291 -> Tổng số BN đang được quản lý | F53: ='Huyện-Tổng hợp'!F291 -> Số BN được khám và cấp thuốc trong tháng vừa qua trong số BN được quản lý | G53: ='Huyện-Tổng hợp'!G291 -> Số BN điều trị đạt hiệu quả trong số BN được quản lý | H53: ='Huyện-Tổng hợp'!H291 -> Tổng số phát hiện | I53: ='Huyện-Tổng hợp'!I291 -> Mới phát hiện trong kỳ báo cáo | J53: ='Huyện-Tổng hợp'!J291 -> Tổng số BN đang được quản lý | ... L53: ='Huyện-Tổng hợp'!L291 -> Số BN điều trị đạt hiệu quả trong số BN được quản lý
B54: ='Xã Thiệu Toán'!B54 -> Kết quả
B57: ='Huyện-Tổng hợp'!A334 -> b. Quản lý điều trị Bệnh phổi mạn tính (COPD và Hen) và BKLN khác
C58: ='Huyện-Tổng hợp'!C336:G336 -> Bệnh phổi mạn tính (COPD/Hen) | H58: ='Huyện-Tổng hợp'!H336:L336 -> Bệnh KLN khác
C59: ='Huyện-Tổng hợp'!C337 -> Tổng số phát hiện | D59: ='Huyện-Tổng hợp'!D337 -> Mới phát hiện trong kỳ báo cáo | E59: ='Huyện-Tổng hợp'!E337 -> Tổng số BN đang được quản lý | F59: ='Huyện-Tổng hợp'!F337 -> Số BN được khám và cấp thuốc trong tháng vừa qua trong số BN được quản lý | G59: ='Huyện-Tổng hợp'!G337 -> Số BN điều trị đạt hiệu quả trong số BN được quản lý | H59: ='Huyện-Tổng hợp'!H337 -> Tổng số phát hiện | I59: ='Huyện-Tổng hợp'!I337 -> Mới phát hiện trong kỳ báo cáo | J59: ='Huyện-Tổng hợp'!J337 -> Tổng số BN đang được quản lý | ... L59: ='Huyện-Tổng hợp'!L337 -> Số BN điều trị đạt hiệu quả trong số BN được quản lý
B60: ='Xã Thiệu Toán'!B60 -> Kết quả
A62: ='Huyện-Tổng hợp'!A379 -> V. Báo cáo nguyên nhân tử vong
A64: ='Xã Thiệu Toán'!A64 -> TT | B64: ='Xã Thiệu Toán'!B64 -> Ngày, tháng ghi sổ | C64: ='Xã Thiệu Toán'!C64 -> Họ và tên | E64: ='Xã Thiệu Toán'!E64 -> Tuổi | G64: ='Xã Thiệu Toán'!G64 -> Địa chỉ | H64: ='Xã Thiệu Toán'!H64 -> Nghề nghiệp | I64: ='Xã Thiệu Toán'!I64 -> Dân tộc | J64: ='Xã Thiệu Toán'!J64 -> Ngày tháng tử vong | K64: ='Xã Thiệu Toán'!K64 -> Nơi Tử vong | L64: ='Xã Thiệu Toán'!L64 -> Nguyên nhân chính gây tử vong | N64: ='Xã Thiệu Toán'!N64 -> Mã VN | O64: ='Xã Thiệu Toán'!O64 -> Đã khám/điều trị tại CSYT trong vòng 30 ngày trước khi tử vong | P64: ='Xã Thiệu Toán'!P64 -> Được CBYT chăm sóc khi tử vong | Q64: ='Xã Thiệu Toán'!Q64 -> Được cấp giấy báo tử
E65: ='Xã Thiệu Toán'!E65 -> Nam | F65: ='Xã Thiệu Toán'!F65 -> Nữ
A66: 1
A67: 2
A68: 3
A69: 4
A70: 5
A71: 6
A72: 7
A73: 8
A74: 9
A75: 10
A76: 11
A77: 12
... A95: 30
A97: ='Xã Thiệu Toán'!A96 -> Nhận xét
A99: ='Xã Thiệu Toán'!A98 -> Kiến nghị

Sheet Xã Thiệu Phú
A1: ='Huyện-Tổng hợp'!A2:C2 -> Mẫu báo cáo TYT xã - X0106 | D1: CỘNG HÒA XÃ HỘI CHỦ NGHĨA VIỆT NAM
D2: Độc lập – Tự do – Hạnh phúc
A3: TTYT huyện: | C3: ='Huyện-Tổng hợp'!B3 -> Thiệu Hóa
A4: TYT xã
A5: ='Xã Thiệu Toán'!A5 -> BÁO CÁO HOẠT ĐỘNG QUẢN LÝ ĐIỀU TRỊ BỆNH KHÔNG LÂY NHIỄM TẠI TRẠM Y TẾ
C6: Tháng | D6: ='Huyện-Tổng hợp'!D7 -> 0 | R6: 0
A7: ='Huyện-Tổng hợp'!A8 -> I. Thông tin chung | R7: 1
A8: ='Xã Thiệu Toán'!A8 -> Dân số:
A9: ='Xã Thiệu Toán'!A9 -> Số người ≥ 18 tuổi:
A10: ='Xã Thiệu Toán'!A10 -> Số người ≥ 40 tuổi:
A11: ='Xã Thiệu Toán'!A11 -> Tổng số thôn bản: | F11: ='Xã Thiệu Toán'!F11 -> Số điện thoại
A12: ='Xã Thiệu Toán'!A12 -> Số thôn bản có YTTB/CTV | F12: ='Xã Thiệu Toán'!F12 -> Email:
A13: ='Xã Thiệu Toán'!A13 -> Số YTTB/CTV
A14: ='Xã Thiệu Toán'!A14 -> Số cán bộ TYT | G14: ='Xã Thiệu Toán'!G14 -> Mầu xanh TYT xã cần nhập thông tin
A15: ='Xã Thiệu Toán'!A15 -> Số y, bác sỹ có CCHN | G15: ='Xã Thiệu Toán'!G15 -> Màu Vàng tự động tính không cần nhập
A16: ='Xã Thiệu Toán'!A16 -> Có bác sỹ làm việc không (Không=0; Có=1) | G16: ='Xã Thiệu Toán'!G16 -> Màu xám không cần nhập
A17: ='Xã Thiệu Toán'!A17 -> Sử dụng sổ theo dõi NCD điện tử (Không=0; Có=1)
A19: ='Huyện-Tổng hợp'!A19 -> II. Kết quả hoạt động phòng chống bệnh không lây nhiễm
A20: ='Huyện-Tổng hợp'!A20 -> 1. Phát hiện người nguy cơ cao, tiền bệnh, nghi ngờ mắc bệnh, mắc bệnh và số người khám sức khỏe định kỳ
A21: ='Xã Thiệu Toán'!A21 -> (Lấy số liệu từ sheet «sàng lọc phát hiện» của sổ theo dõi NCD điện tử)
B22: ='Huyện-Tổng hợp'!B22 -> Số người được đo huyết áp | C22: ='Huyện-Tổng hợp'!C22 -> Số người được xác định nghi ngờ THA (Chỉ số huyết áp ≥140/90) | D22: ='Huyện-Tổng hợp'!D22 -> Số người được sàng lọc nguy cơ ĐTĐ bằng bộ câu hỏi | E22: ='Huyện-Tổng hợp'!E22 -> Số người được phát hiện thừa cân béo phì (BMI≥25 hoặc vòng eo to) | F22: ='Huyện-Tổng hợp'!F22 -> Số người được xác định nguy cơ cao ĐTĐ (≥ 6 điểm) | G22: ='Huyện-Tổng hợp'!G22 -> Số người được xét nghiệm đường huyết | H22: ='Huyện-Tổng hợp'!H22 -> Số người phát hiện nghi ngờ rối loạn đường huyết (ĐH mao mạch ≥ 5.6 mmol/L) | I22: ='Huyện-Tổng hợp'!I22 -> Số người được sàng lọc BPTNMT/ hen phế quản | ... M22: ='Huyện-Tổng hợp'!M22 -> Tỷ lệ % người được khám sức khỏe định kỳ so với tổng dân số ≥ 18 tuổi(70% dân số)
A23: ='Xã Thiệu Toán'!A23 -> Số mới trong tháng | M23: =L23/(0.7*$D$8) -> #DIV/0!
A24: ='Xã Thiệu Toán'!A24 -> Số cộng dồn trong năm | M24: =L24/(0.7*$D$8) -> #DIV/0!
A27: ='Huyện-Tổng hợp'!A61 -> 2. Quản lý điều trị người bệnh tăng huyết áp và đái tháo đường tại các trạm y tế
A28: a. Phát hiện và Quản lý điều trị THA, ĐTĐ trong tháng
B30: ='Huyện-Tổng hợp'!B64 -> Số BN mắc THA ước tính(12% dân số) | E30: =12%*D8 -> 0 | G30: ='Huyện-Tổng hợp'!B112 -> Số BN mắc ĐTĐ ước tính (2% dân số) | J30: =2%*D8 -> 0
B32: ='Huyện-Tổng hợp'!B67 -> Mới phát hiện trong tháng | C32: ='Huyện-Tổng hợp'!C67:D67 -> Tổng số phát hiện cộng dồn | E32: ='Huyện-Tổng hợp'!E67:F67 -> Tổng số BN đến khám và lấy thuốc cộng dồn | G32: ='Huyện-Tổng hợp'!G67:H67 -> BN đến khám và cấp thuốc tháng vừa qua | I32: ='Huyện-Tổng hợp'!I67:J67 -> BN đến khám và cấp thuốc trong tháng vừa qua đạt mục tiêu điều trị (chuẩn 2020) | K32: ='Huyện-Tổng hợp'!K67:L67 -> BN đến khám và cấp thuốc trong tháng vừa qua đạt mục tiêu điều trị (chuẩn cũ)
C33: ='Huyện-Tổng hợp'!C68 -> Số lượng | D33: ='Huyện-Tổng hợp'!D68 -> Tỷ lệ | E33: ='Huyện-Tổng hợp'!E68 -> Số lượng | F33: ='Huyện-Tổng hợp'!F68 -> Tỷ lệ | G33: ='Huyện-Tổng hợp'!G68 -> Số lượng | H33: ='Huyện-Tổng hợp'!H68 -> Tỷ lệ | I33: ='Huyện-Tổng hợp'!I68 -> Số lượng | J33: ='Huyện-Tổng hợp'!J68 -> Tỷ lệ | ... L33: ='Huyện-Tổng hợp'!L68 -> Tỷ lệ
A34: THA | D34: =C34/E30 -> #DIV/0! | F34: =E34/C34 -> #DIV/0! | H34: =G34/E34 -> #DIV/0! | J34: =I34/G34 -> #DIV/0! | L34: =K34/G34 -> #DIV/0!
A35: ĐTĐ | D35: =C35/J30 -> #DIV/0! | F35: =E35/C35 -> #DIV/0! | H35: =G35/E35 -> #DIV/0! | J35: =I35/G35 -> #DIV/0!
A37: b. Phát hiện và Quản lý điều trị THA, ĐTĐ trong kỳ báo cáo 3 tháng, 6 tháng, 9 tháng và 12 tháng
B38: ='Huyện-Tổng hợp'!B161 -> Mới phát hiện trong kỳ báo cáo | C38: ='Huyện-Tổng hợp'!C161:D161 -> Tổng số phát hiện trong kỳ báo cáo (cộng dồn) | E38: ='Huyện-Tổng hợp'!E161:F161 -> Tổng số BN đang được quản lý trong kỳ báo cáo | G38: ='Huyện-Tổng hợp'!G161:H161 -> BN được khám và cấp thuốc tháng cuối của kỳ báo cáo | I38: ='Huyện-Tổng hợp'!I161:J161 -> BN được quản lý điều trị đạt mục tiêu điều trị tại tháng cuối của kỳ báo cáo (chuẩn 2020) | K38: ='Huyện-Tổng hợp'!K161:L161 -> BN được quản lý điều trị đạt mục tiêu điều trị trong quý cuối của kỳ báo cáo (chuẩn 2020) | M38: ='Huyện-Tổng hợp'!M161:N161 -> BN được quản lý tại đạt mục tiêu điều trị trong quý cuối của kỳ báo cáo (chuẩn cũ)
C39: ='Huyện-Tổng hợp'!C162 -> Số lượng | D39: ='Huyện-Tổng hợp'!D162 -> Tỷ lệ | E39: ='Huyện-Tổng hợp'!E162 -> Số lượng | F39: ='Huyện-Tổng hợp'!F162 -> Tỷ lệ | G39: ='Huyện-Tổng hợp'!G162 -> Số lượng | H39: ='Huyện-Tổng hợp'!H162 -> Tỷ lệ | I39: ='Huyện-Tổng hợp'!I162 -> Số lượng | J39: ='Huyện-Tổng hợp'!J162 -> Tỷ lệ | ... N39: ='Huyện-Tổng hợp'!N162 -> Tỷ lệ
A40: THA | C40: =C34 -> 0 | D40: =D34 -> #DIV/0! | F40: =E40/C40 -> #DIV/0! | G40: =G34 -> 0 | H40: =G40/E40 -> #DIV/0! | I40: =I34 -> 0 | J40: =J34 -> #DIV/0! | L40: =K40/E40 -> #DIV/0! | N40: =M40/E40 -> #DIV/0!
A41: ĐTĐ | C41: =C35 -> 0 | D41: =D35 -> #DIV/0! | F41: =E41/C41 -> #DIV/0! | G41: =G35 -> 0 | H41: =G41/E41 -> #DIV/0! | I41: =I35 -> 0 | J41: =J35 -> #DIV/0! | L41: =K41/E41 -> #DIV/0!
A43: ='Huyện-Tổng hợp'!A249 -> III. Tổng hợp cung ứng thuốc tại các TYT
B44: ='Huyện-Tổng hợp'!B251:G251 -> Thuốc điều trị THA | H44: ='Huyện-Tổng hợp'!H251:K251 -> Thuốc điều trị ĐTĐ
B45: ='Huyện-Tổng hợp'!B252:B252 -> Có thuốc chẹn kênh can xi (bao gồm cả viên kết hợp có thành phần này) | C45: ='Huyện-Tổng hợp'!C252:C252 -> Có thuốc ức chế men chuyển và/hoặc ức chế thụ thể (bao gồm cả viên kết hợp có thành phần này) | D45: ='Huyện-Tổng hợp'!D252:D252 -> Có thuốc lợi tiểu thiazide hoặc tương tự (bao gồm cả viên kết hợp có thành phần này) | E45: ='Huyện-Tổng hợp'!E252:E252 -> Có thuốc kết hợp 2 loại đơn chất trên | F45: ='Huyện-Tổng hợp'!F252:F252 -> Có thuốc kết hợp 3 loại đơn chất trên | G45: ='Huyện-Tổng hợp'!G252:G252 -> Có thực hiện cấp thuốc 28-30 ngày cho phần lớn bệnh nhân THA | H45: ='Huyện-Tổng hợp'!H252:H252 -> Có thuốc Metformin | I45: ='Huyện-Tổng hợp'!I252:I252 -> Có thuốc Gliclazide | ... K45: ='Huyện-Tổng hợp'!K252:K252 -> Có thực hiện cấp thuốc 28-30 ngày cho phần lớn bệnh nhân ĐTĐ
A46: ='Xã Thiệu Toán'!A46 -> Có = 1 Không có = 0
A49: ='Huyện-Tổng hợp'!A288 -> IV. Quản lý điều trị các bệnh khác
B51: ='Huyện-Tổng hợp'!A289 -> a. Quản lý điều trị Tâm thần phân liệt và Động kinh
C52: ='Huyện-Tổng hợp'!C290:G290 -> Tâm thần phân liệt | H52: ='Huyện-Tổng hợp'!H290:L290 -> Động kinh
C53: ='Huyện-Tổng hợp'!C291 -> Tổng số phát hiện | D53: ='Huyện-Tổng hợp'!D291 -> Mới phát hiện trong kỳ báo cáo | E53: ='Huyện-Tổng hợp'!E291 -> Tổng số BN đang được quản lý | F53: ='Huyện-Tổng hợp'!F291 -> Số BN được khám và cấp thuốc trong tháng vừa qua trong số BN được quản lý | G53: ='Huyện-Tổng hợp'!G291 -> Số BN điều trị đạt hiệu quả trong số BN được quản lý | H53: ='Huyện-Tổng hợp'!H291 -> Tổng số phát hiện | I53: ='Huyện-Tổng hợp'!I291 -> Mới phát hiện trong kỳ báo cáo | J53: ='Huyện-Tổng hợp'!J291 -> Tổng số BN đang được quản lý | ... L53: ='Huyện-Tổng hợp'!L291 -> Số BN điều trị đạt hiệu quả trong số BN được quản lý
B54: ='Xã Thiệu Toán'!B54 -> Kết quả
B57: ='Huyện-Tổng hợp'!A334 -> b. Quản lý điều trị Bệnh phổi mạn tính (COPD và Hen) và BKLN khác
C58: ='Huyện-Tổng hợp'!C336:G336 -> Bệnh phổi mạn tính (COPD/Hen) | H58: ='Huyện-Tổng hợp'!H336:L336 -> Bệnh KLN khác
C59: ='Huyện-Tổng hợp'!C337 -> Tổng số phát hiện | D59: ='Huyện-Tổng hợp'!D337 -> Mới phát hiện trong kỳ báo cáo | E59: ='Huyện-Tổng hợp'!E337 -> Tổng số BN đang được quản lý | F59: ='Huyện-Tổng hợp'!F337 -> Số BN được khám và cấp thuốc trong tháng vừa qua trong số BN được quản lý | G59: ='Huyện-Tổng hợp'!G337 -> Số BN điều trị đạt hiệu quả trong số BN được quản lý | H59: ='Huyện-Tổng hợp'!H337 -> Tổng số phát hiện | I59: ='Huyện-Tổng hợp'!I337 -> Mới phát hiện trong kỳ báo cáo | J59: ='Huyện-Tổng hợp'!J337 -> Tổng số BN đang được quản lý | ... L59: ='Huyện-Tổng hợp'!L337 -> Số BN điều trị đạt hiệu quả trong số BN được quản lý
B60: ='Xã Thiệu Toán'!B60 -> Kết quả
A62: ='Huyện-Tổng hợp'!A379 -> V. Báo cáo nguyên nhân tử vong
A64: ='Xã Thiệu Toán'!A64 -> TT | B64: ='Xã Thiệu Toán'!B64 -> Ngày, tháng ghi sổ | C64: ='Xã Thiệu Toán'!C64 -> Họ và tên | E64: ='Xã Thiệu Toán'!E64 -> Tuổi | G64: ='Xã Thiệu Toán'!G64 -> Địa chỉ | H64: ='Xã Thiệu Toán'!H64 -> Nghề nghiệp | I64: ='Xã Thiệu Toán'!I64 -> Dân tộc | J64: ='Xã Thiệu Toán'!J64 -> Ngày tháng tử vong | K64: ='Xã Thiệu Toán'!K64 -> Nơi Tử vong | L64: ='Xã Thiệu Toán'!L64 -> Nguyên nhân chính gây tử vong | N64: ='Xã Thiệu Toán'!N64 -> Mã VN | O64: ='Xã Thiệu Toán'!O64 -> Đã khám/điều trị tại CSYT trong vòng 30 ngày trước khi tử vong | P64: ='Xã Thiệu Toán'!P64 -> Được CBYT chăm sóc khi tử vong | Q64: ='Xã Thiệu Toán'!Q64 -> Được cấp giấy báo tử
E65: ='Xã Thiệu Toán'!E65 -> Nam | F65: ='Xã Thiệu Toán'!F65 -> Nữ
A66: 1
A67: 2
A68: 3
A69: 4
A70: 5
A71: 6
A72: 7
A73: 8
A74: 9
A75: 10
A76: 11
A77: 12
... A95: 30
A97: ='Xã Thiệu Toán'!A96 -> Nhận xét
A99: ='Xã Thiệu Toán'!A98 -> Kiến nghị

Sheet Xã Thiệu Long
A1: ='Huyện-Tổng hợp'!A2:C2 -> Mẫu báo cáo TYT xã - X0106 | D1: CỘNG HÒA XÃ HỘI CHỦ NGHĨA VIỆT NAM
D2: Độc lập – Tự do – Hạnh phúc
A3: TTYT huyện: | C3: ='Huyện-Tổng hợp'!B3 -> Thiệu Hóa
A4: TYT xã
A5: ='Xã Thiệu Toán'!A5 -> BÁO CÁO HOẠT ĐỘNG QUẢN LÝ ĐIỀU TRỊ BỆNH KHÔNG LÂY NHIỄM TẠI TRẠM Y TẾ
C6: Tháng | D6: ='Huyện-Tổng hợp'!D7 -> 0 | R6: 0
A7: ='Huyện-Tổng hợp'!A8 -> I. Thông tin chung | R7: 1
A8: ='Xã Thiệu Toán'!A8 -> Dân số:
A9: ='Xã Thiệu Toán'!A9 -> Số người ≥ 18 tuổi:
A10: ='Xã Thiệu Toán'!A10 -> Số người ≥ 40 tuổi:
A11: ='Xã Thiệu Toán'!A11 -> Tổng số thôn bản: | F11: ='Xã Thiệu Toán'!F11 -> Số điện thoại
A12: ='Xã Thiệu Toán'!A12 -> Số thôn bản có YTTB/CTV | F12: ='Xã Thiệu Toán'!F12 -> Email:
A13: ='Xã Thiệu Toán'!A13 -> Số YTTB/CTV
A14: ='Xã Thiệu Toán'!A14 -> Số cán bộ TYT | G14: ='Xã Thiệu Toán'!G14 -> Mầu xanh TYT xã cần nhập thông tin
A15: ='Xã Thiệu Toán'!A15 -> Số y, bác sỹ có CCHN | G15: ='Xã Thiệu Toán'!G15 -> Màu Vàng tự động tính không cần nhập
A16: ='Xã Thiệu Toán'!A16 -> Có bác sỹ làm việc không (Không=0; Có=1) | G16: ='Xã Thiệu Toán'!G16 -> Màu xám không cần nhập
A17: ='Xã Thiệu Toán'!A17 -> Sử dụng sổ theo dõi NCD điện tử (Không=0; Có=1)
A19: ='Huyện-Tổng hợp'!A19 -> II. Kết quả hoạt động phòng chống bệnh không lây nhiễm
A20: ='Huyện-Tổng hợp'!A20 -> 1. Phát hiện người nguy cơ cao, tiền bệnh, nghi ngờ mắc bệnh, mắc bệnh và số người khám sức khỏe định kỳ
A21: ='Xã Thiệu Toán'!A21 -> (Lấy số liệu từ sheet «sàng lọc phát hiện» của sổ theo dõi NCD điện tử)
B22: ='Huyện-Tổng hợp'!B22 -> Số người được đo huyết áp | C22: ='Huyện-Tổng hợp'!C22 -> Số người được xác định nghi ngờ THA (Chỉ số huyết áp ≥140/90) | D22: ='Huyện-Tổng hợp'!D22 -> Số người được sàng lọc nguy cơ ĐTĐ bằng bộ câu hỏi | E22: ='Huyện-Tổng hợp'!E22 -> Số người được phát hiện thừa cân béo phì (BMI≥25 hoặc vòng eo to) | F22: ='Huyện-Tổng hợp'!F22 -> Số người được xác định nguy cơ cao ĐTĐ (≥ 6 điểm) | G22: ='Huyện-Tổng hợp'!G22 -> Số người được xét nghiệm đường huyết | H22: ='Huyện-Tổng hợp'!H22 -> Số người phát hiện nghi ngờ rối loạn đường huyết (ĐH mao mạch ≥ 5.6 mmol/L) | I22: ='Huyện-Tổng hợp'!I22 -> Số người được sàng lọc BPTNMT/ hen phế quản | ... M22: ='Huyện-Tổng hợp'!M22 -> Tỷ lệ % người được khám sức khỏe định kỳ so với tổng dân số ≥ 18 tuổi(70% dân số)
A23: ='Xã Thiệu Toán'!A23 -> Số mới trong tháng | M23: =L23/(0.7*$D$8) -> #DIV/0!
A24: ='Xã Thiệu Toán'!A24 -> Số cộng dồn trong năm | M24: =L24/(0.7*$D$8) -> #DIV/0!
A27: ='Huyện-Tổng hợp'!A61 -> 2. Quản lý điều trị người bệnh tăng huyết áp và đái tháo đường tại các trạm y tế
A28: a. Phát hiện và Quản lý điều trị THA, ĐTĐ trong tháng
B30: ='Huyện-Tổng hợp'!B64 -> Số BN mắc THA ước tính(12% dân số) | E30: =12%*D8 -> 0 | G30: ='Huyện-Tổng hợp'!B112 -> Số BN mắc ĐTĐ ước tính (2% dân số) | J30: =2%*D8 -> 0
B32: ='Huyện-Tổng hợp'!B67 -> Mới phát hiện trong tháng | C32: ='Huyện-Tổng hợp'!C67:D67 -> Tổng số phát hiện cộng dồn | E32: ='Huyện-Tổng hợp'!E67:F67 -> Tổng số BN đến khám và lấy thuốc cộng dồn | G32: ='Huyện-Tổng hợp'!G67:H67 -> BN đến khám và cấp thuốc tháng vừa qua | I32: ='Huyện-Tổng hợp'!I67:J67 -> BN đến khám và cấp thuốc trong tháng vừa qua đạt mục tiêu điều trị (chuẩn 2020) | K32: ='Huyện-Tổng hợp'!K67:L67 -> BN đến khám và cấp thuốc trong tháng vừa qua đạt mục tiêu điều trị (chuẩn cũ)
C33: ='Huyện-Tổng hợp'!C68 -> Số lượng | D33: ='Huyện-Tổng hợp'!D68 -> Tỷ lệ | E33: ='Huyện-Tổng hợp'!E68 -> Số lượng | F33: ='Huyện-Tổng hợp'!F68 -> Tỷ lệ | G33: ='Huyện-Tổng hợp'!G68 -> Số lượng | H33: ='Huyện-Tổng hợp'!H68 -> Tỷ lệ | I33: ='Huyện-Tổng hợp'!I68 -> Số lượng | J33: ='Huyện-Tổng hợp'!J68 -> Tỷ lệ | ... L33: ='Huyện-Tổng hợp'!L68 -> Tỷ lệ
A34: THA | D34: =C34/E30 -> #DIV/0! | F34: =E34/C34 -> #DIV/0! | H34: =G34/E34 -> #DIV/0! | J34: =I34/G34 -> #DIV/0! | L34: =K34/G34 -> #DIV/0!
A35: ĐTĐ | D35: =C35/J30 -> #DIV/0! | F35: =E35/C35 -> #DIV/0! | H35: =G35/E35 -> #DIV/0! | J35: =I35/G35 -> #DIV/0!
A37: b. Phát hiện và Quản lý điều trị THA, ĐTĐ trong kỳ báo cáo 3 tháng, 6 tháng, 9 tháng và 12 tháng
B38: ='Huyện-Tổng hợp'!B161 -> Mới phát hiện trong kỳ báo cáo | C38: ='Huyện-Tổng hợp'!C161:D161 -> Tổng số phát hiện trong kỳ báo cáo (cộng dồn) | E38: ='Huyện-Tổng hợp'!E161:F161 -> Tổng số BN đang được quản lý trong kỳ báo cáo | G38: ='Huyện-Tổng hợp'!G161:H161 -> BN được khám và cấp thuốc tháng cuối của kỳ báo cáo | I38: ='Huyện-Tổng hợp'!I161:J161 -> BN được quản lý điều trị đạt mục tiêu điều trị tại tháng cuối của kỳ báo cáo (chuẩn 2020) | K38: ='Huyện-Tổng hợp'!K161:L161 -> BN được quản lý điều trị đạt mục tiêu điều trị trong quý cuối của kỳ báo cáo (chuẩn 2020) | M38: ='Huyện-Tổng hợp'!M161:N161 -> BN được quản lý tại đạt mục tiêu điều trị trong quý cuối của kỳ báo cáo (chuẩn cũ)
C39: ='Huyện-Tổng hợp'!C162 -> Số lượng | D39: ='Huyện-Tổng hợp'!D162 -> Tỷ lệ | E39: ='Huyện-Tổng hợp'!E162 -> Số lượng | F39: ='Huyện-Tổng hợp'!F162 -> Tỷ lệ | G39: ='Huyện-Tổng hợp'!G162 -> Số lượng | H39: ='Huyện-Tổng hợp'!H162 -> Tỷ lệ | I39: ='Huyện-Tổng hợp'!I162 -> Số lượng | J39: ='Huyện-Tổng hợp'!J162 -> Tỷ lệ | ... N39: ='Huyện-Tổng hợp'!N162 -> Tỷ lệ
