Workbook

Sheet Huyện-Tổng hợp
A1: Mẫu báo cáo TTYT huyện-H0106 | D1: CỘNG HÒA XÃ HỘI CHỦ NGHĨA VIỆT NAM
A2: Mẫu báo cáo TYT xã - X0106 | D2: Độc lập – Tự do – Hạnh phúc
A3: TTYT huyện: | B3: Thiệu Hóa
A5: BÁO CÁO TỔNG HỢP TUYẾN HUYỆN
A6: QUẢN LÝ ĐIỀU TRỊ BỆNH KHÔNG LÂY NHIỄM TẠI TRẠM Y TẾ
C7: Tháng | E7: Năm | F7: 2020
A8: I. Thông tin chung | G8: Số lượng | H8: Tỷ lệ
A9: Dân số: | C9: ='Xã Thiệu Toán'!D8+'Xã Thiệu Chính'!D8+'Xã Thiệu Hòa'!D8+'Xã Minh Tâm'!D8+'Xã Thiệu Viên '!D8+'Xã Thiệu Lý'!D8+'Xã Thiệu Vận'!D8+'Xã Thiệu Trung'!D8+'TT Thiệu Hóa'!D8+'Xã Thiệu Giao'!D8+'Tân Châu'!D8+'Xã Thiệu Ngọc'!D8+'Xã Thiệu Vũ'!D8+'Xã Thiệu Tiến'!D8+'Xã Thiệu Thành'!D8+'Xã Thiệu Công'!D8+'Xã Thiệu Phúc'!D8+'Xã Thiệu Phú'!D8+'Xã Thiệu Long'!D8+'Xã Thiệu Nguyên'!D8+'Xã Thiệu Duy'!D8+'Xã Thiệu Giang'!D8+'Xã Thiệu Hợp'!D8+'Xã Thiệu Thịnh'!D8+'Xã Thiệu Quang'!D8 -> 0 | D9: Tổng số TYT của huyện | K9: Mầu xanh TTYT Huyện cần phải tổng hợp
A10: Số người ≥ 18 tuổi: | C10: ='Xã Thiệu Toán'!D9+'Xã Thiệu Chính'!D9+'Xã Thiệu Hòa'!D9+'Xã Minh Tâm'!D9+'Xã Thiệu Viên '!D9+'Xã Thiệu Lý'!D9+'Xã Thiệu Vận'!D9+'Xã Thiệu Trung'!D9+'TT Thiệu Hóa'!D9+'Xã Thiệu Giao'!D9+'Tân Châu'!D9+'Xã Thiệu Ngọc'!D9+'Xã Thiệu Vũ'!D9+'Xã Thiệu Tiến'!D9+'Xã Thiệu Thành'!D9+'Xã Thiệu Công'!D9+'Xã Thiệu Phúc'!D9+'Xã Thiệu Phú'!D9+'Xã Thiệu Long'!D9+'Xã Thiệu Nguyên'!D9+'Xã Thiệu Duy'!D9+'Xã Thiệu Giang'!D9+'Xã Thiệu Hợp'!D9+'Xã Thiệu Thịnh'!D9+'Xã Thiệu Quang'!D9 -> 0 | D10: Số TYT có bác sỹ làm việc | G10: ='Xã Thiệu Toán'!D16+'Xã Thiệu Chính'!D16+'Xã Thiệu Hòa'!D16+'Xã Minh Tâm'!D16+'Xã Thiệu Viên '!D16+'Xã Thiệu Lý'!D16+'Xã Thiệu Vận'!D16+'Xã Thiệu Trung'!D16+'TT Thiệu Hóa'!D16+'Xã Thiệu Giao'!D16+'Tân Châu'!D16+'Xã Thiệu Ngọc'!D16+'Xã Thiệu Vũ'!D16+'Xã Thiệu Tiến'!D16+'Xã Thiệu Thành'!D16+'Xã Thiệu Công'!D16+'Xã Thiệu Phúc'!D16+'Xã Thiệu Phú'!D16+'Xã Thiệu Long'!D16+'Xã Thiệu Nguyên'!D16+'Xã Thiệu Duy'!D16+'Xã Thiệu Giang'!D16+'Xã Thiệu Hợp'!D16+'Xã Thiệu Thịnh'!D16+'Xã Thiệu Quang'!D16 -> 0 | H10: =G10/$G$9 -> #DIV/0! | K10: Màu Vàng tự động tính không cần nhập
A11: Số người ≥ 40 tuổi: | C11: ='Xã Thiệu Toán'!D10+'Xã Thiệu Chính'!D10+'Xã Thiệu Hòa'!D10+'Xã Minh Tâm'!D10+'Xã Thiệu Viên '!D10+'Xã Thiệu Lý'!D10+'Xã Thiệu Vận'!D10+'Xã Thiệu Trung'!D10+'TT Thiệu Hóa'!D10+'Xã Thiệu Giao'!D10+'Tân Châu'!D10+'Xã Thiệu Ngọc'!D10+'Xã Thiệu Vũ'!D10+'Xã Thiệu Tiến'!D10+'Xã Thiệu Thành'!D10+'Xã Thiệu Công'!D10+'Xã Thiệu Phúc'!D10+'Xã Thiệu Phú'!D10+'Xã Thiệu Long'!D10+'Xã Thiệu Nguyên'!D10+'Xã Thiệu Duy'!D10+'Xã Thiệu Giang'!D10+'Xã Thiệu Hợp'!D10+'Xã Thiệu Thịnh'!D10+'Xã Thiệu Quang'!D10 -> 0 | D11: Số TYT đăng ký KCB BHYT | H11: =G11/$G$9 -> #DIV/0! | K11: Màu xám không cần nhập
A12: Tổng số thôn bản | C12: ='Xã Thiệu Toán'!D11+'Xã Thiệu Chính'!D11+'Xã Thiệu Hòa'!D11+'Xã Minh Tâm'!D11+'Xã Thiệu Viên '!D11+'Xã Thiệu Lý'!D11+'Xã Thiệu Vận'!D11+'Xã Thiệu Trung'!D11+'TT Thiệu Hóa'!D11+'Xã Thiệu Giao'!D11+'Tân Châu'!D11+'Xã Thiệu Ngọc'!D11+'Xã Thiệu Vũ'!D11+'Xã Thiệu Tiến'!D11+'Xã Thiệu Thành'!D11+'Xã Thiệu Công'!D11+'Xã Thiệu Phúc'!D11+'Xã Thiệu Phú'!D11+'Xã Thiệu Long'!D11+'Xã Thiệu Nguyên'!D11+'Xã Thiệu Duy'!D11+'Xã Thiệu Giang'!D11+'Xã Thiệu Hợp'!D11+'Xã Thiệu Thịnh'!D11+'Xã Thiệu Quang'!D11 -> 0 | D12: Số TYT thực hiện dự phòng, QLĐT BKLN | H12: =G12/$G$11 -> #DIV/0!
A13: Số thôn bản có YTTB/CTV | C13: ='Xã Thiệu Toán'!D12+'Xã Thiệu Chính'!D12+'Xã Thiệu Hòa'!D12+'Xã Minh Tâm'!D12+'Xã Thiệu Viên '!D12+'Xã Thiệu Lý'!D12+'Xã Thiệu Vận'!D12+'Xã Thiệu Trung'!D12+'TT Thiệu Hóa'!D12+'Xã Thiệu Giao'!D12+'Tân Châu'!D12+'Xã Thiệu Ngọc'!D12+'Xã Thiệu Vũ'!D12+'Xã Thiệu Tiến'!D12+'Xã Thiệu Thành'!D12+'Xã Thiệu Công'!D12+'Xã Thiệu Phúc'!D12+'Xã Thiệu Phú'!D12+'Xã Thiệu Long'!D12+'Xã Thiệu Nguyên'!D12+'Xã Thiệu Duy'!D12+'Xã Thiệu Giang'!D12+'Xã Thiệu Hợp'!D12+'Xã Thiệu Thịnh'!D12+'Xã Thiệu Quang'!D12 -> 0 | D13: Số TYT tham gia dự án | H13: =G13/$G$11 -> #DIV/0!
A14: Tổng số YTTB/CTV | C14: ='Xã Thiệu Toán'!D13+'Xã Thiệu Chính'!D13+'Xã Thiệu Hòa'!D13+'Xã Minh Tâm'!D13+'Xã Thiệu Viên '!D13+'Xã Thiệu Lý'!D13+'Xã Thiệu Vận'!D13+'Xã Thiệu Trung'!D13+'TT Thiệu Hóa'!D13+'Xã Thiệu Giao'!D13+'Tân Châu'!D13+'Xã Thiệu Ngọc'!D13+'Xã Thiệu Vũ'!D13+'Xã Thiệu Tiến'!D13+'Xã Thiệu Thành'!D13+'Xã Thiệu Công'!D13+'Xã Thiệu Phúc'!D13+'Xã Thiệu Phú'!D13+'Xã Thiệu Long'!D13+'Xã Thiệu Nguyên'!D13+'Xã Thiệu Duy'!D13+'Xã Thiệu Giang'!D13+'Xã Thiệu Hợp'!D13+'Xã Thiệu Thịnh'!D13+'Xã Thiệu Quang'!D13 -> 0 | D14: Số TYT xã báo cáo tháng | H14: =G14/$G$13 -> #DIV/0!
A15: Tổng số cán bộ TYT | C15: ='Xã Thiệu Toán'!D14+'Xã Thiệu Chính'!D14+'Xã Thiệu Hòa'!D14+'Xã Minh Tâm'!D14+'Xã Thiệu Viên '!D14+'Xã Thiệu Lý'!D14+'Xã Thiệu Vận'!D14+'Xã Thiệu Trung'!D14+'TT Thiệu Hóa'!D14+'Xã Thiệu Giao'!D14+'Tân Châu'!D14+'Xã Thiệu Ngọc'!D14+'Xã Thiệu Vũ'!D14+'Xã Thiệu Tiến'!D14+'Xã Thiệu Thành'!D14+'Xã Thiệu Công'!D14+'Xã Thiệu Phúc'!D14+'Xã Thiệu Phú'!D14+'Xã Thiệu Long'!D14+'Xã Thiệu Nguyên'!D14+'Xã Thiệu Duy'!D14+'Xã Thiệu Giang'!D14+'Xã Thiệu Hợp'!D14+'Xã Thiệu Thịnh'!D14+'Xã Thiệu Quang'!D14 -> 0 | D15: Số TYT sử dụng sổ theo dõi NCD điện tử | G15: ='Xã Thiệu Toán'!D17+'Xã Thiệu Chính'!D17+'Xã Thiệu Hòa'!D17+'Xã Minh Tâm'!D17+'Xã Thiệu Viên '!D17+'Xã Thiệu Lý'!D17+'Xã Thiệu Vận'!D17+'Xã Thiệu Trung'!D17+'TT Thiệu Hóa'!D17+'Xã Thiệu Giao'!D17+'Tân Châu'!D17+'Xã Thiệu Ngọc'!D17+'Xã Thiệu Vũ'!D17+'Xã Thiệu Tiến'!D17+'Xã Thiệu Thành'!D17+'Xã Thiệu Công'!D17+'Xã Thiệu Phúc'!D17+'Xã Thiệu Phú'!D17+'Xã Thiệu Long'!D17+'Xã Thiệu Nguyên'!D17+'Xã Thiệu Duy'!D17+'Xã Thiệu Giang'!D17+'Xã Thiệu Hợp'!D17+'Xã Thiệu Thịnh'!D17+'Xã Thiệu Quang'!D17 -> 0 | H15: =G15/G14 -> #DIV/0!
A16: Số y, bác sỹ có CCHN | C16: ='Xã Thiệu Toán'!D15+'Xã Thiệu Chính'!D15+'Xã Thiệu Hòa'!D15+'Xã Minh Tâm'!D15+'Xã Thiệu Viên '!D15+'Xã Thiệu Lý'!D15+'Xã Thiệu Vận'!D15+'Xã Thiệu Trung'!D15+'TT Thiệu Hóa'!D15+'Xã Thiệu Giao'!D15+'Tân Châu'!D15+'Xã Thiệu Ngọc'!D15+'Xã Thiệu Vũ'!D15+'Xã Thiệu Tiến'!D15+'Xã Thiệu Thành'!D15+'Xã Thiệu Công'!D15+'Xã Thiệu Phúc'!D15+'Xã Thiệu Phú'!D15+'Xã Thiệu Long'!D15+'Xã Thiệu Nguyên'!D15+'Xã Thiệu Duy'!D15+'Xã Thiệu Giang'!D15+'Xã Thiệu Hợp'!D15+'Xã Thiệu Thịnh'!D15+'Xã Thiệu Quang'!D15 -> 0 | D16: Số điện thoại liên hệ TTYT huyện
D17: Email liên hệ TTYT huyện
A19: II. Kết quả hoạt động phòng chống bệnh không lây nhiễm
A20: 1. Phát hiện người nguy cơ cao, tiền bệnh, nghi ngờ mắc bệnh, mắc bệnh và số người khám sức khỏe định kỳ
B21: (Lấy số cộng dồn trong năm của TYT xã)
B22: Số người được đo huyết áp | C22: Số người được xác định nghi ngờ THA (Chỉ số huyết áp ≥140/90) | D22: Số người được sàng lọc nguy cơ ĐTĐ bằng bộ câu hỏi | E22: Số người được phát hiện thừa cân béo phì (BMI≥25 hoặc vòng eo to) | F22: Số người được xác định nguy cơ cao ĐTĐ (≥ 6 điểm) | G22: Số người được xét nghiệm đường huyết | H22: Số người phát hiện nghi ngờ rối loạn đường huyết (ĐH mao mạch ≥ 5.6 mmol/L) | I22: Số người được sàng lọc BPTNMT/ hen phế quản | J22: Số người được sàng lọc các bệnh ung thư | K22: Số mắc tai biến mạch máu não (do tất cả cơ sở y tế chẩn đoán không chỉ riêng TYT) | L22: Số người được khám sức khỏe định kỳ | M22: Tỷ lệ % người được khám sức khỏe định kỳ so với tổng dân số ≥ 18 tuổi(70% dân số)
A23: Huyện | B23: =B24+B34 -> 0 | C23: =C24+C34 -> 0 | D23: =D24+D34 -> 0 | E23: =E24+E34 -> 0 | F23: =F24+F34 -> 0 | G23: =G24+G34 -> 0 | H23: =H24+H34 -> 0 | I23: =I24+I34 -> 0 | ... L23: =L24+L34 -> 0 | M23: =L23/C9 -> #DIV/0!
A24: Các cơ sở y tế tuyến huyện | B24: =SUM(B25:B33) -> 0 | C24: =SUM(C25:C33) -> 0 | D24: =SUM(D25:D33) -> 0 | E24: =SUM(E25:E33) -> 0 | F24: =SUM(F25:F33) -> 0 | G24: =SUM(G25:G33) -> 0 | H24: =SUM(H25:H33) -> 0 | I24: =SUM(I25:I33) -> 0 | ... L24: =SUM(L25:L33) -> 0 | M24: =L24/C9 -> #DIV/0!
A25: BVĐK Thiệu Hóa
A26: Cơ sở 2
A27: Cơ sở 3
A28: Cơ sở 4
A29: Cơ sở 5
A30: Cơ sở 6
A31: Cơ sở 7
A32: Cơ sở 8
A33: Cơ sở 9
A34: Cơ sở y tế tuyến Xã | B34: =SUM(B35:B59) -> 0 | C34: =SUM(C35:C59) -> 0 | D34: =SUM(D35:D59) -> 0 | E34: =SUM(E35:E59) -> 0 | F34: =SUM(F35:F59) -> 0 | G34: =SUM(G35:G59) -> 0 | H34: =SUM(H35:H59) -> 0 | I34: =SUM(I35:I59) -> 0 | ... L34: =SUM(L35:L59) -> 0 | M34: =L34/C9 -> #DIV/0!
A35: Xã Thiệu Toán | B35: ='Xã Thiệu Toán'!B24 -> 0 | C35: ='Xã Thiệu Toán'!C24 -> 0 | D35: ='Xã Thiệu Toán'!D24 -> 0 | E35: ='Xã Thiệu Toán'!E24 -> 0 | F35: ='Xã Thiệu Toán'!F24 -> 0 | G35: ='Xã Thiệu Toán'!G24 -> 0 | H35: ='Xã Thiệu Toán'!H24 -> 0 | I35: ='Xã Thiệu Toán'!I24 -> 0 | ... M35: ='Xã Thiệu Toán'!M24 -> #DIV/0!
A36: Xã Thiệu Chính | B36: ='Xã Thiệu Chính'!B24 -> 0 | C36: ='Xã Thiệu Chính'!C24 -> 0 | D36: ='Xã Thiệu Chính'!D24 -> 0 | E36: ='Xã Thiệu Chính'!E24 -> 0 | F36: ='Xã Thiệu Chính'!F24 -> 0 | G36: ='Xã Thiệu Chính'!G24 -> 0 | H36: ='Xã Thiệu Chính'!H24 -> 0 | I36: ='Xã Thiệu Chính'!I24 -> 0 | ... M36: ='Xã Thiệu Chính'!M24 -> #DIV/0!
A37: Xã Thiệu Hòa | B37: ='Xã Thiệu Hòa'!B24 -> 0 | C37: ='Xã Thiệu Hòa'!C24 -> 0 | D37: ='Xã Thiệu Hòa'!D24 -> 0 | E37: ='Xã Thiệu Hòa'!E24 -> 0 | F37: ='Xã Thiệu Hòa'!F24 -> 0 | G37: ='Xã Thiệu Hòa'!G24 -> 0 | H37: ='Xã Thiệu Hòa'!H24 -> 0 | I37: ='Xã Thiệu Hòa'!I24 -> 0 | ... M37: ='Xã Thiệu Hòa'!M24 -> #DIV/0!
A38: Xã Minh Tâm | B38: ='Xã Minh Tâm'!B24 -> 0 | C38: ='Xã Minh Tâm'!C24 -> 0 | D38: ='Xã Minh Tâm'!D24 -> 0 | E38: ='Xã Minh Tâm'!E24 -> 0 | F38: ='Xã Minh Tâm'!F24 -> 0 | G38: ='Xã Minh Tâm'!G24 -> 0 | H38: ='Xã Minh Tâm'!H24 -> 0 | I38: ='Xã Minh Tâm'!I24 -> 0 | ... M38: ='Xã Minh Tâm'!M24 -> #DIV/0!
A39: Xã Thiệu Viên | B39: ='Xã Thiệu Viên '!B24 -> 0 | C39: ='Xã Thiệu Viên '!C24 -> 0 | D39: ='Xã Thiệu Viên '!D24 -> 0 | E39: ='Xã Thiệu Viên '!E24 -> 0 | F39: ='Xã Thiệu Viên '!F24 -> 0 | G39: ='Xã Thiệu Viên '!G24 -> 0 | H39: ='Xã Thiệu Viên '!H24 -> 0 | I39: ='Xã Thiệu Viên '!I24 -> 0 | ... M39: ='Xã Thiệu Viên '!M24 -> #DIV/0!
A40: Xã Thiệu Lý | B40: ='Xã Thiệu Lý'!B24 -> 0 | C40: ='Xã Thiệu Lý'!C24 -> 0 | D40: ='Xã Thiệu Lý'!D24 -> 0 | E40: ='Xã Thiệu Lý'!E24 -> 0 | F40: ='Xã Thiệu Lý'!F24 -> 0 | G40: ='Xã Thiệu Lý'!G24 -> 0 | H40: ='Xã Thiệu Lý'!H24 -> 0 | I40: ='Xã Thiệu Lý'!I24 -> 0 | ... M40: ='Xã Thiệu Lý'!M24 -> #DIV/0!
A41: Xã Thiệu Vận | B41: ='Xã Thiệu Vận'!B24 -> 0 | C41: ='Xã Thiệu Vận'!C24 -> 0 | D41: ='Xã Thiệu Vận'!D24 -> 0 | E41: ='Xã Thiệu Vận'!E24 -> 0 | F41: ='Xã Thiệu Vận'!F24 -> 0 | G41: ='Xã Thiệu Vận'!G24 -> 0 | H41: ='Xã Thiệu Vận'!H24 -> 0 | I41: ='Xã Thiệu Vận'!I24 -> 0 | ... M41: ='Xã Thiệu Vận'!M24 -> #DIV/0!
A42: Xã Thiệu Trung | B42: ='Xã Thiệu Trung'!B24 -> 0 | C42: ='Xã Thiệu Trung'!C24 -> 0 | D42: ='Xã Thiệu Trung'!D24 -> 0 | E42: ='Xã Thiệu Trung'!E24 -> 0 | F42: ='Xã Thiệu Trung'!F24 -> 0 | G42: ='Xã Thiệu Trung'!G24 -> 0 | H42: ='Xã Thiệu Trung'!H24 -> 0 | I42: ='Xã Thiệu Trung'!I24 -> 0 | ... M42: ='Xã Thiệu Trung'!M24 -> #DIV/0!
...

Sheet Xã Thiệu Toán
A1: ='Huyện-Tổng hợp'!A2:C2 -> Mẫu báo cáo TYT xã - X0106 | D1: CỘNG HÒA XÃ HỘI CHỦ NGHĨA VIỆT NAM
D2: Độc lập – Tự do – Hạnh phúc
A3: TTYT huyện: | C3: ='Huyện-Tổng hợp'!B3 -> Thiệu Hóa
A4: TYT xã
A5: BÁO CÁO HOẠT ĐỘNG QUẢN LÝ ĐIỀU TRỊ BỆNH KHÔNG LÂY NHIỄM TẠI TRẠM Y TẾ
C6: Tháng | D6: ='Huyện-Tổng hợp'!D7 -> 0 | R6: 0
A7: ='Huyện-Tổng hợp'!A8 -> I. Thông tin chung | R7: 1
A8: Dân số:
A9: Số người ≥ 18 tuổi:
A10: Số người ≥ 40 tuổi:
A11: Tổng số thôn bản: | F11: Số điện thoại
A12: Số thôn bản có YTTB/CTV | B12: Số thôn bản có YTTB/CTV | F12: Email:
A13: Số YTTB/CTV
A14: Số cán bộ TYT | G14: Mầu xanh TYT xã cần nhập thông tin
A15: Số y, bác sỹ có CCHN | G15: Màu Vàng tự động tính không cần nhập
A16: Có bác sỹ làm việc không (Không=0; Có=1) | G16: Màu xám không cần nhập
A17: Sử dụng sổ theo dõi NCD điện tử (Không=0; Có=1)
A19: ='Huyện-Tổng hợp'!A19 -> II. Kết quả hoạt động phòng chống bệnh không lây nhiễm
A20: ='Huyện-Tổng hợp'!A20 -> 1. Phát hiện người nguy cơ cao, tiền bệnh, nghi ngờ mắc bệnh, mắc bệnh và số người khám sức khỏe định kỳ
A21: (Lấy số liệu từ sheet «sàng lọc phát hiện» của sổ theo dõi NCD điện tử)
B22: ='Huyện-Tổng hợp'!B22 -> Số người được đo huyết áp | C22: ='Huyện-Tổng hợp'!C22 -> Số người được xác định nghi ngờ THA (Chỉ số huyết áp ≥140/90) | D22: ='Huyện-Tổng hợp'!D22 -> Số người được sàng lọc nguy cơ ĐTĐ bằng bộ câu hỏi | E22: ='Huyện-Tổng hợp'!E22 -> Số người được phát hiện thừa cân béo phì (BMI≥25 hoặc vòng eo to) | F22: ='Huyện-Tổng hợp'!F22 -> Số người được xác định nguy cơ cao ĐTĐ (≥ 6 điểm) | G22: ='Huyện-Tổng hợp'!G22 -> Số người được xét nghiệm đường huyết | H22: ='Huyện-Tổng hợp'!H22 -> Số người phát hiện nghi ngờ rối loạn đường huyết (ĐH mao mạch ≥ 5.6 mmol/L) | I22: ='Huyện-Tổng hợp'!I22 -> Số người được sàng lọc BPTNMT/ hen phế quản | ... M22: ='Huyện-Tổng hợp'!M22 -> Tỷ lệ % người được khám sức khỏe định kỳ so với tổng dân số ≥ 18 tuổi(70% dân số)
A23: Số mới trong tháng | M23: =L23/(0.7*$D$8) -> #DIV/0!
A24: Số cộng dồn trong năm | M24: =L24/(0.7*$D$8) -> #DIV/0!
A27: ='Huyện-Tổng hợp'!A61 -> 2. Quản lý điều trị người bệnh tăng huyết áp và đái tháo đường tại các trạm y tế
A28: a. Phát hiện và Quản lý điều trị THA, ĐTĐ trong tháng
B30: ='Huyện-Tổng hợp'!B64 -> Số BN mắc THA ước tính(12% dân số) | E30: =12%*D8 -> 0 | G30: ='Huyện-Tổng hợp'!B112 -> Số BN mắc ĐTĐ ước tính (2% dân số) | J30: =2%*D8 -> 0
B32: ='Huyện-Tổng hợp'!B67 -> Mới phát hiện trong tháng | C32: ='Huyện-Tổng hợp'!C67:D67 -> Tổng số phát hiện cộng dồn | E32: ='Huyện-Tổng hợp'!E67:F67 -> Tổng số BN đến khám và lấy thuốc cộng dồn | G32: ='Huyện-Tổng hợp'!G67:H67 -> BN đến khám và cấp thuốc tháng vừa qua | I32: ='Huyện-Tổng hợp'!I67:J67 -> BN đến khám và cấp thuốc trong tháng vừa qua đạt mục tiêu điều trị (chuẩn 2020) | K32: ='Huyện-Tổng hợp'!K67:L67 -> BN đến khám và cấp thuốc trong tháng vừa qua đạt mục tiêu điều trị (chuẩn cũ)
C33: ='Huyện-Tổng hợp'!C68 -> Số lượng | D33: ='Huyện-Tổng hợp'!D68 -> Tỷ lệ | E33: ='Huyện-Tổng hợp'!E68 -> Số lượng | F33: ='Huyện-Tổng hợp'!F68 -> Tỷ lệ | G33: ='Huyện-Tổng hợp'!G68 -> Số lượng | H33: ='Huyện-Tổng hợp'!H68 -> Tỷ lệ | I33: ='Huyện-Tổng hợp'!I68 -> Số lượng | J33: ='Huyện-Tổng hợp'!J68 -> Tỷ lệ | ... L33: ='Huyện-Tổng hợp'!L68 -> Tỷ lệ
A34: THA | D34: =C34/E30 -> #DIV/0! | F34: =E34/C34 -> #DIV/0! | H34: =G34/E34 -> #DIV/0! | J34: =I34/G34 -> #DIV/0! | L34: =K34/G34 -> #DIV/0!
A35: ĐTĐ | D35: =C35/J30 -> #DIV/0! | F35: =E35/C35 -> #DIV/0! | H35: =G35/E35 -> #DIV/0! | J35: =I35/G35 -> #DIV/0!
A37: b. Phát hiện và Quản lý điều trị THA, ĐTĐ trong kỳ báo cáo 3 tháng, 6 tháng, 9 tháng và 12 tháng
B38: ='Huyện-Tổng hợp'!B161 -> Mới phát hiện trong kỳ báo cáo | C38: ='Huyện-Tổng hợp'!C161:D161 -> Tổng số phát hiện trong kỳ báo cáo (cộng dồn) | E38: ='Huyện-Tổng hợp'!E161:F161 -> Tổng số BN đang được quản lý trong kỳ báo cáo | G38: ='Huyện-Tổng hợp'!G161:H161 -> BN được khám và cấp thuốc tháng cuối của kỳ báo cáo | I38: ='Huyện-Tổng hợp'!I161:J161 -> BN được quản lý điều trị đạt mục tiêu điều trị tại tháng cuối của kỳ báo cáo (chuẩn 2020) | K38: ='Huyện-Tổng hợp'!K161:L161 -> BN được quản lý điều trị đạt mục tiêu điều trị trong quý cuối của kỳ báo cáo (chuẩn 2020) | M38: ='Huyện-Tổng hợp'!M161:N161 -> BN được quản lý tại đạt mục tiêu điều trị trong quý cuối của kỳ báo cáo (chuẩn cũ)
C39: ='Huyện-Tổng hợp'!C162 -> Số lượng | D39: ='Huyện-Tổng hợp'!D162 -> Tỷ lệ | E39: ='Huyện-Tổng hợp'!E162 -> Số lượng | F39: ='Huyện-Tổng hợp'!F162 -> Tỷ lệ | G39: ='Huyện-Tổng hợp'!G162 -> Số lượng | H39: ='Huyện-Tổng hợp'!H162 -> Tỷ lệ | I39: ='Huyện-Tổng hợp'!I162 -> Số lượng | J39: ='Huyện-Tổng hợp'!J162 -> Tỷ lệ | ... N39: ='Huyện-Tổng hợp'!N162 -> Tỷ lệ
A40: THA | C40: =C34 -> 0 | D40: =D34 -> #DIV/0! | F40: =E40/C40 -> #DIV/0! | G40: =G34 -> 0 | H40: =G40/E40 -> #DIV/0! | I40: =I34 -> 0 | J40: =J34 -> #DIV/0! | L40: =K40/E40 -> #DIV/0! | N40: =M40/E40 -> #DIV/0!
A41: ĐTĐ | C41: =C35 -> 0 | D41: =D35 -> #DIV/0! | F41: =E41/C41 -> #DIV/0! | G41: =G35 -> 0 | H41: =G41/E41 -> #DIV/0! | I41: =I35 -> 0 | J41: =J35 -> #DIV/0! | L41: =K41/E41 -> #DIV/0!
A43: ='Huyện-Tổng hợp'!A249 -> III. Tổng hợp cung ứng thuốc tại các TYT
B44: ='Huyện-Tổng hợp'!B251:G251 -> Thuốc điều trị THA | H44: ='Huyện-Tổng hợp'!H251:K251 -> Thuốc điều trị ĐTĐ
B45: ='Huyện-Tổng hợp'!B252:B252 -> Có thuốc chẹn kênh can xi (bao gồm cả viên kết hợp có thành phần này) | C45: ='Huyện-Tổng hợp'!C252:C252 -> Có thuốc ức chế men chuyển và/hoặc ức chế thụ thể (bao gồm cả viên kết hợp có thành phần này) | D45: ='Huyện-Tổng hợp'!D252:D252 -> Có thuốc lợi tiểu thiazide hoặc tương tự (bao gồm cả viên kết hợp có thành phần này) | E45: ='Huyện-Tổng hợp'!E252:E252 -> Có thuốc kết hợp 2 loại đơn chất trên | F45: ='Huyện-Tổng hợp'!F252:F252 -> Có thuốc kết hợp 3 loại đơn chất trên | G45: ='Huyện-Tổng hợp'!G252:G252 -> Có thực hiện cấp thuốc 28-30 ngày cho phần lớn bệnh nhân THA | H45: ='Huyện-Tổng hợp'!H252:H252 -> Có thuốc Metformin | I45: ='Huyện-Tổng hợp'!I252:I252 -> Có thuốc Gliclazide | ... K45: ='Huyện-Tổng hợp'!K252:K252 -> Có thực hiện cấp thuốc 28-30 ngày cho phần lớn bệnh nhân ĐTĐ
A46: Có = 1 Không có = 0
A49: ='Huyện-Tổng hợp'!A288 -> IV. Quản lý điều trị các bệnh khác
...

Sheet Xã Thiệu Chính
A1: ='Huyện-Tổng hợp'!A2:C2 -> Mẫu báo cáo TYT xã - X0106 | D1: CỘNG HÒA XÃ HỘI CHỦ NGHĨA VIỆT NAM
D2: Độc lập – Tự do – Hạnh phúc
A3: TTYT huyện: | C3: ='Huyện-Tổng hợp'!B3 -> Thiệu Hóa
A4: TYT xã
A5: ='Xã Thiệu Toán'!A5 -> BÁO CÁO HOẠT ĐỘNG QUẢN LÝ ĐIỀU TRỊ BỆNH KHÔNG LÂY NHIỄM TẠI TRẠM Y TẾ
C6: Tháng | D6: ='Huyện-Tổng hợp'!D7 -> 0 | R6: 0
A7: ='Huyện-Tổng hợp'!A8 -> I. Thông tin chung | R7: 1
A8: ='Xã Thiệu Toán'!A8 -> Dân số:
A9: ='Xã Thiệu Toán'!A9 -> Số người ≥ 18 tuổi:
A10: ='Xã Thiệu Toán'!A10 -> Số người ≥ 40 tuổi:
A11: ='Xã Thiệu Toán'!A11 -> Tổng số thôn bản: | F11: ='Xã Thiệu Toán'!F11 -> Số điện thoại
A12: ='Xã Thiệu Toán'!A12 -> Số thôn bản có YTTB/CTV | F12: ='Xã Thiệu Toán'!F12 -> Email:
A13: ='Xã Thiệu Toán'!A13 -> Số YTTB/CTV
A14: ='Xã Thiệu Toán'!A14 -> Số cán bộ TYT | G14: ='Xã Thiệu Toán'!G14 -> Mầu xanh TYT xã cần nhập thông tin
A15: ='Xã Thiệu Toán'!A15 -> Số y, bác sỹ có CCHN | G15: ='Xã Thiệu Toán'!G15 -> Màu Vàng tự động tính không cần nhập
A16: ='Xã Thiệu Toán'!A16 -> Có bác sỹ làm việc không (Không=0; Có=1) | G16: ='Xã Thiệu Toán'!G16 -> Màu xám không cần nhập
A17: ='Xã Thiệu Toán'!A17 -> Sử dụng sổ theo dõi NCD điện tử (Không=0; Có=1)
A19: ='Huyện-Tổng hợp'!A19 -> II. Kết quả hoạt động phòng chống bệnh không lây nhiễm
A20: ='Huyện-Tổng hợp'!A20 -> 1. Phát hiện người nguy cơ cao, tiền bệnh, nghi ngờ mắc bệnh, mắc bệnh và số người khám sức khỏe định kỳ
A21: ='Xã Thiệu Toán'!A21 -> (Lấy số liệu từ sheet «sàng lọc phát hiện» của sổ theo dõi NCD điện tử)
B22: ='Huyện-Tổng hợp'!B22 -> Số người được đo huyết áp | C22: ='Huyện-Tổng hợp'!C22 -> Số người được xác định nghi ngờ THA (Chỉ số huyết áp ≥140/90) | D22: ='Huyện-Tổng hợp'!D22 -> Số người được sàng lọc nguy cơ ĐTĐ bằng bộ câu hỏi | E22: ='Huyện-Tổng hợp'!E22 -> Số người được phát hiện thừa cân béo phì (BMI≥25 hoặc vòng eo to) | F22: ='Huyện-Tổng hợp'!F22 -> Số người được xác định nguy cơ cao ĐTĐ (≥ 6 điểm) | G22: ='Huyện-Tổng hợp'!G22 -> Số người được xét nghiệm đường huyết | H22: ='Huyện-Tổng hợp'!H22 -> Số người phát hiện nghi ngờ rối loạn đường huyết (ĐH mao mạch ≥ 5.6 mmol/L) | I22: ='Huyện-Tổng hợp'!I22 -> Số người được sàng lọc BPTNMT/ hen phế quản | ... M22: ='Huyện-Tổng hợp'!M22 -> Tỷ lệ % người được khám sức khỏe định kỳ so với tổng dân số ≥ 18 tuổi(70% dân số)
A23: ='Xã Thiệu Toán'!A23 -> Số mới trong tháng | M23: =L23/(0.7*$D$8) -> #DIV/0!
A24: ='Xã Thiệu Toán'!A24 -> Số cộng dồn trong năm | M24: =L24/(0.7*$D$8) -> #DIV/0!
A27: ='Huyện-Tổng hợp'!A61 -> 2. Quản lý điều trị người bệnh tăng huyết áp và đái tháo đường tại các trạm y tế
A28: a. Phát hiện và Quản lý điều trị THA, ĐTĐ trong tháng
B30: ='Huyện-Tổng hợp'!B64 -> Số BN mắc THA ước tính(12% dân số) | E30: =12%*D8 -> 0 | G30: ='Huyện-Tổng hợp'!B112 -> Số BN mắc ĐTĐ ước tính (2% dân số) | J30: =2%*D8 -> 0
B32: ='Huyện-Tổng hợp'!B67 -> Mới phát hiện trong tháng | C32: ='Huyện-Tổng hợp'!C67:D67 -> Tổng số phát hiện cộng dồn | E32: ='Huyện-Tổng hợp'!E67:F67 -> Tổng số BN đến khám và lấy thuốc cộng dồn | G32: ='Huyện-Tổng hợp'!G67:H67 -> BN đến khám và cấp thuốc tháng vừa qua | I32: ='Huyện-Tổng hợp'!I67:J67 -> BN đến khám và cấp thuốc trong tháng vừa qua đạt mục tiêu điều trị (chuẩn 2020) | K32: ='Huyện-Tổng hợp'!K67:L67 -> BN đến khám và cấp thuốc trong tháng vừa qua đạt mục tiêu điều trị (chuẩn cũ)
C33: ='Huyện-Tổng hợp'!C68 -> Số lượng | D33: ='Huyện-Tổng hợp'!D68 -> Tỷ lệ | E33: ='Huyện-Tổng hợp'!E68 -> Số lượng | F33: ='Huyện-Tổng hợp'!F68 -> Tỷ lệ | G33: ='Huyện-Tổng hợp'!G68 -> Số lượng | H33: ='Huyện-Tổng hợp'!H68 -> Tỷ lệ | I33: ='Huyện-Tổng hợp'!I68 -> Số lượng | J33: ='Huyện-Tổng hợp'!J68 -> Tỷ lệ | ... L33: ='Huyện-Tổng hợp'!L68 -> Tỷ lệ
A34: THA | D34: =C34/E30 -> #DIV/0! | F34: =E34/C34 -> #DIV/0! | H34: =G34/E34 -> #DIV/0! | J34: =I34/G34 -> #DIV/0! | L34: =K34/G34 -> #DIV/0!
A35: ĐTĐ | D35: =C35/J30 -> #DIV/0! | F35: =E35/C35 -> #DIV/0! | H35: =G35/E35 -> #DIV/0! | J35: =I35/G35 -> #DIV/0!
A37: b. Phát hiện và Quản lý điều trị THA, ĐTĐ trong kỳ báo cáo 3 tháng, 6 tháng, 9 tháng và 12 tháng
B38: ='Huyện-Tổng hợp'!B161 -> Mới phát hiện trong kỳ báo cáo | C38: ='Huyện-Tổng hợp'!C161:D161 -> Tổng số phát hiện trong kỳ báo cáo (cộng dồn) | E38: ='Huyện-Tổng hợp'!E161:F161 -> Tổng số BN đang được quản lý trong kỳ báo cáo | G38: ='Huyện-Tổng hợp'!G161:H161 -> BN được khám và cấp thuốc tháng cuối của kỳ báo cáo | I38: ='Huyện-Tổng hợp'!I161:J161 -> BN được quản lý điều trị đạt mục tiêu điều trị tại tháng cuối của kỳ báo cáo (chuẩn 2020) | K38: ='Huyện-Tổng hợp'!K161:L161 -> BN được quản lý điều trị đạt mục tiêu điều trị trong quý cuối của kỳ báo cáo (chuẩn 2020) | M38: ='Huyện-Tổng hợp'!M161:N161 -> BN được quản lý tại đạt mục tiêu điều trị trong quý cuối của kỳ báo cáo (chuẩn cũ)
C39: ='Huyện-Tổng hợp'!C162 -> Số lượng | D39: ='Huyện-Tổng hợp'!D162 -> Tỷ lệ | E39: ='Huyện-Tổng hợp'!E162 -> Số lượng | F39: ='Huyện-Tổng hợp'!F162 -> Tỷ lệ | G39: ='Huyện-Tổng hợp'!G162 -> Số lượng | H39: ='Huyện-Tổng hợp'!H162 -> Tỷ lệ | I39: ='Huyện-Tổng hợp'!I162 -> Số lượng | J39: ='Huyện-Tổng hợp'!J162 -> Tỷ lệ | ... N39: ='Huyện-Tổng hợp'!N162 -> Tỷ lệ
A40: THA | C40: =C34 -> 0 | D40: =D34 -> #DIV/0! | F40: =E40/C40 -> #DIV/0! | G40: =G34 -> 0 | H40: =G40/E40 -> #DIV/0! | I40: =I34 -> 0 | J40: =J34 -> #DIV/0! | L40: =K40/E40 -> #DIV/0! | N40: =M40/E40 -> #DIV/0!
A41: ĐTĐ | C41: =C35 -> 0 | D41: =D35 -> #DIV/0! | F41: =E41/C41 -> #DIV/0! | G41: =G35 -> 0 | H41: =G41/E41 -> #DIV/0! | I41: =I35 -> 0 | J41: =J35 -> #DIV/0! | L41: =K41/E41 -> #DIV/0!
A43: ='Huyện-Tổng hợp'!A249 -> III. Tổng hợp cung ứng thuốc tại các TYT
B44: ='Huyện-Tổng hợp'!B251:G251 -> Thuốc điều trị THA | H44: ='Huyện-Tổng hợp'!H251:K251 -> Thuốc điều trị ĐTĐ
B45: ='Huyện-Tổng hợp'!B252:B252 -> Có thuốc chẹn kênh can xi (bao gồm cả viên kết hợp có thành phần này) | C45: ='Huyện-Tổng hợp'!C252:C252 -> Có thuốc ức chế men chuyển và/hoặc ức chế thụ thể (bao gồm cả viên kết hợp có thành phần này) | D45: ='Huyện-Tổng hợp'!D252:D252 -> Có thuốc lợi tiểu thiazide hoặc tương tự (bao gồm cả viên kết hợp có thành phần này) | E45: ='Huyện-Tổng hợp'!E252:E252 -> Có thuốc kết hợp 2 loại đơn chất trên | F45: ='Huyện-Tổng hợp'!F252:F252 -> Có thuốc kết hợp 3 loại đơn chất trên | G45: ='Huyện-Tổng hợp'!G252:G252 -> Có thực hiện cấp thuốc 28-30 ngày cho phần lớn bệnh nhân THA | H45: ='Huyện-Tổng hợp'!H252:H252 -> Có thuốc Metformin | I45: ='Huyện-Tổng hợp'!I252:I252 -> Có thuốc Gliclazide | ... K45: ='Huyện-Tổng hợp'!K252:K252 -> Có thực hiện cấp thuốc 28-30 ngày cho phần lớn bệnh nhân ĐTĐ
A46: ='Xã Thiệu Toán'!A46 -> Có = 1 Không có = 0
A49: ='Huyện-Tổng hợp'!A288 -> IV. Quản lý điều trị các bệnh khác
...

Sheet Xã Thiệu Hòa
A1: ='Huyện-Tổng hợp'!A2:C2 -> Mẫu báo cáo TYT xã - X0106 | D1: CỘNG HÒA XÃ HỘI CHỦ NGHĨA VIỆT NAM
D2: Độc lập – Tự do – Hạnh phúc
A3: TTYT huyện: | C3: ='Huyện-Tổng hợp'!B3 -> Thiệu Hóa
A4: TYT xã
A5: ='Xã Thiệu Toán'!A5 -> BÁO CÁO HOẠT ĐỘNG QUẢN LÝ ĐIỀU TRỊ BỆNH KHÔNG LÂY NHIỄM TẠI TRẠM Y TẾ
C6: Tháng | D6: ='Huyện-Tổng hợp'!D7 -> 0 | R6: 0
A7: ='Huyện-Tổng hợp'!A8 -> I. Thông tin chung | R7: 1
A8: ='Xã Thiệu Toán'!A8 -> Dân số:
A9: ='Xã Thiệu Toán'!A9 -> Số người ≥ 18 tuổi:
A10: ='Xã Thiệu Toán'!A10 -> Số người ≥ 40 tuổi:
A11: ='Xã Thiệu Toán'!A11 -> Tổng số thôn bản: | F11: ='Xã Thiệu Toán'!F11 -> Số điện thoại
A12: ='Xã Thiệu Toán'!A12 -> Số thôn bản có YTTB/CTV | F12: ='Xã Thiệu Toán'!F12 -> Email:
A13: ='Xã Thiệu Toán'!A13 -> Số YTTB/CTV
A14: ='Xã Thiệu Toán'!A14 -> Số cán bộ TYT | G14: ='Xã Thiệu Toán'!G14 -> Mầu xanh TYT xã cần nhập thông tin
A15: ='Xã Thiệu Toán'!A15 -> Số y, bác sỹ có CCHN | G15: ='Xã Thiệu Toán'!G15 -> Màu Vàng tự động tính không cần nhập
A16: ='Xã Thiệu Toán'!A16 -> Có bác sỹ làm việc không (Không=0; Có=1) | G16: ='Xã Thiệu Toán'!G16 -> Màu xám không cần nhập
A17: ='Xã Thiệu Toán'!A17 -> Sử dụng sổ theo dõi NCD điện tử (Không=0; Có=1)
A19: ='Huyện-Tổng hợp'!A19 -> II. Kết quả hoạt động phòng chống bệnh không lây nhiễm
A20: ='Huyện-Tổng hợp'!A20 -> 1. Phát hiện người nguy cơ cao, tiền bệnh, nghi ngờ mắc bệnh, mắc bệnh và số người khám sức khỏe định kỳ
A21: ='Xã Thiệu Toán'!A21 -> (Lấy số liệu từ sheet «sàng lọc phát hiện» của sổ theo dõi NCD điện tử)
B22: ='Huyện-Tổng hợp'!B22 -> Số người được đo huyết áp | C22: ='Huyện-Tổng hợp'!C22 -> Số người được xác định nghi ngờ THA (Chỉ số huyết áp ≥140/90) | D22: ='Huyện-Tổng hợp'!D22 -> Số người được sàng lọc nguy cơ ĐTĐ bằng bộ câu hỏi | E22: ='Huyện-Tổng hợp'!E22 -> Số người được phát hiện thừa cân béo phì (BMI≥25 hoặc vòng eo to) | F22: ='Huyện-Tổng hợp'!F22 -> Số người được xác định nguy cơ cao ĐTĐ (≥ 6 điểm) | G22: ='Huyện-Tổng hợp'!G22 -> Số người được xét nghiệm đường huyết | H22: ='Huyện-Tổng hợp'!H22 -> Số người phát hiện nghi ngờ rối loạn đường huyết (ĐH mao mạch ≥ 5.6 mmol/L) | I22: ='Huyện-Tổng hợp'!I22 -> Số người được sàng lọc BPTNMT/ hen phế quản | ... M22: ='Huyện-Tổng hợp'!M22 -> Tỷ lệ % người được khám sức khỏe định kỳ so với tổng dân số ≥ 18 tuổi(70% dân số)
A23: ='Xã Thiệu Toán'!A23 -> Số mới trong tháng | M23: =L23/(0.7*$D$8) -> #DIV/0!
A24: ='Xã Thiệu Toán'!A24 -> Số cộng dồn trong năm | M24: =L24/(0.7*$D$8) -> #DIV/0!
A27: ='Huyện-Tổng hợp'!A61 -> 2. Quản lý điều trị người bệnh tăng huyết áp và đái tháo đường tại các trạm y tế
A28: a. Phát hiện và Quản lý điều trị THA, ĐTĐ trong tháng
B30: ='Huyện-Tổng hợp'!B64 -> Số BN mắc THA ước tính(12% dân số) | E30: =12%*D8 -> 0 | G30: ='Huyện-Tổng hợp'!B112 -> Số BN mắc ĐTĐ ước tính (2% dân số) | J30: =2%*D8 -> 0
B32: ='Huyện-Tổng hợp'!B67 -> Mới phát hiện trong tháng | C32: ='Huyện-Tổng hợp'!C67:D67 -> Tổng số phát hiện cộng dồn | E32: ='Huyện-Tổng hợp'!E67:F67 -> Tổng số BN đến khám và lấy thuốc cộng dồn | G32: ='Huyện-Tổng hợp'!G67:H67 -> BN đến khám và cấp thuốc tháng vừa qua | I32: ='Huyện-Tổng hợp'!I67:J67 -> BN đến khám và cấp thuốc trong tháng vừa qua đạt mục tiêu điều trị (chuẩn 2020) | K32: ='Huyện-Tổng hợp'!K67:L67 -> BN đến khám và cấp thuốc trong tháng vừa qua đạt mục tiêu điều trị (chuẩn cũ)
C33: ='Huyện-Tổng hợp'!C68 -> Số lượng | D33: ='Huyện-Tổng hợp'!D68 -> Tỷ lệ | E33: ='Huyện-Tổng hợp'!E68 -> Số lượng | F33: ='Huyện-Tổng hợp'!F68 -> Tỷ lệ | G33: ='Huyện-Tổng hợp'!G68 -> Số lượng | H33: ='Huyện-Tổng hợp'!H68 -> Tỷ lệ | I33: ='Huyện-Tổng hợp'!I68 -> Số lượng | J33: ='Huyện-Tổng hợp'!J68 -> Tỷ lệ | ... L33: ='Huyện-Tổng hợp'!L68 -> Tỷ lệ
A34: THA | D34: =C34/E30 -> #DIV/0! | F34: =E34/C34 -> #DIV/0! | H34: =G34/E34 -> #DIV/0! | J34: =I34/G34 -> #DIV/0! | L34: =K34/G34 -> #DIV/0!
A35: ĐTĐ | D35: =C35/J30 -> #DIV/0! | F35: =E35/C35 -> #DIV/0! | H35: =G35/E35 -> #DIV/0! | J35: =I35/G35 -> #DIV/0!
A37: b. Phát hiện và Quản lý điều trị THA, ĐTĐ trong kỳ báo cáo 3 tháng, 6 tháng, 9 tháng và 12 tháng
B38: ='Huyện-Tổng hợp'!B161 -> Mới phát hiện trong kỳ báo cáo | C38: ='Huyện-Tổng hợp'!C161:D161 -> Tổng số phát hiện trong kỳ báo cáo (cộng dồn) | E38: ='Huyện-Tổng hợp'!E161:F161 -> Tổng số BN đang được quản lý trong kỳ báo cáo | G38: ='Huyện-Tổng hợp'!G161:H161 -> BN được khám và cấp thuốc tháng cuối của kỳ báo cáo | I38: ='Huyện-Tổng hợp'!I161:J161 -> BN được quản lý điều trị đạt mục tiêu điều trị tại tháng cuối của kỳ báo cáo (chuẩn 2020) | K38: ='Huyện-Tổng hợp'!K161:L161 -> BN được quản lý điều trị đạt mục tiêu điều trị trong quý cuối của kỳ báo cáo (chuẩn 2020) | M38: ='Huyện-Tổng hợp'!M161:N161 -> BN được quản lý tại đạt mục tiêu điều trị trong quý cuối của kỳ báo cáo (chuẩn cũ)
C39: ='Huyện-Tổng hợp'!C162 -> Số lượng | D39: ='Huyện-Tổng hợp'!D162 -> Tỷ lệ | E39: ='Huyện-Tổng hợp'!E162 -> Số lượng | F39: ='Huyện-Tổng hợp'!F162 -> Tỷ lệ | G39: ='Huyện-Tổng hợp'!G162 -> Số lượng | H39: ='Huyện-Tổng hợp'!H162 -> Tỷ lệ | I39: ='Huyện-Tổng hợp'!I162 -> Số lượng | J39: ='Huyện-Tổng hợp'!J162 -> Tỷ lệ | ... N39: ='Huyện-Tổng hợp'!N162 -> Tỷ lệ
A40: THA | C40: =C34 -> 0 | D40: =D34 -> #DIV/0! | F40: =E40/C40 -> #DIV/0! | G40: =G34 -> 0 | H40: =G40/E40 -> #DIV/0! | I40: =I34 -> 0 | J40: =J34 -> #DIV/0! | L40: =K40/E40 -> #DIV/0! | N40: =M40/E40 -> #DIV/0!
A41: ĐTĐ | C41: =C35 -> 0 | D41: =D35 -> #DIV/0! | F41: =E41/C41 -> #DIV/0! | G41: =G35 -> 0 | H41: =G41/E41 -> #DIV/0! | I41: =I35 -> 0 | J41: =J35 -> #DIV/0! | L41: =K41/E41 -> #DIV/0!
A43: ='Huyện-Tổng hợp'!A249 -> III. Tổng hợp cung ứng thuốc tại các TYT
B44: ='Huyện-Tổng hợp'!B251:G251 -> Thuốc điều trị THA | H44: ='Huyện-Tổng hợp'!H251:K251 -> Thuốc điều trị ĐTĐ
B45: ='Huyện-Tổng hợp'!B252:B252 -> Có thuốc chẹn kênh can xi (bao gồm cả viên kết hợp có thành phần này) | C45: ='Huyện-Tổng hợp'!C252:C252 -> Có thuốc ức chế men chuyển và/hoặc ức chế thụ thể (bao gồm cả viên kết hợp có thành phần này) | D45: ='Huyện-Tổng hợp'!D252:D252 -> Có thuốc lợi tiểu thiazide hoặc tương tự (bao gồm cả viên kết hợp có thành phần này) | E45: ='Huyện-Tổng hợp'!E252:E252 -> Có thuốc kết hợp 2 loại đơn chất trên | F45: ='Huyện-Tổng hợp'!F252:F252 -> Có thuốc kết hợp 3 loại đơn chất trên | G45: ='Huyện-Tổng hợp'!G252:G252 -> Có thực hiện cấp thuốc 28-30 ngày cho phần lớn bệnh nhân THA | H45: ='Huyện-Tổng hợp'!H252:H252 -> Có thuốc Metformin | I45: ='Huyện-Tổng hợp'!I252:I252 -> Có thuốc Gliclazide | ... K45: ='Huyện-Tổng hợp'!K252:K252 -> Có thực hiện cấp thuốc 28-30 ngày cho phần lớn bệnh nhân ĐTĐ
A46: ='Xã Thiệu Toán'!A46 -> Có = 1 Không có = 0
A49: ='Huyện-Tổng hợp'!A288 -> IV. Quản lý điều trị các bệnh khác
...

Sheet Xã Minh Tâm
A1: ='Huyện-Tổng hợp'!A2:C2 -> Mẫu báo cáo TYT xã - X0106 | D1: CỘNG HÒA XÃ HỘI CHỦ NGHĨA VIỆT NAM
D2: Độc lập – Tự do – Hạnh phúc
A3: TTYT huyện: | C3: ='Huyện-Tổng hợp'!B3 -> Thiệu Hóa
A4: TYT xã
A5: ='Xã Thiệu Toán'!A5 -> BÁO CÁO HOẠT ĐỘNG QUẢN LÝ ĐIỀU TRỊ BỆNH KHÔNG LÂY NHIỄM TẠI TRẠM Y TẾ
C6: Tháng | D6: ='Huyện-Tổng hợp'!D7 -> 0 | R6: 0
A7: ='Huyện-Tổng hợp'!A8 -> I. Thông tin chung | R7: 1
A8: ='Xã Thiệu Toán'!A8 -> Dân số:
A9: ='Xã Thiệu Toán'!A9 -> Số người ≥ 18 tuổi:
A10: ='Xã Thiệu Toán'!A10 -> Số người ≥ 40 tuổi:
A11: ='Xã Thiệu Toán'!A11 -> Tổng số thôn bản: | F11: ='Xã Thiệu Toán'!F11 -> Số điện thoại
A12: ='Xã Thiệu Toán'!A12 -> Số thôn bản có YTTB/CTV | F12: ='Xã Thiệu Toán'!F12 -> Email:
A13: ='Xã Thiệu Toán'!A13 -> Số YTTB/CTV
A14: ='Xã Thiệu Toán'!A14 -> Số cán bộ TYT | G14: ='Xã Thiệu Toán'!G14 -> Mầu xanh TYT xã cần nhập thông tin
A15: ='Xã Thiệu Toán'!A15 -> Số y, bác sỹ có CCHN | G15: ='Xã Thiệu Toán'!G15 -> Màu Vàng tự động tính không cần nhập
A16: ='Xã Thiệu Toán'!A16 -> Có bác sỹ làm việc không (Không=0; Có=1) | G16: ='Xã Thiệu Toán'!G16 -> Màu xám không cần nhập
A17: ='Xã Thiệu Toán'!A17 -> Sử dụng sổ theo dõi NCD điện tử (Không=0; Có=1)
A19: ='Huyện-Tổng hợp'!A19 -> II. Kết quả hoạt động phòng chống bệnh không lây nhiễm
A20: ='Huyện-Tổng hợp'!A20 -> 1. Phát hiện người nguy cơ cao, tiền bệnh, nghi ngờ mắc bệnh, mắc bệnh và số người khám sức khỏe định kỳ
A21: ='Xã Thiệu Toán'!A21 -> (Lấy số liệu từ sheet «sàng lọc phát hiện» của sổ theo dõi NCD điện tử)
B22: ='Huyện-Tổng hợp'!B22 -> Số người được đo huyết áp | C22: ='Huyện-Tổng hợp'!C22 -> Số người được xác định nghi ngờ THA (Chỉ số huyết áp ≥140/90) | D22: ='Huyện-Tổng hợp'!D22 -> Số người được sàng lọc nguy cơ ĐTĐ bằng bộ câu hỏi | E22: ='Huyện-Tổng hợp'!E22 -> Số người được phát hiện thừa cân béo phì (BMI≥25 hoặc vòng eo to) | F22: ='Huyện-Tổng hợp'!F22 -> Số người được xác định nguy cơ cao ĐTĐ (≥ 6 điểm) | G22: ='Huyện-Tổng hợp'!G22 -> Số người được xét nghiệm đường huyết | H22: ='Huyện-Tổng hợp'!H22 -> Số người phát hiện nghi ngờ rối loạn đường huyết (ĐH mao mạch ≥ 5.6 mmol/L) | I22: ='Huyện-Tổng hợp'!I22 -> Số người được sàng lọc BPTNMT/ hen phế quản | ... M22: ='Huyện-Tổng hợp'!M22 -> Tỷ lệ % người được khám sức khỏe định kỳ so với tổng dân số ≥ 18 tuổi(70% dân số)
A23: ='Xã Thiệu Toán'!A23 -> Số mới trong tháng | M23: =L23/(0.7*$D$8) -> #DIV/0!
A24: ='Xã Thiệu Toán'!A24 -> Số cộng dồn trong năm | M24: =L24/(0.7*$D$8) -> #DIV/0!
A27: ='Huyện-Tổng hợp'!A61 -> 2. Quản lý điều trị người bệnh tăng huyết áp và đái tháo đường tại các trạm y tế
A28: a. Phát hiện và Quản lý điều trị THA, ĐTĐ trong tháng
B30: ='Huyện-Tổng hợp'!B64 -> Số BN mắc THA ước tính(12% dân số) | E30: =12%*D8 -> 0 | G30: ='Huyện-Tổng hợp'!B112 -> Số BN mắc ĐTĐ ước tính (2% dân số) | J30: =2%*D8 -> 0
B32: ='Huyện-Tổng hợp'!B67 -> Mới phát hiện trong tháng | C32: ='Huyện-Tổng hợp'!C67:D67 -> Tổng số phát hiện cộng dồn | E32: ='Huyện-Tổng hợp'!E67:F67 -> Tổng số BN đến khám và lấy thuốc cộng dồn | G32: ='Huyện-Tổng hợp'!G67:H67 -> BN đến khám và cấp thuốc tháng vừa qua | I32: ='Huyện-Tổng hợp'!I67:J67 -> BN đến khám và cấp thuốc trong tháng vừa qua đạt mục tiêu điều trị (chuẩn 2020) | K32: ='Huyện-Tổng hợp'!K67:L67 -> BN đến khám và cấp thuốc trong tháng vừa qua đạt mục tiêu điều trị (chuẩn cũ)
C33: ='Huyện-Tổng hợp'!C68 -> Số lượng | D33: ='Huyện-Tổng hợp'!D68 -> Tỷ lệ | E33: ='Huyện-Tổng hợp'!E68 -> Số lượng | F33: ='Huyện-Tổng hợp'!F68 -> Tỷ lệ | G33: ='Huyện-Tổng hợp'!G68 -> Số lượng | H33: ='Huyện-Tổng hợp'!H68 -> Tỷ lệ | I33: ='Huyện-Tổng hợp'!I68 -> Số lượng | J33: ='Huyện-Tổng hợp'!J68 -> Tỷ lệ | ... L33: ='Huyện-Tổng hợp'!L68 -> Tỷ lệ
A34: THA | D34: =C34/E30 -> #DIV/0! | F34: =E34/C34 -> #DIV/0! | H34: =G34/E34 -> #DIV/0! | J34: =I34/G34 -> #DIV/0! | L34: =K34/G34 -> #DIV/0!
A35: ĐTĐ | D35: =C35/J30 -> #DIV/0! | F35: =E35/C35 -> #DIV/0! | H35: =G35/E35 -> #DIV/0! | J35: =I35/G35 -> #DIV/0!
A37: b. Phát hiện và Quản lý điều trị THA, ĐTĐ trong kỳ báo cáo 3 tháng, 6 tháng, 9 tháng và 12 tháng
B38: ='Huyện-Tổng hợp'!B161 -> Mới phát hiện trong kỳ báo cáo | C38: ='Huyện-Tổng hợp'!C161:D161 -> Tổng số phát hiện trong kỳ báo cáo (cộng dồn) | E38: ='Huyện-Tổng hợp'!E161:F161 -> Tổng số BN đang được quản lý trong kỳ báo cáo | G38: ='Huyện-Tổng hợp'!G161:H161 -> BN được khám và cấp thuốc tháng cuối của kỳ báo cáo | I38: ='Huyện-Tổng hợp'!I161:J161 -> BN được quản lý điều trị đạt mục tiêu điều trị tại tháng cuối của kỳ báo cáo (chuẩn 2020) | K38: ='Huyện-Tổng hợp'!K161:L161 -> BN được quản lý điều trị đạt mục tiêu điều trị trong quý cuối của kỳ báo cáo (chuẩn 2020) | M38: ='Huyện-Tổng hợp'!M161:N161 -> BN được quản lý tại đạt mục tiêu điều trị trong quý cuối của kỳ báo cáo (chuẩn cũ)
C39: ='Huyện-Tổng hợp'!C162 -> Số lượng | D39: ='Huyện-Tổng hợp'!D162 -> Tỷ lệ | E39: ='Huyện-Tổng hợp'!E162 -> Số lượng | F39: ='Huyện-Tổng hợp'!F162 -> Tỷ lệ | G39: ='Huyện-Tổng hợp'!G162 -> Số lượng | H39: ='Huyện-Tổng hợp'!H162 -> Tỷ lệ | I39: ='Huyện-Tổng hợp'!I162 -> Số lượng | J39: ='Huyện-Tổng hợp'!J162 -> Tỷ lệ | ... N39: ='Huyện-Tổng hợp'!N162 -> Tỷ lệ
A40: THA | C40: =C34 -> 0 | D40: =D34 -> #DIV/0! | F40: =E40/C40 -> #DIV/0! | G40: =G34 -> 0 | H40: =G40/E40 -> #DIV/0! | I40: =I34 -> 0 | J40: =J34 -> #DIV/0! | L40: =K40/E40 -> #DIV/0! | N40: =M40/E40 -> #DIV/0!
A41: ĐTĐ | C41: =C35 -> 0 | D41: =D35 -> #DIV/0! | F41: =E41/C41 -> #DIV/0! | G41: =G35 -> 0 | H41: =G41/E41 -> #DIV/0! | I41: =I35 -> 0 | J41: =J35 -> #DIV/0! | L41: =K41/E41 -> #DIV/0!
A43: ='Huyện-Tổng hợp'!A249 -> III. Tổng hợp cung ứng thuốc tại các TYT
B44: ='Huyện-Tổng hợp'!B251:G251 -> Thuốc điều trị THA | H44: ='Huyện-Tổng hợp'!H251:K251 -> Thuốc điều trị ĐTĐ
B45: ='Huyện-Tổng hợp'!B252:B252 -> Có thuốc chẹn kênh can xi (bao gồm cả viên kết hợp có thành phần này) | C45: ='Huyện-Tổng hợp'!C252:C252 -> Có thuốc ức chế men chuyển và/hoặc ức chế thụ thể (bao gồm cả viên kết hợp có thành phần này) | D45: ='Huyện-Tổng hợp'!D252:D252 -> Có thuốc lợi tiểu thiazide hoặc tương tự (bao gồm cả viên kết hợp có thành phần này) | E45: ='Huyện-Tổng hợp'!E252:E252 -> Có thuốc kết hợp 2 loại đơn chất trên | F45: ='Huyện-Tổng hợp'!F252:F252 -> Có thuốc kết hợp 3 loại đơn chất trên | G45: ='Huyện-Tổng hợp'!G252:G252 -> Có thực hiện cấp thuốc 28-30 ngày cho phần lớn bệnh nhân THA | H45: ='Huyện-Tổng hợp'!H252:H252 -> Có thuốc Metformin | I45: ='Huyện-Tổng hợp'!I252:I252 -> Có thuốc Gliclazide | ... K45: ='Huyện-Tổng hợp'!K252:K252 -> Có thực hiện cấp thuốc 28-30 ngày cho phần lớn bệnh nhân ĐTĐ
A46: ='Xã Thiệu Toán'!A46 -> Có = 1 Không có = 0
A49: ='Huyện-Tổng hợp'!A288 -> IV. Quản lý điều trị các bệnh khác
...

Sheet Xã Thiệu Viên 
A1: ='Huyện-Tổng hợp'!A2:C2 -> Mẫu báo cáo TYT xã - X0106 | D1: CỘNG HÒA XÃ HỘI CHỦ NGHĨA VIỆT NAM
D2: Độc lập – Tự do – Hạnh phúc
A3: TTYT huyện: | C3: ='Huyện-Tổng hợp'!B3 -> Thiệu Hóa
A4: TYT xã
A5: ='Xã Thiệu Toán'!A5 -> BÁO CÁO HOẠT ĐỘNG QUẢN LÝ ĐIỀU TRỊ BỆNH KHÔNG LÂY NHIỄM TẠI TRẠM Y TẾ
C6: Tháng | D6: ='Huyện-Tổng hợp'!D7 -> 0 | R6: 0
A7: ='Huyện-Tổng hợp'!A8 -> I. Thông tin chung | R7: 1
A8: ='Xã Thiệu Toán'!A8 -> Dân số:
A9: ='Xã Thiệu Toán'!A9 -> Số người ≥ 18 tuổi:
A10: ='Xã Thiệu Toán'!A10 -> Số người ≥ 40 tuổi:
A11: ='Xã Thiệu Toán'!A11 -> Tổng số thôn bản: | F11: ='Xã Thiệu Toán'!F11 -> Số điện thoại
A12: ='Xã Thiệu Toán'!A12 -> Số thôn bản có YTTB/CTV | F12: ='Xã Thiệu Toán'!F12 -> Email:
A13: ='Xã Thiệu Toán'!A13 -> Số YTTB/CTV
A14: ='Xã Thiệu Toán'!A14 -> Số cán bộ TYT | G14: ='Xã Thiệu Toán'!G14 -> Mầu xanh TYT xã cần nhập thông tin
A15: ='Xã Thiệu Toán'!A15 -> Số y, bác sỹ có CCHN | G15: ='Xã Thiệu Toán'!G15 -> Màu Vàng tự động tính không cần nhập
A16: ='Xã Thiệu Toán'!A16 -> Có bác sỹ làm việc không (Không=0; Có=1) | G16: ='Xã Thiệu Toán'!G16 -> Màu xám không cần nhập
A17: ='Xã Thiệu Toán'!A17 -> Sử dụng sổ theo dõi NCD điện tử (Không=0; Có=1)
A19: ='Huyện-Tổng hợp'!A19 -> II. Kết quả hoạt động phòng chống bệnh không lây nhiễm
A20: ='Huyện-Tổng hợp'!A20 -> 1. Phát hiện người nguy cơ cao, tiền bệnh, nghi ngờ mắc bệnh, mắc bệnh và số người khám sức khỏe định kỳ
A21: ='Xã Thiệu Toán'!A21 -> (Lấy số liệu từ sheet «sàng lọc phát hiện» của sổ theo dõi NCD điện tử)
B22: ='Huyện-Tổng hợp'!B22 -> Số người được đo huyết áp | C22: ='Huyện-Tổng hợp'!C22 -> Số người được xác định nghi ngờ THA (Chỉ số huyết áp ≥140/90) | D22: ='Huyện-Tổng hợp'!D22 -> Số người được sàng lọc nguy cơ ĐTĐ bằng bộ câu hỏi | E22: ='Huyện-Tổng hợp'!E22 -> Số người được phát hiện thừa cân béo phì (BMI≥25 hoặc vòng eo to) | F22: ='Huyện-Tổng hợp'!F22 -> Số người được xác định nguy cơ cao ĐTĐ (≥ 6 điểm) | G22: ='Huyện-Tổng hợp'!G22 -> Số người được xét nghiệm đường huyết | H22: ='Huyện-Tổng hợp'!H22 -> Số người phát hiện nghi ngờ rối loạn đường huyết (ĐH mao mạch ≥ 5.6 mmol/L) | I22: ='Huyện-Tổng hợp'!I22 -> Số người được sàng lọc BPTNMT/ hen phế quản | ... M22: ='Huyện-Tổng hợp'!M22 -> Tỷ lệ % người được khám sức khỏe định kỳ so với tổng dân số ≥ 18 tuổi(70% dân số)
A23: ='Xã Thiệu Toán'!A23 -> Số mới trong tháng | M23: =L23/(0.7*$D$8) -> #DIV/0!
A24: ='Xã Thiệu Toán'!A24 -> Số cộng dồn trong năm | M24: =L24/(0.7*$D$8) -> #DIV/0!
A27: ='Huyện-Tổng hợp'!A61 -> 2. Quản lý điều trị người bệnh tăng huyết áp và đái tháo đường tại các trạm y tế
A28: a. Phát hiện và Quản lý điều trị THA, ĐTĐ trong tháng
B30: ='Huyện-Tổng hợp'!B64 -> Số BN mắc THA ước tính(12% dân số) | E30: =12%*D8 -> 0 | G30: ='Huyện-Tổng hợp'!B112 -> Số BN mắc ĐTĐ ước tính (2% dân số) | J30: =2%*D8 -> 0
B32: ='Huyện-Tổng hợp'!B67 -> Mới phát hiện trong tháng | C32: ='Huyện-Tổng hợp'!C67:D67 -> Tổng số phát hiện cộng dồn | E32: ='Huyện-Tổng hợp'!E67:F67 -> Tổng số BN đến khám và lấy thuốc cộng dồn | G32: ='Huyện-Tổng hợp'!G67:H67 -> BN đến khám và cấp thuốc tháng vừa qua | I32: ='Huyện-Tổng hợp'!I67:J67 -> BN đến khám và cấp thuốc trong tháng vừa qua đạt mục tiêu điều trị (chuẩn 2020) | K32: ='Huyện-Tổng hợp'!K67:L67 -> BN đến khám và cấp thuốc trong tháng vừa qua đạt mục tiêu điều trị (chuẩn cũ)
C33: ='Huyện-Tổng hợp'!C68 -> Số lượng | D33: ='Huyện-Tổng hợp'!D68 -> Tỷ lệ | E33: ='Huyện-Tổng hợp'!E68 -> Số lượng | F33: ='Huyện-Tổng hợp'!F68 -> Tỷ lệ | G33: ='Huyện-Tổng hợp'!G68 -> Số lượng | H33: ='Huyện-Tổng hợp'!H68 -> Tỷ lệ | I33: ='Huyện-Tổng hợp'!I68 -> Số lượng | J33: ='Huyện-Tổng hợp'!J68 -> Tỷ lệ | ... L33: ='Huyện-Tổng hợp'!L68 -> Tỷ lệ
A34: THA | D34: =C34/E30 -> #DIV/0! | F34: =E34/C34 -> #DIV/0! | H34: =G34/E34 -> #DIV/0! | J34: =I34/G34 -> #DIV/0! | L34: =K34/G34 -> #DIV/0!
A35: ĐTĐ | D35: =C35/J30 -> #DIV/0! | F35: =E35/C35 -> #DIV/0! | H35: =G35/E35 -> #DIV/0! | J35: =I35/G35 -> #DIV/0!
A37: b. Phát hiện và Quản lý điều trị THA, ĐTĐ trong kỳ báo cáo 3 tháng, 6 tháng, 9 tháng và 12 tháng
B38: ='Huyện-Tổng hợp'!B161 -> Mới phát hiện trong kỳ báo cáo | C38: ='Huyện-Tổng hợp'!C161:D161 -> Tổng số phát hiện trong kỳ báo cáo (cộng dồn) | E38: ='Huyện-Tổng hợp'!E161:F161 -> Tổng số BN đang được quản lý trong kỳ báo cáo | G38: ='Huyện-Tổng hợp'!G161:H161 -> BN được khám và cấp thuốc tháng cuối của kỳ báo cáo | I38: ='Huyện-Tổng hợp'!I161:J161 -> BN được quản lý điều trị đạt mục tiêu điều trị tại tháng cuối của kỳ báo cáo (chuẩn 2020) | K38: ='Huyện-Tổng hợp'!K161:L161 -> BN được quản lý điều trị đạt mục tiêu điều trị trong quý cuối của kỳ báo cáo (chuẩn 2020) | M38: ='Huyện-Tổng hợp'!M161:N161 -> BN được quản lý tại đạt mục tiêu điều trị trong quý cuối của kỳ báo cáo (chuẩn cũ)
C39: ='Huyện-Tổng hợp'!C162 -> Số lượng | D39: ='Huyện-Tổng hợp'!D162 -> Tỷ lệ | E39: ='Huyện-Tổng hợp'!E162 -> Số lượng | F39: ='Huyện-Tổng hợp'!F162 -> Tỷ lệ | G39: ='Huyện-Tổng hợp'!G162 -> Số lượng | H39: ='Huyện-Tổng hợp'!H162 -> Tỷ lệ | I39: ='Huyện-Tổng hợp'!I162 -> Số lượng | J39: ='Huyện-Tổng hợp'!J162 -> Tỷ lệ | ... N39: ='Huyện-Tổng hợp'!N162 -> Tỷ lệ
A40: THA | C40: =C34 -> 0 | D40: =D34 -> #DIV/0! | F40: =E40/C40 -> #DIV/0! | G40: =G34 -> 0 | H40: =G40/E40 -> #DIV/0! | I40: =I34 -> 0 | J40: =J34 -> #DIV/0! | L40: =K40/E40 -> #DIV/0! | N40: =M40/E40 -> #DIV/0!
A41: ĐTĐ | C41: =C35 -> 0 | D41: =D35 -> #DIV/0! | F41: =E41/C41 -> #DIV/0! | G41: =G35 -> 0 | H41: =G41/E41 -> #DIV/0! | I41: =I35 -> 0 | J41: =J35 -> #DIV/0! | L41: =K41/E41 -> #DIV/0!
A43: ='Huyện-Tổng hợp'!A249 -> III. Tổng hợp cung ứng thuốc tại các TYT
B44: ='Huyện-Tổng hợp'!B251:G251 -> Thuốc điều trị THA | H44: ='Huyện-Tổng hợp'!H251:K251 -> Thuốc điều trị ĐTĐ
B45: ='Huyện-Tổng hợp'!B252:B252 -> Có thuốc chẹn kênh can xi (bao gồm cả viên kết hợp có thành phần này) | C45: ='Huyện-Tổng hợp'!C252:C252 -> Có thuốc ức chế men chuyển và/hoặc ức chế thụ thể (bao gồm cả viên kết hợp có thành phần này) | D45: ='Huyện-Tổng hợp'!D252:D252 -> Có thuốc lợi tiểu thiazide hoặc tương tự (bao gồm cả viên kết hợp có thành phần này) | E45: ='Huyện-Tổng hợp'!E252:E252 -> Có thuốc kết hợp 2 loại đơn chất trên | F45: ='Huyện-Tổng hợp'!F252:F252 -> Có thuốc kết hợp 3 loại đơn chất trên | G45: ='Huyện-Tổng hợp'!G252:G252 -> Có thực hiện cấp thuốc 28-30 ngày cho phần lớn bệnh nhân THA | H45: ='Huyện-Tổng hợp'!H252:H252 -> Có thuốc Metformin | I45: ='Huyện-Tổng hợp'!I252:I252 -> Có thuốc Gliclazide | ... K45: ='Huyện-Tổng hợp'!K252:K252 -> Có thực hiện cấp thuốc 28-30 ngày cho phần lớn bệnh nhân ĐTĐ
A46: ='Xã Thiệu Toán'!A46 -> Có = 1 Không có = 0
A49: ='Huyện-Tổng hợp'!A288 -> IV. Quản lý điều trị các bệnh khác
...

Sheet Xã Thiệu Lý
A1: ='Huyện-Tổng hợp'!A2:C2 -> Mẫu báo cáo TYT xã - X0106 | D1: CỘNG HÒA XÃ HỘI CHỦ NGHĨA VIỆT NAM
D2: Độc lập – Tự do – Hạnh phúc
A3: TTYT huyện: | C3: ='Huyện-Tổng hợp'!B3 -> Thiệu Hóa
A4: TYT xã
A5: ='Xã Thiệu Toán'!A5 -> BÁO CÁO HOẠT ĐỘNG QUẢN LÝ ĐIỀU TRỊ BỆNH KHÔNG LÂY NHIỄM TẠI TRẠM Y TẾ
C6: Tháng | D6: ='Huyện-Tổng hợp'!D7 -> 0 | R6: 0
A7: ='Huyện-Tổng hợp'!A8 -> I. Thông tin chung | R7: 1
A8: ='Xã Thiệu Toán'!A8 -> Dân số:
A9: ='Xã Thiệu Toán'!A9 -> Số người ≥ 18 tuổi:
A10: ='Xã Thiệu Toán'!A10 -> Số người ≥ 40 tuổi:
A11: ='Xã Thiệu Toán'!A11 -> Tổng số thôn bản: | F11: ='Xã Thiệu Toán'!F11 -> Số điện thoại
A12: ='Xã Thiệu Toán'!A12 -> Số thôn bản có YTTB/CTV | F12: ='Xã Thiệu Toán'!F12 -> Email:
A13: ='Xã Thiệu Toán'!A13 -> Số YTTB/CTV
A14: ='Xã Thiệu Toán'!A14 -> Số cán bộ TYT | G14: ='Xã Thiệu Toán'!G14 -> Mầu xanh TYT xã cần nhập thông tin
A15: ='Xã Thiệu Toán'!A15 -> Số y, bác sỹ có CCHN | G15: ='Xã Thiệu Toán'!G15 -> Màu Vàng tự động tính không cần nhập
A16: ='Xã Thiệu Toán'!A16 -> Có bác sỹ làm việc không (Không=0; Có=1) | G16: ='Xã Thiệu Toán'!G16 -> Màu xám không cần nhập
A17: ='Xã Thiệu Toán'!A17 -> Sử dụng sổ theo dõi NCD điện tử (Không=0; Có=1)
A19: ='Huyện-Tổng hợp'!A19 -> II. Kết quả hoạt động phòng chống bệnh không lây nhiễm
A20: ='Huyện-Tổng hợp'!A20 -> 1. Phát hiện người nguy cơ cao, tiền bệnh, nghi ngờ mắc bệnh, mắc bệnh và số người khám sức khỏe định kỳ
A21: ='Xã Thiệu Toán'!A21 -> (Lấy số liệu từ sheet «sàng lọc phát hiện» của sổ theo dõi NCD điện tử)
B22: ='Huyện-Tổng hợp'!B22 -> Số người được đo huyết áp | C22: ='Huyện-Tổng hợp'!C22 -> Số người được xác định nghi ngờ THA (Chỉ số huyết áp ≥140/90) | D22: ='Huyện-Tổng hợp'!D22 -> Số người được sàng lọc nguy cơ ĐTĐ bằng bộ câu hỏi | E22: ='Huyện-Tổng hợp'!E22 -> Số người được phát hiện thừa cân béo phì (BMI≥25 hoặc vòng eo to) | F22: ='Huyện-Tổng hợp'!F22 -> Số người được xác định nguy cơ cao ĐTĐ (≥ 6 điểm) | G22: ='Huyện-Tổng hợp'!G22 -> Số người được xét nghiệm đường huyết | H22: ='Huyện-Tổng hợp'!H22 -> Số người phát hiện nghi ngờ rối loạn đường huyết (ĐH mao mạch ≥ 5.6 mmol/L) | I22: ='Huyện-Tổng hợp'!I22 -> Số người được sàng lọc BPTNMT/ hen phế quản | ... M22: ='Huyện-Tổng hợp'!M22 -> Tỷ lệ % người được khám sức khỏe định kỳ so với tổng dân số ≥ 18 tuổi(70% dân số)
A23: ='Xã Thiệu Toán'!A23 -> Số mới trong tháng | M23: =L23/(0.7*$D$8) -> #DIV/0!
A24: ='Xã Thiệu Toán'!A24 -> Số cộng dồn trong năm | M24: =L24/(0.7*$D$8) -> #DIV/0!
A27: ='Huyện-Tổng hợp'!A61 -> 2. Quản lý điều trị người bệnh tăng huyết áp và đái tháo đường tại các trạm y tế
A28: a. Phát hiện và Quản lý điều trị THA, ĐTĐ trong tháng
B30: ='Huyện-Tổng hợp'!B64 -> Số BN mắc THA ước tính(12% dân số) | E30: =12%*D8 -> 0 | G30: ='Huyện-Tổng hợp'!B112 -> Số BN mắc ĐTĐ ước tính (2% dân số) | J30: =2%*D8 -> 0
B32: ='Huyện-Tổng hợp'!B67 -> Mới phát hiện trong tháng | C32: ='Huyện-Tổng hợp'!C67:D67 -> Tổng số phát hiện cộng dồn | E32: ='Huyện-Tổng hợp'!E67:F67 -> Tổng số BN đến khám và lấy thuốc cộng dồn | G32: ='Huyện-Tổng hợp'!G67:H67 -> BN đến khám và cấp thuốc tháng vừa qua | I32: ='Huyện-Tổng hợp'!I67:J67 -> BN đến khám và cấp thuốc trong tháng vừa qua đạt mục tiêu điều trị (chuẩn 2020) | K32: ='Huyện-Tổng hợp'!K67:L67 -> BN đến khám và cấp thuốc trong tháng vừa qua đạt mục tiêu điều trị (chuẩn cũ)
C33: ='Huyện-Tổng hợp'!C68 -> Số lượng | D33: ='Huyện-Tổng hợp'!D68 -> Tỷ lệ | E33: ='Huyện-Tổng hợp'!E68 -> Số lượng | F33: ='Huyện-Tổng hợp'!F68 -> Tỷ lệ | G33: ='Huyện-Tổng hợp'!G68 -> Số lượng | H33: ='Huyện-Tổng hợp'!H68 -> Tỷ lệ | I33: ='Huyện-Tổng hợp'!I68 -> Số lượng | J33: ='Huyện-Tổng hợp'!J68 -> Tỷ lệ | ... L33: ='Huyện-Tổng hợp'!L68 -> Tỷ lệ
A34: THA | D34: =C34/E30 -> #DIV/0! | F34: =E34/C34 -> #DIV/0! | H34: =G34/E34 -> #DIV/0! | J34: =I34/G34 -> #DIV/0! | L34: =K34/G34 -> #DIV/0!
A35: ĐTĐ | D35: =C35/J30 -> #DIV/0! | F35: =E35/C35 -> #DIV/0! | H35: =G35/E35 -> #DIV/0! | J35: =I35/G35 -> #DIV/0!
A37: b. Phát hiện và Quản lý điều trị THA, ĐTĐ trong kỳ báo cáo 3 tháng, 6 tháng, 9 tháng và 12 tháng
B38: ='Huyện-Tổng hợp'!B161 -> Mới phát hiện trong kỳ báo cáo | C38: ='Huyện-Tổng hợp'!C161:D161 -> Tổng số phát hiện trong kỳ báo cáo (cộng dồn) | E38: ='Huyện-Tổng hợp'!E161:F161 -> Tổng số BN đang được quản lý trong kỳ báo cáo | G38: ='Huyện-Tổng hợp'!G161:H161 -> BN được khám và cấp thuốc tháng cuối của kỳ báo cáo | I38: ='Huyện-Tổng hợp'!I161:J161 -> BN được quản lý điều trị đạt mục tiêu điều trị tại tháng cuối của kỳ báo cáo (chuẩn 2020) | K38: ='Huyện-Tổng hợp'!K161:L161 -> BN được quản lý điều trị đạt mục tiêu điều trị trong quý cuối của kỳ báo cáo (chuẩn 2020) | M38: ='Huyện-Tổng hợp'!M161:N161 -> BN được quản lý tại đạt mục tiêu điều trị trong quý cuối của kỳ báo cáo (chuẩn cũ)
C39: ='Huyện-Tổng hợp'!C162 -> Số lượng | D39: ='Huyện-Tổng hợp'!D162 -> Tỷ lệ | E39: ='Huyện-Tổng hợp'!E162 -> Số lượng | F39: ='Huyện-Tổng hợp'!F162 -> Tỷ lệ | G39: ='Huyện-Tổng hợp'!G162 -> Số lượng | H39: ='Huyện-Tổng hợp'!H162 -> Tỷ lệ | I39: ='Huyện-Tổng hợp'!I162 -> Số lượng | J39: ='Huyện-Tổng hợp'!J162 -> Tỷ lệ | ... N39: ='Huyện-Tổng hợp'!N162 -> Tỷ lệ
A40: THA | C40: =C34 -> 0 | D40: =D34 -> #DIV/0! | F40: =E40/C40 -> #DIV/0! | G40: =G34 -> 0 | H40: =G40/E40 -> #DIV/0! | I40: =I34 -> 0 | J40: =J34 -> #DIV/0! | L40: =K40/E40 -> #DIV/0! | N40: =M40/E40 -> #DIV/0!
A41: ĐTĐ | C41: =C35 -> 0 | D41: =D35 -> #DIV/0! | F41: =E41/C41 -> #DIV/0! | G41: =G35 -> 0 | H41: =G41/E41 -> #DIV/0! | I41: =I35 -> 0 | J41: =J35 -> #DIV/0! | L41: =K41/E41 -> #DIV/0!
A43: ='Huyện-Tổng hợp'!A249 -> III. Tổng hợp cung ứng thuốc tại các TYT
B44: ='Huyện-Tổng hợp'!B251:G251 -> Thuốc điều trị THA | H44: ='Huyện-Tổng hợp'!H251:K251 -> Thuốc điều trị ĐTĐ
B45: ='Huyện-Tổng hợp'!B252:B252 -> Có thuốc chẹn kênh can xi (bao gồm cả viên kết hợp có thành phần này) | C45: ='Huyện-Tổng hợp'!C252:C252 -> Có thuốc ức chế men chuyển và/hoặc ức chế thụ thể (bao gồm cả viên kết hợp có thành phần này) | D45: ='Huyện-Tổng hợp'!D252:D252 -> Có thuốc lợi tiểu thiazide hoặc tương tự (bao gồm cả viên kết hợp có thành phần này) | E45: ='Huyện-Tổng hợp'!E252:E252 -> Có thuốc kết hợp 2 loại đơn chất trên | F45: ='Huyện-Tổng hợp'!F252:F252 -> Có thuốc kết hợp 3 loại đơn chất trên | G45: ='Huyện-Tổng hợp'!G252:G252 -> Có thực hiện cấp thuốc 28-30 ngày cho phần lớn bệnh nhân THA | H45: ='Huyện-Tổng hợp'!H252:H252 -> Có thuốc Metformin | I45: ='Huyện-Tổng hợp'!I252:I252 -> Có thuốc Gliclazide | ... K45: ='Huyện-Tổng hợp'!K252:K252 -> Có thực hiện cấp thuốc 28-30 ngày cho phần lớn bệnh nhân ĐTĐ
A46: ='Xã Thiệu Toán'!A46 -> Có = 1 Không có = 0
A49: ='Huyện-Tổng hợp'!A288 -> IV. Quản lý điều trị các bệnh khác
...

Sheet Xã Thiệu Vận
A1: ='Huyện-Tổng hợp'!A2:C2 -> Mẫu báo cáo TYT xã - X0106 | D1: CỘNG HÒA XÃ HỘI CHỦ NGHĨA VIỆT NAM
D2: Độc lập – Tự do – Hạnh phúc
A3: TTYT huyện: | C3: ='Huyện-Tổng hợp'!B3 -> Thiệu Hóa
A4: TYT xã
A5: ='Xã Thiệu Toán'!A5 -> BÁO CÁO HOẠT ĐỘNG QUẢN LÝ ĐIỀU TRỊ BỆNH KHÔNG LÂY NHIỄM TẠI TRẠM Y TẾ
C6: Tháng | D6: ='Huyện-Tổng hợp'!D7 -> 0 | R6: 0
A7: ='Huyện-Tổng hợp'!A8 -> I. Thông tin chung | R7: 1
A8: ='Xã Thiệu Toán'!A8 -> Dân số:
A9: ='Xã Thiệu Toán'!A9 -> Số người ≥ 18 tuổi:
A10: ='Xã Thiệu Toán'!A10 -> Số người ≥ 40 tuổi:
A11: ='Xã Thiệu Toán'!A11 -> Tổng số thôn bản: | F11: ='Xã Thiệu Toán'!F11 -> Số điện thoại
A12: ='Xã Thiệu Toán'!A12 -> Số thôn bản có YTTB/CTV | F12: ='Xã Thiệu Toán'!F12 -> Email:
A13: ='Xã Thiệu Toán'!A13 -> Số YTTB/CTV
A14: ='Xã Thiệu Toán'!A14 -> Số cán bộ TYT | G14: ='Xã Thiệu Toán'!G14 -> Mầu xanh TYT xã cần nhập thông tin
A15: ='Xã Thiệu Toán'!A15 -> Số y, bác sỹ có CCHN | G15: ='Xã Thiệu Toán'!G15 -> Màu Vàng tự động tính không cần nhập
A16: ='Xã Thiệu Toán'!A16 -> Có bác sỹ làm việc không (Không=0; Có=1) | G16: ='Xã Thiệu Toán'!G16 -> Màu xám không cần nhập
A17: ='Xã Thiệu Toán'!A17 -> Sử dụng sổ theo dõi NCD điện tử (Không=0; Có=1)
A19: ='Huyện-Tổng hợp'!A19 -> II. Kết quả hoạt động phòng chống bệnh không lây nhiễm
A20: ='Huyện-Tổng hợp'!A20 -> 1. Phát hiện người nguy cơ cao, tiền bệnh, nghi ngờ mắc bệnh, mắc bệnh và số người khám sức khỏe định kỳ
A21: ='Xã Thiệu Toán'!A21 -> (Lấy số liệu từ sheet «sàng lọc phát hiện» của sổ theo dõi NCD điện tử)
B22: ='Huyện-Tổng hợp'!B22 -> Số người được đo huyết áp | C22: ='Huyện-Tổng hợp'!C22 -> Số người được xác định nghi ngờ THA (Chỉ số huyết áp ≥140/90) | D22: ='Huyện-Tổng hợp'!D22 -> Số người được sàng lọc nguy cơ ĐTĐ bằng bộ câu hỏi | E22: ='Huyện-Tổng hợp'!E22 -> Số người được phát hiện thừa cân béo phì (BMI≥25 hoặc vòng eo to) | F22: ='Huyện-Tổng hợp'!F22 -> Số người được xác định nguy cơ cao ĐTĐ (≥ 6 điểm) | G22: ='Huyện-Tổng hợp'!G22 -> Số người được xét nghiệm đường huyết | H22: ='Huyện-Tổng hợp'!H22 -> Số người phát hiện nghi ngờ rối loạn đường huyết (ĐH mao mạch ≥ 5.6 mmol/L) | I22: ='Huyện-Tổng hợp'!I22 -> Số người được sàng lọc BPTNMT/ hen phế quản | ... M22: ='Huyện-Tổng hợp'!M22 -> Tỷ lệ % người được khám sức khỏe định kỳ so với tổng dân số ≥ 18 tuổi(70% dân số)
A23: ='Xã Thiệu Toán'!A23 -> Số mới trong tháng | M23: =L23/(0.7*$D$8) -> #DIV/0!
A24: ='Xã Thiệu Toán'!A24 -> Số cộng dồn trong năm | M24: =L24/(0.7*$D$8) -> #DIV/0!
A27: ='Huyện-Tổng hợp'!A61 -> 2. Quản lý điều trị người bệnh tăng huyết áp và đái tháo đường tại các trạm y tế
A28: a. Phát hiện và Quản lý điều trị THA, ĐTĐ trong tháng
B30: ='Huyện-Tổng hợp'!B64 -> Số BN mắc THA ước tính(12% dân số) | E30: =12%*D8 -> 0 | G30: ='Huyện-Tổng hợp'!B112 -> Số BN mắc ĐTĐ ước tính (2% dân số) | J30: =2%*D8 -> 0
B32: ='Huyện-Tổng hợp'!B67 -> Mới phát hiện trong tháng | C32: ='Huyện-Tổng hợp'!C67:D67 -> Tổng số phát hiện cộng dồn | E32: ='Huyện-Tổng hợp'!E67:F67 -> Tổng số BN đến khám và lấy thuốc cộng dồn | G32: ='Huyện-Tổng hợp'!G67:H67 -> BN đến khám và cấp thuốc tháng vừa qua | I32: ='Huyện-Tổng hợp'!I67:J67 -> BN đến khám và cấp thuốc trong tháng vừa qua đạt mục tiêu điều trị (chuẩn 2020) | K32: ='Huyện-Tổng hợp'!K67:L67 -> BN đến khám và cấp thuốc trong tháng vừa qua đạt mục tiêu điều trị (chuẩn cũ)
C33: ='Huyện-Tổng hợp'!C68 -> Số lượng | D33: ='Huyện-Tổng hợp'!D68 -> Tỷ lệ | E33: ='Huyện-Tổng hợp'!E68 -> Số lượng | F33: ='Huyện-Tổng hợp'!F68 -> Tỷ lệ | G33: ='Huyện-Tổng hợp'!G68 -> Số lượng | H33: ='Huyện-Tổng hợp'!H68 -> Tỷ lệ | I33: ='Huyện-Tổng hợp'!I68 -> Số lượng | J33: ='Huyện-Tổng hợp'!J68 -> Tỷ lệ | ... L33: ='Huyện-Tổng hợp'!L68 -> Tỷ lệ
A34: THA | D34: =C34/E30 -> #DIV/0! | F34: =E34/C34 -> #DIV/0! | H34: =G34/E34 -> #DIV/0! | J34: =I34/G34 -> #DIV/0! | L34: =K34/G34 -> #DIV/0!
A35: ĐTĐ | D35: =C35/J30 -> #DIV/0! | F35: =E35/C35 -> #DIV/0! | H35: =G35/E35 -> #DIV/0! | J35: =I35/G35 -> #DIV/0!
A37: b. Phát hiện và Quản lý điều trị THA, ĐTĐ trong kỳ báo cáo 3 tháng, 6 tháng, 9 tháng và 12 tháng
B38: ='Huyện-Tổng hợp'!B161 -> Mới phát hiện trong kỳ báo cáo | C38: ='Huyện-Tổng hợp'!C161:D161 -> Tổng số phát hiện trong kỳ báo cáo (cộng dồn) | E38: ='Huyện-Tổng hợp'!E161:F161 -> Tổng số BN đang được quản lý trong kỳ báo cáo | G38: ='Huyện-Tổng hợp'!G161:H161 -> BN được khám và cấp thuốc tháng cuối của kỳ báo cáo | I38: ='Huyện-Tổng hợp'!I161:J161 -> BN được quản lý điều trị đạt mục tiêu điều trị tại tháng cuối của kỳ báo cáo (chuẩn 2020) | K38: ='Huyện-Tổng hợp'!K161:L161 -> BN được quản lý điều trị đạt mục tiêu điều trị trong quý cuối của kỳ báo cáo (chuẩn 2020) | M38: ='Huyện-Tổng hợp'!M161:N161 -> BN được quản lý tại đạt mục tiêu điều trị trong quý cuối của kỳ báo cáo (chuẩn cũ)
C39: ='Huyện-Tổng hợp'!C162 -> Số lượng | D39: ='Huyện-Tổng hợp'!D162 -> Tỷ lệ | E39: ='Huyện-Tổng hợp'!E162 -> Số lượng | F39: ='Huyện-Tổng hợp'!F162 -> Tỷ lệ | G39: ='Huyện-Tổng hợp'!G162 -> Số lượng | H39: ='Huyện-Tổng hợp'!H162 -> Tỷ lệ | I39: ='Huyện-Tổng hợp'!I162 -> Số lượng | J39: ='Huyện-Tổng hợp'!J162 -> Tỷ lệ | ... N39: ='Huyện-Tổng hợp'!N162 -> Tỷ lệ
A40: THA | C40: =C34 -> 0 | D40: =D34 -> #DIV/0! | F40: =E40/C40 -> #DIV/0! | G40: =G34 -> 0 | H40: =G40/E40 -> #DIV/0! | I40: =I34 -> 0 | J40: =J34 -> #DIV/0! | L40: =K40/E40 -> #DIV/0! | N40: =M40/E40 -> #DIV/0!
A41: ĐTĐ | C41: =C35 -> 0 | D41: =D35 -> #DIV/0! | F41: =E41/C41 -> #DIV/0! | G41: =G35 -> 0 | H41: =G41/E41 -> #DIV/0! | I41: =I35 -> 0 | J41: =J35 -> #DIV/0! | L41: =K41/E41 -> #DIV/0!
A43: ='Huyện-Tổng hợp'!A249 -> III. Tổng hợp cung ứng thuốc tại các TYT
B44: ='Huyện-Tổng hợp'!B251:G251 -> Thuốc điều trị THA | H44: ='Huyện-Tổng hợp'!H251:K251 -> Thuốc điều trị ĐTĐ
B45: ='Huyện-Tổng hợp'!B252:B252 -> Có thuốc chẹn kênh can xi (bao gồm cả viên kết hợp có thành phần này) | C45: ='Huyện-Tổng hợp'!C252:C252 -> Có thuốc ức chế men chuyển và/hoặc ức chế thụ thể (bao gồm cả viên kết hợp có thành phần này) | D45: ='Huyện-Tổng hợp'!D252:D252 -> Có thuốc lợi tiểu thiazide hoặc tương tự (bao gồm cả viên kết hợp có thành phần này) | E45: ='Huyện-Tổng hợp'!E252:E252 -> Có thuốc kết hợp 2 loại đơn chất trên | F45: ='Huyện-Tổng hợp'!F252:F252 -> Có thuốc kết hợp 3 loại đơn chất trên | G45: ='Huyện-Tổng hợp'!G252:G252 -> Có thực hiện cấp thuốc 28-30 ngày cho phần lớn bệnh nhân THA | H45: ='Huyện-Tổng hợp'!H252:H252 -> Có thuốc Metformin | I45: ='Huyện-Tổng hợp'!I252:I252 -> Có thuốc Gliclazide | ... K45: ='Huyện-Tổng hợp'!K252:K252 -> Có thực hiện cấp thuốc 28-30 ngày cho phần lớn bệnh nhân ĐTĐ
A46: ='Xã Thiệu Toán'!A46 -> Có = 1 Không có = 0
A49: ='Huyện-Tổng hợp'!A288 -> IV. Quản lý điều trị các bệnh khác
...

Sheet Xã Thiệu Trung
A1: ='Huyện-Tổng hợp'!A2:C2 -> Mẫu báo cáo TYT xã - X0106 | D1: CỘNG HÒA XÃ HỘI CHỦ NGHĨA VIỆT NAM
D2: Độc lập – Tự do – Hạnh phúc
A3: TTYT huyện: | C3: ='Huyện-Tổng hợp'!B3 -> Thiệu Hóa
A4: TYT xã
A5: ='Xã Thiệu Toán'!A5 -> BÁO CÁO HOẠT ĐỘNG QUẢN LÝ ĐIỀU TRỊ BỆNH KHÔNG LÂY NHIỄM TẠI TRẠM Y TẾ
C6: Tháng | D6: ='Huyện-Tổng hợp'!D7 -> 0 | R6: 0
A7: ='Huyện-Tổng hợp'!A8 -> I. Thông tin chung | R7: 1
A8: ='Xã Thiệu Toán'!A8 -> Dân số:
A9: ='Xã Thiệu Toán'!A9 -> Số người ≥ 18 tuổi:
A10: ='Xã Thiệu Toán'!A10 -> Số người ≥ 40 tuổi:
A11: ='Xã Thiệu Toán'!A11 -> Tổng số thôn bản: | F11: ='Xã Thiệu Toán'!F11 -> Số điện thoại
A12: ='Xã Thiệu Toán'!A12 -> Số thôn bản có YTTB/CTV | F12: ='Xã Thiệu Toán'!F12 -> Email:
A13: ='Xã Thiệu Toán'!A13 -> Số YTTB/CTV
A14: ='Xã Thiệu Toán'!A14 -> Số cán bộ TYT | G14: ='Xã Thiệu Toán'!G14 -> Mầu xanh TYT xã cần nhập thông tin
A15: ='Xã Thiệu Toán'!A15 -> Số y, bác sỹ có CCHN | G15: ='Xã Thiệu Toán'!G15 -> Màu Vàng tự động tính không cần nhập
A16: ='Xã Thiệu Toán'!A16 -> Có bác sỹ làm việc không (Không=0; Có=1) | G16: ='Xã Thiệu Toán'!G16 -> Màu xám không cần nhập
A17: ='Xã Thiệu Toán'!A17 -> Sử dụng sổ theo dõi NCD điện tử (Không=0; Có=1)
A19: ='Huyện-Tổng hợp'!A19 -> II. Kết quả hoạt động phòng chống bệnh không lây nhiễm
A20: ='Huyện-Tổng hợp'!A20 -> 1. Phát hiện người nguy cơ cao, tiền bệnh, nghi ngờ mắc bệnh, mắc bệnh và số người khám sức khỏe định kỳ
A21: ='Xã Thiệu Toán'!A21 -> (Lấy số liệu từ sheet «sàng lọc phát hiện» của sổ theo dõi NCD điện tử)
B22: ='Huyện-Tổng hợp'!B22 -> Số người được đo huyết áp | C22: ='Huyện-Tổng hợp'!C22 -> Số người được xác định nghi ngờ THA (Chỉ số huyết áp ≥140/90) | D22: ='Huyện-Tổng hợp'!D22 -> Số người được sàng lọc nguy cơ ĐTĐ bằng bộ câu hỏi | E22: ='Huyện-Tổng hợp'!E22 -> Số người được phát hiện thừa cân béo phì (BMI≥25 hoặc vòng eo to) | F22: ='Huyện-Tổng hợp'!F22 -> Số người được xác định nguy cơ cao ĐTĐ (≥ 6 điểm) | G22: ='Huyện-Tổng hợp'!G22 -> Số người được xét nghiệm đường huyết | H22: ='Huyện-Tổng hợp'!H22 -> Số người phát hiện nghi ngờ rối loạn đường huyết (ĐH mao mạch ≥ 5.6 mmol/L) | I22: ='Huyện-Tổng hợp'!I22 -> Số người được sàng lọc BPTNMT/ hen phế quản | ... M22: ='Huyện-Tổng hợp'!M22 -> Tỷ lệ % người được khám sức khỏe định kỳ so với tổng dân số ≥ 18 tuổi(70% dân số)
A23: ='Xã Thiệu Toán'!A23 -> Số mới trong tháng | M23: =L23/(0.7*$D$8) -> #DIV/0!
A24: ='Xã Thiệu Toán'!A24 -> Số cộng dồn trong năm | M24: =L24/(0.7*$D$8) -> #DIV/0!
A27: ='Huyện-Tổng hợp'!A61 -> 2. Quản lý điều trị người bệnh tăng huyết áp và đái tháo đường tại các trạm y tế
A28: a. Phát hiện và Quản lý điều trị THA, ĐTĐ trong tháng
B30: ='Huyện-Tổng hợp'!B64 -> Số BN mắc THA ước tính(12% dân số) | E30: =12%*D8 -> 0 | G30: ='Huyện-Tổng hợp'!B112 -> Số BN mắc ĐTĐ ước tính (2% dân số) | J30: =2%*D8 -> 0
B32: ='Huyện-Tổng hợp'!B67 -> Mới phát hiện trong tháng | C32: ='Huyện-Tổng hợp'!C67:D67 -> Tổng số phát hiện cộng dồn | E32: ='Huyện-Tổng hợp'!E67:F67 -> Tổng số BN đến khám và lấy thuốc cộng dồn | G32: ='Huyện-Tổng hợp'!G67:H67 -> BN đến khám và cấp thuốc tháng vừa qua | I32: ='Huyện-Tổng hợp'!I67:J67 -> BN đến khám và cấp thuốc trong tháng vừa qua đạt mục tiêu điều trị (chuẩn 2020) | K32: ='Huyện-Tổng hợp'!K67:L67 -> BN đến khám và cấp thuốc trong tháng vừa qua đạt mục tiêu điều trị (chuẩn cũ)
